Workbook
Name _Zu1: Perimeter!#REF!
Name _Zu2: Perimeter!#REF!
Name B: Perimeter!#REF!
Name Total: Perimeter!#REF!
Name ZU: Perimeter!#REF!

Sheet Perimeter
A1: Unterhaltskostenverteiler Flurgenossenschaft Steig-Steigbach mit Teilstücken | AQ1: Amt für Landwirtschaft, Herisau_03.07.2026/pra
A3: Nr. | B3: Grundeigentümer | C3: GB Nr. | D3: G r u n d b u c h d a t e n | O3: Nr. | Z3: Kostenverteiler | AC3: Kostenverteiler | AF3: Kostenverteiler | AI3: Kostenverteiler | AL3: Kostenverteiler | AO3: Gesamtko- | AP3: B e m e r k u n g e n
D4: Wiese, | E4: Wald | F4: Wohnungen | H4: Gewerbe | I4: 1. Teilstk. | J4: 2. Teilstk. | K4: 3. Teilstk. | L4: 4. Teilstk. | M4: 5. Teilstk. | N4: ange- | P4: Teil- | Q4: ä u s s e r e B e z i e h u n g | Z4: Teilstk. 1 | AA4: =AQ4 -> 1170 | AB4: m | AC4: Teilstk. 2 | AD4: =AQ5 -> 215 | AE4: m | AF4: Teilstk.3 | AG4: =AQ6 -> 105 | AH4: m | AI4: Teilstk. 4 | AJ4: =AQ7 -> 100 | AK4: m | AL4: Teilstk. 5 | AM4: =AQ8 -> 75 | AN4: m | AO4: stenverteiler | AP4: Teilstk. 1 | AQ4: 1170
D5: Weide | N5: rechnete | P5: stück | Q5: Wiese, Weide | S5: W a l d | U5: Wohnung | W5: Gewerbe | AA5: Einzel- | AB5: Ihr | AD5: Einzel- | AE5: Ihr | AG5: Einzel- | AH5: Ihr | AJ5: Einzel- | AK5: Ihr | AM5: Einzel- | AN5: Ihr | AO5: Ihr | AP5: Teilstk. 2 | AQ5: 215
N6: Länge | Y6: Total | Z6: Total | AA6: anteil | AB6: Anteil | AC6: Total | AD6: anteil | AE6: Anteil | AF6: Total | AG6: anteil | AH6: Anteil | AI6: Total | AJ6: anteil | AK6: Anteil | AL6: Total | AM6: anteil | AN6: Anteil | AO6: Anteil | AP6: Teilstk. 3 | AQ6: 105
G7: Anzahl | AA7: =1/$AQ$9*AA4 -> 0.7027027 | AD7: =1/$AQ$9*AD4 -> 0.12912913 | AG7: =1/$AQ$9*AG4 -> 0.063063063 | AJ7: =1/$AQ$9*AJ4 -> 0.06006006 | AM7: =1/$AQ$9*AM4 -> 0.045045045 | AO7: =AM7+AJ7+AG7+AD7+AA7 -> 1 | AP7: Teilstk. 4 | AQ7: 100
AP8: Teilstk. 5 | AQ8: 75
D9: (ha) | E9: (ha) | F9: Anzahl | G9: Punkte | I9: (m) | J9: (m) | K9: (m) | L9: (m) | M9: (m) | N9: (m) | Q9: p | R9: m | S9: p | T9: m | U9: p | V9: m | Y9: Punkte | Z9: Punkte | AA9: % | AB9: % | AC9: Punkte | AD9: % | AE9: % | AF9: Punkte | AG9: % | AH9: % | AI9: Punkte | AJ9: % | AK9: % | AL9: Punkte | AM9: % | AN9: % | AO9: % | AP9: Totale Länge: | AQ9: =SUM(AQ4:AQ8) -> 1665
A12: 1 | B12: Freund-Fuster Urs und Heidi | C12: 85 | D12: 2.5004 | E12: 1.9612 | I12: 229 | N12: =SUM(I12:M12) -> 229 | O12: =A12 -> 1 | P12: 1 | Q12: =D12 -> 2.5004 | R12: =IF((D12)>0,N12,) -> 229 | S12: =E12*0.5*2/3 -> 0.65373333 | T12: =IF((E12)>0,N12,) -> 229 | U12: =G12 -> 0 | V12: =IF((F12)>0,N12,) -> 0 | Y12: =Q12*R12+S12*T12+U12*V12 -> 722.29653 | Z12: =Y12+Y13 -> 11252.297 | AA12: =Z12/$Z$238% -> 1.303207 | AB12: =AA12 -> 1.303207 | AC12: =Y14 -> 322.5 | AD12: =AC12/$AC$238% -> 5.1490006 | AE12: =AD12 -> 5.1490006 | AG12: =AF12/$AF$238% -> 0 | AH12: =AG12 -> 0 | AJ12: =AI12/$AI$238% -> 0 | AK12: =AJ12 -> 0 | AM12: =AL12/$AI$238% -> 0 | AN12: =AM12 -> 0 | AO12: =AB12*$AA$7+AE12*$AD$7+AH12*$AG$7+AK12*$AJ$7+AN12*$AM$7 -> 1.5806531 | AP12: 1/3 Brennholz
F13: 2 | G13: 9 | I13: 1170 | N13: =SUM(I13:M13) -> 1170 | O13: 1 | P13: 1 | U13: =G13 -> 9 | V13: =IF((F13)>0,N13,) -> 1170 | Y13: =Q13*R13+S13*T13+U13*V13 -> 10530 | AJ13: =AI13/$AI$238% -> 0 | AK13: =AJ13 -> 0 | AM13: =AL13/$AI$238% -> 0 | AN13: =AM13 -> 0 | AO13: =AB13*$AA$7+AE13*$AD$7+AH13*$AG$7+AK13*$AJ$7+AN13*$AM$7 -> 0
D14: 1.5 | E14: 1.92 | J14: 215 | N14: =SUM(I14:M14) -> 215 | O14: 1 | P14: 2 | Q14: =D14 -> 1.5 | R14: =IF((D14)>0,N14,) -> 215 | S14: =E14*0.5*2/3 -> 0.64 | U14: =G14 -> 0 | V14: =IF((F14)>0,N14,) -> 0 | Y14: =Q14*R14+S14*T14+U14*V14 -> 322.5 | AA14: =Z14/$Z$238% -> 0 | AB14: =AA14 -> 0 | AD14: =AC14/$AC$238% -> 0 | AE14: =AD14 -> 0 | AG14: =AF14/$AF$238% -> 0 | AH14: =AG14 -> 0 | AJ14: =AI14/$AI$238% -> 0 | AK14: =AJ14 -> 0 | AM14: =AL14/$AI$238% -> 0 | AN14: =AM14 -> 0 | AO14: =AB14*$AA$7+AE14*$AD$7+AH14*$AG$7+AK14*$AJ$7+AN14*$AM$7 -> 0 | AP14: 1/3 Brennholz
A16: 2 | B16: Egli Martina | C16: 87 | D16: 1.9816 | E16: 1.9508 | I16: 1170 | N16: =SUM(I16:M16) -> 1170 | O16: =A16 -> 2 | P16: 1 | Q16: =D16 -> 1.9816 | R16: =IF((D16)>0,N16,) -> 1170 | S16: =E16*0.5*2/3 -> 0.65026667 | T16: =IF((E16)>0,N16,) -> 1170 | U16: =G16 -> 0 | V16: =IF((F16)>0,N16,) -> 0 | Y16: =Q16*R16+S16*T16+U16*V16 -> 3079.284 | Z16: =Y16+Y18 -> 3738.384 | AA16: =Z16/$Z$238% -> 0.43296836 | AB16: =AA16 -> 0.43296836 | AC16: =Y17 -> 565.85133 | AD16: =AC16/$AC$238% -> 9.0343221 | AE16: =AD16 -> 9.0343221 | AG16: =AF16/$AF$238% -> 0 | AH16: =AG16 -> 0 | AJ16: =AI16/$AI$238% -> 0 | AK16: =AJ16 -> 0 | AM16: =AL16/$AI$238% -> 0 | AN16: =AM16 -> 0 | AO16: =AB16*$AA$7+AE16*$AD$7+AH16*$AG$7+AK16*$AJ$7+AN16*$AM$7 -> 1.4708422 | AP16: 1/3 Brennholz
D17: 1.9816 | E17: 1.9508 | J17: 215 | N17: =SUM(I17:M17) -> 215 | O17: 2 | P17: 2 | Q17: =D17 -> 1.9816 | R17: =IF((D17)>0,N17,) -> 215 | S17: =E17*0.5*2/3 -> 0.65026667 | T17: =IF((E17)>0,N17,) -> 215 | U17: =G17 -> 0 | V17: =IF((F17)>0,N17,) -> 0 | Y17: =Q17*R17+S17*T17+U17*V17 -> 565.85133 | AA17: =Z17/$Z$238% -> 0 | AB17: =AA17 -> 0 | AD17: =AC17/$AC$238% -> 0 | AE17: =AD17 -> 0 | AG17: =AF17/$AF$238% -> 0 | AH17: =AG17 -> 0 | AJ17: =AI17/$AI$238% -> 0 | AK17: =AJ17 -> 0 | AM17: =AL17/$AI$238% -> 0 | AN17: =AM17 -> 0 | AO17: =AB17*$AA$7+AE17*$AD$7+AH17*$AG$7+AK17*$AJ$7+AN17*$AM$7 -> 0 | AP17: 1/3 Brennholz
C18: 325 | E18: 1.69 | I18: 1170 | N18: =SUM(I18:M18) -> 1170 | O18: 2 | P18: 1 | Q18: =D18 -> 0 | R18: =IF((D18)>0,N18,) -> 0 | S18: =E18*0.5*2/3 -> 0.56333333 | T18: =IF((E18)>0,N18,) -> 1170 | U18: =G18 -> 0 | V18: =IF((F18)>0,N18,) -> 0 | Y18: =Q18*R18+S18*T18+U18*V18 -> 659.1 | AA18: =Z18/$Z$238% -> 0 | AB18: =AA18 -> 0 | AD18: =AC18/$AC$238% -> 0 | AE18: =AD18 -> 0 | AG18: =AF18/$AF$238% -> 0 | AH18: =AG18 -> 0 | AJ18: =AI18/$AI$238% -> 0 | AK18: =AJ18 -> 0 | AM18: =AL18/$AI$238% -> 0 | AN18: =AM18 -> 0 | AO18: =AB18*$AA$7+AE18*$AD$7+AH18*$AG$7+AK18*$AJ$7+AN18*$AM$7 -> 0 | AP18: 1/3 Brennholz_ Fahrrecht
A20: 3 | B20: Einwohnergemeinde Bühler | C20: 220 | N20: =SUM(I20:M20) -> 0 | O20: 3 | Q20: =D20 -> 0 | R20: =IF((D20)>0,N20,) -> 0 | T20: =IF((E20)>0,N20,) -> 0 | U20: =G20 -> 0 | V20: =IF((F20)>0,N20,) -> 0 | AD20: =AC20/$AC$238% -> 0 | AE20: =AD20 -> 0 | AG20: =AF20/$AF$238% -> 0 | AH20: =AG20 -> 0 | AJ20: =AI20/$AI$238% -> 0 | AK20: =AJ20 -> 0 | AM20: =AL20/$AI$238% -> 0 | AN20: =AM20 -> 0 | AO20: =AB20*$AA$7+AE20*$AD$7+AH20*$AG$7+AK20*$AJ$7+AN20*$AM$7 -> 0 | AP20: nur Strasse
C21: 268 | E21: 10.6764 | I21: 1170 | N21: =SUM(I21:M21) -> 1170 | O21: 3 | P21: 1 | Q21: =D21 -> 0 | R21: =IF((D21)>0,N21,) -> 0 | S21: =E21*0.5 -> 5.3382 | T21: =IF((E21)>0,N21,) -> 1170 | U21: =G21 -> 0 | V21: =IF((F21)>0,N21,) -> 0 | Y21: =Q21*R21+S21*T21+U21*V21 -> 6245.694 | Z21: =Y21+Y22 -> 6266.3445 | AA21: =Z21/$Z$238% -> 0.72574912 | AB21: =AA21 -> 0.72574912 | AD21: =AC21/$AC$238% -> 0 | AE21: =AD21 -> 0 | AG21: =AF21/$AF$238% -> 0 | AH21: =AG21 -> 0 | AJ21: =AI21/$AI$238% -> 0 | AK21: =AJ21 -> 0 | AM21: =AL21/$AI$238% -> 0 | AN21: =AM21 -> 0 | AO21: =AB21*$AA$7+AE21*$AD$7+AH21*$AG$7+AK21*$AJ$7+AN21*$AM$7 -> 0.50998587
C22: 270 | E22: 0.0353 | I22: 1170 | N22: =SUM(I22:M22) -> 1170 | O22: 3 | P22: 1 | Q22: =D22 -> 0 | R22: =IF((D22)>0,N22,) -> 0 | S22: =E22*0.5 -> 0.01765 | T22: =IF((E22)>0,N22,) -> 1170 | U22: =G22 -> 0 | V22: =IF((F22)>0,N22,) -> 0 | Y22: =Q22*R22+S22*T22+U22*V22 -> 20.6505 | AD22: =AC22/$AC$238% -> 0 | AE22: =AD22 -> 0 | AG22: =AF22/$AF$238% -> 0 | AH22: =AG22 -> 0 | AJ22: =AI22/$AI$238% -> 0 | AK22: =AJ22 -> 0 | AM22: =AL22/$AI$238% -> 0 | AN22: =AM22 -> 0 | AO22: =AB22*$AA$7+AE22*$AD$7+AH22*$AG$7+AK22*$AJ$7+AN22*$AM$7 -> 0
A24: 4 | B24: Sporn Robert und Maya | C24: 190 | F24: 1 | G24: 5 | I24: 1170 | N24: =SUM(I24:M24) -> 1170 | O24: =A24 -> 4 | P24: 1 | Q24: =D24 -> 0 | R24: =IF((D24)>0,N24,) -> 0 | S24: =E24*0.5*3/3 -> 0 | T24: =IF((E24)>0,N24,) -> 0 | U24: =G24 -> 5 | V24: =IF((F24)>0,N24,) -> 1170 | Y24: =Q24*R24+S24*T24+U24*V24 -> 5850 | Z24: =Y24 -> 5850 | AA24: =Z24/$Z$238% -> 0.67752936 | AB24: =AA24 -> 0.67752936 | AD24: =AC24/$AC$238% -> 0 | AE24: =AD24 -> 0 | AG24: =AF24/$AF$238% -> 0 | AH24: =AG24 -> 0 | AJ24: =AI24/$AI$238% -> 0 | AK24: =AJ24 -> 0 | AM24: =AL24/$AI$238% -> 0 | AN24: =AM24 -> 0 | AO24: =AB24*$AA$7+AE24*$AD$7+AH24*$AG$7+AK24*$AJ$7+AN24*$AM$7 -> 0.47610171
A26: 5 | B26: Jent-Sörensen Ingrid | C26: 191 | D26: 0.8783 | F26: 1 | G26: 5 | I26: 1170 | N26: =SUM(I26:M26) -> 1170 | O26: =A26 -> 5 | P26: 1 | Q26: =D26 -> 0.8783 | R26: =IF((D26)>0,N26,) -> 1170 | S26: =E26*0.5*3/3 -> 0 | T26: =IF((E26)>0,N26,) -> 0 | U26: =G26 -> 5 | V26: =IF((F26)>0,N26,) -> 1170 | Y26: =Q26*R26+S26*T26+U26*V26 -> 6877.611 | Z26: =Y26+Y27 -> 7609.797 | AA26: =Z26/$Z$238% -> 0.88134374 | AB26: =AA26 -> 0.88134374 | AD26: =AC26/$AC$238% -> 0 | AE26: =AD26 -> 0 | AG26: =AF26/$AF$238% -> 0 | AH26: =AG26 -> 0 | AJ26: =AI26/$AI$238% -> 0 | AK26: =AJ26 -> 0 | AM26: =AL26/$AI$238% -> 0 | AN26: =AM26 -> 0 | AO26: =AB26*$AA$7+AE26*$AD$7+AH26*$AG$7+AK26*$AJ$7+AN26*$AM$7 -> 0.61932263
C27: 192 | D27: 0.2538 | E27: 1.116 | I27: 1170 | N27: =SUM(I27:M27) -> 1170 | O27: 5 | P27: 1 | Q27: =D27 -> 0.2538 | R27: =IF((D27)>0,N27,) -> 1170 | S27: =E27*0.5*2/3 -> 0.372 | T27: =IF((E27)>0,N27,) -> 1170 | U27: =G27 -> 0 | V27: =IF((F27)>0,N27,) -> 0 | W27: =H27*10 -> 0 | Y27: =Q27*R27+S27*T27+U27*V27+W27*X27 -> 732.186 | AA27: =Z27/$Z$238% -> 0 | AB27: =AA27 -> 0 | AD27: =AC27/$AC$238% -> 0 | AE27: =AD27 -> 0 | AG27: =AF27/$AF$238% -> 0 | AH27: =AG27 -> 0 | AJ27: =AI27/$AI$238% -> 0 | AK27: =AJ27 -> 0 | AM27: =AL27/$AI$238% -> 0 | AN27: =AM27 -> 0 | AO27: =AB27*$AA$7+AE27*$AD$7+AH27*$AG$7+AK27*$AJ$7+AN27*$AM$7 -> 0 | AP27: 1/3 Brennholz
A29: 6 | B29: Hörler Yvonne und Urs | C29: 194 | D29: 1.2693 | F29: 1 | G29: 5 | I29: 1170 | N29: =SUM(I29:M29) -> 1170 | O29: =A29 -> 6 | P29: 1 | Q29: =D29 -> 1.2693 | R29: =IF((D29)>0,N29,) -> 1170 | S29: =E29*0.5*2/3 -> 0 | T29: =IF((E29)>0,N29,) -> 0 | U29: =G29 -> 5 | V29: =IF((F29)>0,N29,) -> 1170 | Y29: =Q29*R29+S29*T29+U29*V29 -> 7335.081 | Z29: =Y29 -> 7335.081 | AA29: =Z29/$Z$238% -> 0.84952696 | AB29: =AA29 -> 0.84952696 | AD29: =AC29/$AC$238% -> 0 | AE29: =AD29 -> 0 | AG29: =AF29/$AF$238% -> 0 | AH29: =AG29 -> 0 | AJ29: =AI29/$AI$238% -> 0 | AK29: =AJ29 -> 0 | AM29: =AL29/$AI$238% -> 0 | AN29: =AM29 -> 0 | AO29: =AB29*$AA$7+AE29*$AD$7+AH29*$AG$7+AK29*$AJ$7+AN29*$AM$7 -> 0.59696489
A31: 7 | B31: Freequenc AG | C31: 195 | F31: 2 | G31: 9 | H31: 1 | I31: 1170 | N31: =SUM(I31:M31) -> 1170 | O31: =A31 -> 7 | P31: 1 | Q31: =D31 -> 0 | R31: =IF((D31)>0,N31,) -> 0 | S31: =E31*0.5*2/3 -> 0 | T31: =IF((E31)>0,N31,) -> 0 | U31: =G31 -> 9 | V31: =IF((F31)>0,N31,) -> 1170 | W31: =H31*10*0.5 -> 5 | X31: =N31 -> 1170 | Y31: =Q31*R31+S31*T31+U31*V31+W31*X31 -> 16380 | Z31: =Y31 -> 16380 | AA31: =Z31/$Z$238% -> 1.8970822 | AB31: =AA31 -> 1.8970822 | AD31: =AC31/$AC$238% -> 0 | AE31: =AD31 -> 0 | AG31: =AF31/$AF$238% -> 0 | AH31: =AG31 -> 0 | AJ31: =AI31/$AI$238% -> 0 | AK31: =AJ31 -> 0 | AM31: =AL31/$AI$238% -> 0 | AN31: =AM31 -> 0 | AO31: =AB31*$AA$7+AE31*$AD$7+AH31*$AG$7+AK31*$AJ$7+AN31*$AM$7 -> 1.3330848 | AP31: 1/2 Gewerbe
A33: 8 | B33: Suhner-Eisenhut Willi und Katharina | C33: 196 | F33: 1 | G33: 5 | I33: 1170 | N33: =SUM(I33:M33) -> 1170 | O33: =A33 -> 8 | P33: 1 | Q33: =D33 -> 0 | R33: =IF((D33)>0,N33,) -> 0 | S33: =E33*0.5*2/3 -> 0 | T33: =IF((E33)>0,N33,) -> 0 | U33: =G33 -> 5 | V33: =IF((F33)>0,N33,) -> 1170 | W33: =H33*10 -> 0 | Y33: =Q33*R33+S33*T33+U33*V33+W33*X33 -> 5850 | Z33: =Y33 -> 5850 | AA33: =Z33/$Z$238% -> 0.67752936 | AB33: =AA33 -> 0.67752936 | AD33: =AC33/$AC$238% -> 0 | AE33: =AD33 -> 0 | AG33: =AF33/$AF$238% -> 0 | AH33: =AG33 -> 0 | AJ33: =AI33/$AI$238% -> 0 | AK33: =AJ33 -> 0 | AM33: =AL33/$AI$238% -> 0 | AN33: =AM33 -> 0 | AO33: =AB33*$AA$7+AE33*$AD$7+AH33*$AG$7+AK33*$AJ$7+AN33*$AM$7 -> 0.47610171
A35: 9 | B35: Manetsch Michael | C35: 199 | F35: 2 | G35: 9 | I35: 1170 | N35: =SUM(I35:M35) -> 1170 | O35: =A35 -> 9 | P35: 1 | Q35: =D35 -> 0 | R35: =IF((D35)>0,N35,) -> 0 | T35: =IF((E35)>0,N35,) -> 0 | U35: =G35 -> 9 | V35: =IF((F35)>0,N35,) -> 1170 | W35: =H35*10 -> 0 | Y35: =Q35*R35+S35*T35+U35*V35+W35*X35 -> 10530 | Z35: =Y35 -> 10530 | AA35: =Z35/$Z$238% -> 1.2195528 | AB35: =AA35 -> 1.2195528 | AD35: =AC35/$AC$238% -> 0 | AE35: =AD35 -> 0 | AG35: =AF35/$AF$238% -> 0 | AH35: =AG35 -> 0 | AJ35: =AI35/$AI$238% -> 0 | AK35: =AJ35 -> 0 | AM35: =AL35/$AI$238% -> 0 | AN35: =AM35 -> 0 | AO35: =AB35*$AA$7+AE35*$AD$7+AH35*$AG$7+AK35*$AJ$7+AN35*$AM$7 -> 0.85698308
A37: 10 | B37: Schiess Peter, Schiess Heinz | C37: 200 | D37: 0.174 | F37: 2 | G37: 9 | I37: 1170 | N37: =SUM(I37:M37) -> 1170 | O37: =A37 -> 10 | P37: 1 | Q37: =D37 -> 0.174 | R37: =IF((D37)>0,N37,) -> 1170 | T37: =IF((E37)>0,N37,) -> 0 | U37: =G37 -> 9 | V37: =IF((F37)>0,N37,) -> 1170 | W37: =H37*10 -> 0 | Y37: =Q37*R37+S37*T37+U37*V37+W37*X37 -> 10733.58 | Z37: =Y37 -> 10733.58 | AA37: =Z37/$Z$238% -> 1.2431309 | AB37: =AA37 -> 1.2431309 | AD37: =AC37/$AC$238% -> 0 | AE37: =AD37 -> 0 | AG37: =AF37/$AF$238% -> 0 | AH37: =AG37 -> 0 | AJ37: =AI37/$AI$238% -> 0 | AK37: =AJ37 -> 0 | AM37: =AL37/$AI$238% -> 0 | AN37: =AM37 -> 0 | AO37: =AB37*$AA$7+AE37*$AD$7+AH37*$AG$7+AK37*$AJ$7+AN37*$AM$7 -> 0.87355142
A39: 11 | B39: Ulmann-Manser Roland | C39: 201 | F39: 1 | G39: 5 | I39: 1170 | N39: =SUM(I39:M39) -> 1170 | O39: =A39 -> 11 | P39: 1 | Q39: =D39 -> 0 | R39: =IF((D39)>0,N39,) -> 0 | S39: =E39*0.5*2/3 -> 0 | T39: =IF((E39)>0,N39,) -> 0 | U39: =G39 -> 5 | V39: =IF((F39)>0,N39,) -> 1170 | W39: =H39*10 -> 0 | Y39: =Q39*R39+S39*T39+U39*V39+W39*X39 -> 5850 | Z39: =Y39 -> 5850 | AA39: =Z39/$Z$238% -> 0.67752936 | AB39: =AA39 -> 0.67752936 | AD39: =AC39/$AC$238% -> 0 | AE39: =AD39 -> 0 | AG39: =AF39/$AF$238% -> 0 | AH39: =AG39 -> 0 | AJ39: =AI39/$AI$238% -> 0 | AK39: =AJ39 -> 0 | AM39: =AL39/$AI$238% -> 0 | AN39: =AM39 -> 0 | AO39: =AB39*$AA$7+AE39*$AD$7+AH39*$AG$7+AK39*$AJ$7+AN39*$AM$7 -> 0.47610171
A41: 12 | B41: Joller-Inhelder Susanne und Lukas | C41: 202 | D41: 0.6805 | F41: 2 | G41: 9 | I41: 1170 | N41: =SUM(I41:M41) -> 1170 | O41: =A41 -> 12 | P41: 1 | Q41: =D41 -> 0.6805 | R41: =IF((D41)>0,N41,) -> 1170 | S41: =E41*0.5*2/3 -> 0 | T41: =IF((E41)>0,N41,) -> 0 | U41: =G41 -> 9 | V41: =IF((F41)>0,N41,) -> 1170 | W41: =H41*10 -> 0 | Y41: =Q41*R41+S41*T41+U41*V41+W41*X41 -> 11326.185 | Z41: =Y41+Y42 -> 11818.248 | AA41: =Z41/$Z$238% -> 1.3687538 | AB41: =AA41 -> 1.3687538 | AD41: =AC41/$AC$238% -> 0 | AE41: =AD41 -> 0 | AG41: =AF41/$AF$238% -> 0 | AH41: =AG41 -> 0 | AJ41: =AI41/$AI$238% -> 0 | AK41: =AJ41 -> 0 | AM41: =AL41/$AI$238% -> 0 | AN41: =AM41 -> 0 | AO41: =AB41*$AA$7+AE41*$AD$7+AH41*$AG$7+AK41*$AJ$7+AN41*$AM$7 -> 0.96182702
C42: 101 | E42: 1.2617 | I42: 1170 | N42: =SUM(I42:M42) -> 1170 | O42: 12 | P42: 1 | Q42: =D42 -> 0 | R42: =IF((D42)>0,N42,) -> 0 | S42: =E42*0.5*2/3 -> 0.42056667 | T42: =IF((E42)>0,N42,) -> 1170 | U42: =G42 -> 0 | V42: =IF((F42)>0,N42,) -> 0 | W42: =H42*10 -> 0 | Y42: =Q42*R42+S42*T42+U42*V42+W42*X42 -> 492.063 | AA42: =Z42/$Z$238% -> 0 | AB42: =AA42 -> 0 | AD42: =AC42/$AC$238% -> 0 | AE42: =AD42 -> 0 | AG42: =AF42/$AF$238% -> 0 | AH42: =AG42 -> 0 | AJ42: =AI42/$AI$238% -> 0 | AK42: =AJ42 -> 0 | AM42: =AL42/$AI$238% -> 0 | AN42: =AM42 -> 0 | AO42: =AB42*$AA$7+AE42*$AD$7+AH42*$AG$7+AK42*$AJ$7+AN42*$AM$7 -> 0 | AP42: 1/3 Brennholz
A44: 13 | B44: Hadjidj Smail und Hadjidj Schweizer Harlis | C44: 203 | F44: 1 | G44: 5 | I44: 1170 | N44: =SUM(I44:M44) -> 1170 | O44: =A44 -> 13 | P44: 1 | Q44: =D44 -> 0 | R44: =IF((D44)>0,N44,) -> 0 | S44: =E44*0.5*2/3 -> 0 | T44: =IF((E44)>0,N44,) -> 0 | U44: =G44 -> 5 | V44: =IF((F44)>0,N44,) -> 1170 | W44: =H44*10 -> 0 | Y44: =Q44*R44+S44*T44+U44*V44+W44*X44 -> 5850 | Z44: =Y44 -> 5850 | AA44: =Z44/$Z$238% -> 0.67752936 | AB44: =AA44 -> 0.67752936 | AD44: =AC44/$AC$238% -> 0 | AE44: =AD44 -> 0 | AG44: =AF44/$AF$238% -> 0 | AH44: =AG44 -> 0 | AJ44: =AI44/$AI$238% -> 0 | AK44: =AJ44 -> 0 | AM44: =AL44/$AI$238% -> 0 | AN44: =AM44 -> 0 | AO44: =AB44*$AA$7+AE44*$AD$7+AH44*$AG$7+AK44*$AJ$7+AN44*$AM$7 -> 0.47610171
A46: 14 | B46: Schobel Klaus und Brigitte | C46: 204 | F46: 1 | G46: 5 | I46: 1170 | N46: =SUM(I46:M46) -> 1170 | O46: =A46 -> 14 | P46: 1 | Q46: =D46 -> 0 | R46: =IF((D46)>0,N46,) -> 0 | S46: =E46*0.5*2/3 -> 0 | T46: =IF((E46)>0,N46,) -> 0 | U46: =G46 -> 5 | V46: =IF((F46)>0,N46,) -> 1170 | W46: =H46*10 -> 0 | Y46: =Q46*R46+S46*T46+U46*V46+W46*X46 -> 5850 | Z46: =Y46 -> 5850 | AA46: =Z46/$Z$238% -> 0.67752936 | AB46: =AA46 -> 0.67752936 | AD46: =AC46/$AC$238% -> 0 | AE46: =AD46 -> 0 | AG46: =AF46/$AF$238% -> 0 | AH46: =AG46 -> 0 | AJ46: =AI46/$AI$238% -> 0 | AK46: =AJ46 -> 0 | AM46: =AL46/$AI$238% -> 0 | AN46: =AM46 -> 0 | AO46: =AB46*$AA$7+AE46*$AD$7+AH46*$AG$7+AK46*$AJ$7+AN46*$AM$7 -> 0.47610171
A48: 15 | B48: Schneider-Frei Ernst, Balgach | C48: 206 | F48: 1 | G48: 5 | I48: 1170 | N48: =SUM(I48:M48) -> 1170 | O48: =A48 -> 15 | P48: 1 | Q48: =D48 -> 0 | R48: =IF((D48)>0,N48,) -> 0 | S48: =E48*0.5*2/3 -> 0 | T48: =IF((E48)>0,N48,) -> 0 | U48: =G48 -> 5 | V48: =IF((F48)>0,N48,) -> 1170 | W48: =H48*10 -> 0 | Y48: =Q48*R48+S48*T48+U48*V48+W48*X48 -> 5850 | Z48: =Y48+Y49+Y50+Y51 -> 7082.439 | AA48: =Z48/$Z$238% -> 0.82026672 | AB48: =AA48 -> 0.82026672 | AD48: =AC48/$AC$238% -> 0 | AE48: =AD48 -> 0 | AG48: =AF48/$AF$238% -> 0 | AH48: =AG48 -> 0 | AJ48: =AI48/$AI$238% -> 0 | AK48: =AJ48 -> 0 | AM48: =AL48/$AI$238% -> 0 | AN48: =AM48 -> 0 | AO48: =AB48*$AA$7+AE48*$AD$7+AH48*$AG$7+AK48*$AJ$7+AN48*$AM$7 -> 0.57640364
C49: 263 | E49: 0.1847 | I49: 1170 | N49: =SUM(I49:M49) -> 1170 | O49: 15 | P49: 1 | Q49: =D49 -> 0 | R49: =IF((D49)>0,N49,) -> 0 | S49: =E49*0.5*2/3 -> 0.061566667 | T49: =IF((E49)>0,N49,) -> 1170 | U49: =G49 -> 0 | V49: =IF((F49)>0,N49,) -> 0 | W49: =H49*10 -> 0 | Y49: =Q49*R49+S49*T49+U49*V49+W49*X49 -> 72.033 | AA49: =Z49/$Z$238% -> 0 | AB49: =AA49 -> 0 | AO49: =AB49*$AA$7+AE49*$AD$7+AH49*$AG$7+AK49*$AJ$7+AN49*$AM$7 -> 0 | AP49: 1/3 Brennholz
C50: 641 | D50: 0 | I50: 1170 | N50: =SUM(I50:M50) -> 1170 | O50: 15 | P50: 1 | Q50: =D50 -> 0 | R50: =IF((D50)>0,N50,) -> 0 | S50: =E50*0.5*2/3 -> 0 | T50: =IF((E50)>0,N50,) -> 0 | U50: =G50 -> 0 | V50: =IF((F50)>0,N50,) -> 0 | W50: =H50*10 -> 0 | Y50: =Q50*R50+S50*T50+U50*V50+W50*X50 -> 0 | AO50: =AB50*$AA$7+AE50*$AD$7+AH50*$AG$7+AK50*$AJ$7+AN50*$AM$7 -> 0
C51: 658 | D51: 0.9918 | I51: 1170 | N51: =SUM(I51:M51) -> 1170 | O51: 15 | P51: 1 | Q51: =D51 -> 0.9918 | R51: =IF((D51)>0,N51,) -> 1170 | S51: =E51*0.5*2/3 -> 0 | T51: =IF((E51)>0,N51,) -> 0 | U51: =G51 -> 0 | V51: =IF((F51)>0,N51,) -> 0 | W51: =H51*10 -> 0 | Y51: =Q51*R51+S51*T51+U51*V51+W51*X51 -> 1160.406
A53: 16 | B53: Inauen Hans | C53: 217 | D53: 1.9251 | E53: 0.387 | I53: 180 | N53: =SUM(I53:M53) -> 180 | O53: =A53 -> 16 | P53: 1 | Q53: =D53 -> 1.9251 | R53: =IF((D53)>0,N53,) -> 180 | S53: =E53*0.5*2/3 -> 0.129 | T53: =IF((E53)>0,N53,) -> 180 | U53: =G53 -> 0 | V53: =IF((F53)>0,N53,) -> 0 | W53: =H53*10 -> 0 | X53: =N53 -> 180 | Y53: =Q53*R53+S53*T53+U53*V53+W53*X53 -> 369.738 | Z53: =Y53+Y54+Y55 -> 22605.783 | AA53: =Z53/$Z$238% -> 2.6181336 | AB53: =AA53 -> 2.6181336 | AD53: =AC53/$AC$238% -> 0 | AE53: =AD53 -> 0 | AG53: =AF53/$AF$238% -> 0 | AH53: =AG53 -> 0 | AJ53: =AI53/$AI$238% -> 0 | AK53: =AJ53 -> 0 | AM53: =AL53/$AI$238% -> 0 | AN53: =AM53 -> 0 | AO53: =AB53*$AA$7+AE53*$AD$7+AH53*$AG$7+AK53*$AJ$7+AN53*$AM$7 -> 1.8397696 | AP53: 1/3 Brennholz
F54: 2 | G54: 9 | H54: 1 | I54: 1170 | N54: =SUM(I54:M54) -> 1170 | O54: 16 | P54: 2 | Q54: =D54 -> 0 | R54: =IF((D54)>0,N54,) -> 0 | S54: =E54*0.5*2/3 -> 0 | T54: =IF((E54)>0,N54,) -> 0 | U54: =G54 -> 9 | V54: =IF((F54)>0,N54,) -> 1170 | W54: =H54*10 -> 10 | X54: =N54 -> 1170 | Y54: =Q54*R54+S54*T54+U54*V54+W54*X54 -> 22230 | AJ54: =AI54/$AI$238% -> 0 | AK54: =AJ54 -> 0 | AM54: =AL54/$AI$238% -> 0 | AN54: =AM54 -> 0 | AO54: =AB54*$AA$7+AE54*$AD$7+AH54*$AG$7+AK54*$AJ$7+AN54*$AM$7 -> 0
C55: 219 | E55: 0.0155 | I55: 1170 | N55: =SUM(I55:M55) -> 1170 | O55: 16 | P55: 3 | Q55: =D55 -> 0 | R55: =IF((D55)>0,N55,) -> 0 | S55: =E55*0.5*2/3 -> 0.0051666667 | T55: =IF((E55)>0,N55,) -> 1170 | U55: =G55 -> 0 | V55: =IF((F55)>0,N55,) -> 0 | W55: =H55*10 -> 0 | X55: =N55 -> 1170 | Y55: =Q55*R55+S55*T55+U55*V55+W55*X55 -> 6.045 | AO55: =AB55*$AA$7+AE55*$AD$7+AH55*$AG$7+AK55*$AJ$7+AN55*$AM$7 -> 0
A57: 17 | B57: Benz-Koller Rebeka | C57: 218 | D57: 0.1607 | F57: 2 | G57: 9 | I57: 1170 | N57: =SUM(I57:M57) -> 1170 | O57: =A57 -> 17 | P57: 1 | Q57: =D57 -> 0.1607 | R57: =IF((D57)>0,N57,) -> 1170 | S57: =E57*0.5*2/3 -> 0 | T57: =IF((E57)>0,N57,) -> 0 | U57: =G57 -> 9 | V57: =IF((F57)>0,N57,) -> 1170 | W57: =H57*10 -> 0 | Y57: =Q57*R57+S57*T57+U57*V57+W57*X57 -> 10718.019 | Z57: =Y57+Y59+Y61+Y58 -> 17435.567 | AA57: =Z57/$Z$238% -> 2.0193347 | AB57: =AA57 -> 2.0193347 | AD57: =AC57/$AC$238% -> 0 | AE57: =AD57 -> 0 | AF57: =Y60 -> 233.366 | AG57: =AF57/$AF$238% -> 8.6967637 | AH57: =AG57 -> 8.6967637 | AJ57: =AI57/$AI$238% -> 0 | AK57: =AJ57 -> 0 | AM57: =AL57/$AI$238% -> 0 | AN57: =AM57 -> 0 | AO57: =AB57*$AA$7+AE57*$AD$7+AH57*$AG$7+AK57*$AJ$7+AN57*$AM$7 -> 1.9674365
C58: 726 | F58: 1 | G58: 5 | I58: 1170 | N58: =SUM(I58:M58) -> 1170 | O58: =A58 -> 0 | P58: 1 | Q58: =D58 -> 0 | R58: =IF((D58)>0,N58,) -> 0 | S58: =E58*0.5*2/3 -> 0 | T58: =IF((E58)>0,N58,) -> 0 | U58: =G58 -> 5 | V58: =IF((F58)>0,N58,) -> 1170 | W58: =H58*10 -> 0 | Y58: =Q58*R58+S58*T58+U58*V58+W58*X58 -> 5850 | AA58: =Z58/$Z$238% -> 0 | AB58: =AA58 -> 0 | AD58: =AC58/$AC$238% -> 0 | AE58: =AD58 -> 0 | AG58: =AF58/$AF$238% -> 0 | AH58: =AG58 -> 0 | AO58: =AB58*$AA$7+AE58*$AD$7+AH58*$AG$7+AK58*$AJ$7+AN58*$AM$7 -> 0
C59: 596 | D59: 2.1387 | E59: 0.2515 | I59: 350 | N59: =SUM(I59:M59) -> 350 | O59: 17 | P59: 1 | Q59: =D59 -> 2.1387 | R59: =IF((D59)>0,N59,) -> 350 | S59: =E59*0.5*2/3 -> 0.083833333 | T59: =IF((E59)>0,N59,) -> 350 | U59: =G59 -> 0 | V59: =IF((F59)>0,N59,) -> 0 | W59: =H59*10 -> 0 | Y59: =Q59*R59+S59*T59+U59*V59+W59*X59 -> 777.88667 | AA59: =Z59/$Z$238% -> 0 | AB59: =AA59 -> 0 | AD59: =AC59/$AC$238% -> 0 | AE59: =AD59 -> 0 | AG59: =AF59/$AF$238% -> 0 | AH59: =AG59 -> 0 | AJ59: =AI59/$AI$238% -> 0 | AK59: =AJ59 -> 0 | AM59: =AL59/$AI$238% -> 0 | AN59: =AM59 -> 0 | AO59: =AB59*$AA$7+AE59*$AD$7+AH59*$AG$7+AK59*$AJ$7+AN59*$AM$7 -> 0 | AP59: 1/3 Brennholz
D60: 2.1387 | E60: 0.2515 | K60: 105 | N60: =SUM(I60:M60) -> 105 | O60: 17 | P60: 3 | Q60: =D60 -> 2.1387 | R60: =IF((D60)>0,N60,) -> 105 | S60: =E60*0.5*2/3 -> 0.083833333 | T60: =IF((E60)>0,N60,) -> 105 | U60: =G60 -> 0 | Y60: =Q60*R60+S60*T60+U60*V60+W60*X60 -> 233.366 | AJ60: =AI60/$AI$238% -> 0 | AK60: =AJ60 -> 0 | AM60: =AL60/$AI$238% -> 0 | AN60: =AM60 -> 0 | AO60: =AB60*$AA$7+AE60*$AD$7+AH60*$AG$7+AK60*$AJ$7+AN60*$AM$7 -> 0
C61: 264 | E61: 0.2299 | I61: 1170 | N61: =SUM(I61:M61) -> 1170 | O61: 17 | P61: 1 | Q61: =D61 -> 0 | R61: =IF((D61)>0,N61,) -> 0 | S61: =E61*0.5*2/3 -> 0.076633333 | T61: =IF((E61)>0,N61,) -> 1170 | U61: =G61 -> 0 | V61: =IF((F61)>0,N61,) -> 0 | W61: =H61*10 -> 0 | Y61: =Q61*R61+S61*T61+U61*V61+W61*X61 -> 89.661 | AA61: =Z61/$Z$238% -> 0 | AB61: =AA61 -> 0 | AD61: =AC61/$AC$238% -> 0 | AE61: =AD61 -> 0 | AG61: =AF61/$AF$238% -> 0 | AH61: =AG61 -> 0 | AJ61: =AI61/$AI$238% -> 0 | AK61: =AJ61 -> 0 | AM61: =AL61/$AI$238% -> 0 | AN61: =AM61 -> 0 | AO61: =AB61*$AA$7+AE61*$AD$7+AH61*$AG$7+AK61*$AJ$7+AN61*$AM$7 -> 0 | AP61: 1/3 Brennholz
A63: 18 | B63: Staub Willi | C63: 221 | F63: 1 | G63: 5 | H63: 1 | I63: 1170 | N63: =SUM(I63:M63) -> 1170 | O63: =A63 -> 18 | P63: 1 | Q63: =D63 -> 0 | R63: =IF((D63)>0,N63,) -> 0 | S63: =E63*0.5*2/3 -> 0 | T63: =IF((E63)>0,N63,) -> 0 | U63: =G63 -> 5 | V63: =IF((F63)>0,N63,) -> 1170 | W63: =H63*20 -> 20 | X63: 1170 | Y63: =Q63*R63+S63*T63+U63*V63+W63*X63 -> 29250 | Z63: =Y63 -> 29250 | AA63: =Z63/$Z$238% -> 3.3876468 | AB63: =AA63 -> 3.3876468 | AD63: =AC63/$AC$238% -> 0 | AE63: =AD63 -> 0 | AG63: =AF63/$AF$238% -> 0 | AH63: =AG63 -> 0 | AJ63: =AI63/$AI$238% -> 0 | AK63: =AJ63 -> 0 | AM63: =AL63/$AI$238% -> 0 | AN63: =AM63 -> 0 | AO63: =AB63*$AA$7+AE63*$AD$7+AH63*$AG$7+AK63*$AJ$7+AN63*$AM$7 -> 2.3805085 | AP63: Restaurant
A65: 19 | B65: Manetsch-Kessler Edwin und Irene, Bühler Manetsch Pascal und Franziska | C65: 222 | F65: 2 | G65: 9 | H65: 1 | I65: 1170 | N65: =SUM(I65:M65) -> 1170 | O65: =A65 -> 19 | P65: 1 | Q65: =D65 -> 0 | R65: =IF((D65)>0,N65,) -> 0 | S65: =E65*0.5*2/3 -> 0 | T65: =IF((E65)>0,N65,) -> 0 | U65: =G65 -> 9 | V65: =IF((F65)>0,N65,) -> 1170 | W65: =H65*10 -> 10 | X65: 1170 | Y65: =Q65*R65+S65*T65+U65*V65+W65*X65 -> 22230 | Z65: =Y65 -> 22230 | AA65: =Z65/$Z$238% -> 2.5746116 | AB65: =AA65 -> 2.5746116 | AD65: =AC65/$AC$238% -> 0 | AE65: =AD65 -> 0 | AG65: =AF65/$AF$238% -> 0 | AH65: =AG65 -> 0 | AJ65: =AI65/$AI$238% -> 0 | AK65: =AJ65 -> 0 | AM65: =AL65/$AI$238% -> 0 | AN65: =AM65 -> 0 | AO65: =AB65*$AA$7+AE65*$AD$7+AH65*$AG$7+AK65*$AJ$7+AN65*$AM$7 -> 1.8091865
A67: 20 | B67: Nicolet-Zuberbühler Margrit | C67: 259 | D67: 3.0477 | E67: 0.2123 | I67: 1170 | N67: =SUM(I67:M67) -> 1170 | O67: =A67 -> 20 | P67: 1 | Q67: =D67 -> 3.0477 | R67: =IF((D67)>0,N67,) -> 1170 | S67: =E67*0.5*2/3 -> 0.070766667 | T67: =IF((E67)>0,N67,) -> 1170 | U67: =G67 -> 0 | V67: =IF((F67)>0,N67,) -> 1170 | W67: =H67*10 -> 0 | Y67: =Q67*R67+S67*T67+U67*V67+W67*X67 -> 3648.606 | Z67: =Y67+Y68 -> 3800.667 | AA67: =Z67/$Z$238% -> 0.44018179 | AB67: =AA67 -> 0.44018179 | AD67: =AC67/$AC$238% -> 0 | AE67: =AD67 -> 0 | AG67: =AF67/$AF$238% -> 0 | AH67: =AG67 -> 0 | AJ67: =AI67/$AI$238% -> 0 | AK67: =AJ67 -> 0 | AM67: =AL67/$AI$238% -> 0 | AN67: =AM67 -> 0 | AO67: =AB67*$AA$7+AE67*$AD$7+AH67*$AG$7+AK67*$AJ$7+AN67*$AM$7 -> 0.30931693 | AP67: 1/3 Brennholz
C68: 262 | E68: 0.3899 | I68: 1170 | N68: =SUM(I68:M68) -> 1170 | O68: 20 | P68: 1 | Q68: =D68 -> 0 | R68: =IF((D68)>0,N68,) -> 0 | S68: =E68*0.5*2/3 -> 0.12996667 | T68: =IF((E68)>0,N68,) -> 1170 | U68: =G68 -> 0 | V68: =IF((F68)>0,N68,) -> 0 | W68: =H68*10 -> 0 | Y68: =Q68*R68+S68*T68+U68*V68+W68*X68 -> 152.061 | AA68: =Z68/$Z$238% -> 0 | AB68: =AA68 -> 0 | AD68: =AC68/$AC$238% -> 0 | AE68: =AD68 -> 0 | AG68: =AF68/$AF$238% -> 0 | AH68: =AG68 -> 0 | AJ68: =AI68/$AI$238% -> 0 | AK68: =AJ68 -> 0 | AM68: =AL68/$AI$238% -> 0 | AN68: =AM68 -> 0 | AO68: =AB68*$AA$7+AE68*$AD$7+AH68*$AG$7+AK68*$AJ$7+AN68*$AM$7 -> 0 | AP68: 1/3 Brennholz
A70: 21 | B70: Graber Claudia | C70: 260 | F70: 1 | G70: 5 | I70: 1170 | N70: =SUM(I70:M70) -> 1170 | O70: =A70 -> 21 | P70: 1 | Q70: =D70 -> 0 | R70: =IF((D70)>0,N70,) -> 0 | S70: =E70*0.5*2/3 -> 0 | T70: =IF((E70)>0,N70,) -> 0 | U70: =G70 -> 5 | V70: =IF((F70)>0,N70,) -> 1170 | W70: =H70*10 -> 0 | Y70: =Q70*R70+S70*T70+U70*V70+W70*X70 -> 5850 | Z70: =Y70+Y71 -> 7252.44 | AA70: =Z70/$Z$238% -> 0.83995573 | AB70: =AA70 -> 0.83995573 | AD70: =AC70/$AC$238% -> 0 | AE70: =AD70 -> 0 | AG70: =AF70/$AF$238% -> 0 | AH70: =AG70 -> 0 | AJ70: =AI70/$AI$238% -> 0 | AK70: =AJ70 -> 0 | AM70: =AL70/$AI$238% -> 0 | AN70: =AM70 -> 0 | AO70: =AB70*$AA$7+AE70*$AD$7+AH70*$AG$7+AK70*$AJ$7+AN70*$AM$7 -> 0.59023916
C71: 674 | D71: 0.952 | E71: 0.74 | F71: 0 | I71: 1170 | N71: =SUM(I71:M71) -> 1170 | O71: 21 | P71: 2 | Q71: =D71 -> 0.952 | R71: =IF((D71)>0,N71,) -> 1170 | S71: =E71*0.5*2/3 -> 0.24666667 | T71: =IF((E71)>0,N71,) -> 1170 | U71: =G71 -> 0 | V71: =IF((F71)>0,N71,) -> 0 | W71: =H71*10 -> 0 | Y71: =Q71*R71+S71*T71+U71*V71+W71*X71 -> 1402.44 | AA71: =Z71/$Z$238% -> 0 | AB71: =AA71 -> 0 | AD71: =AC71/$AC$238% -> 0 | AE71: =AD71 -> 0 | AG71: =AF71/$AF$238% -> 0 | AH71: =AG71 -> 0 | AJ71: =AI71/$AI$238% -> 0 | AK71: =AJ71 -> 0 | AM71: =AL71/$AI$238% -> 0 | AN71: =AM71 -> 0 | AO71: =AB71*$AA$7+AE71*$AD$7+AH71*$AG$7+AK71*$AJ$7+AN71*$AM$7 -> 0 | AP71: 1/3 Brennholz
A73: 22 | B73: Meier-Mittelholzer Andrea und Viktor | C73: 378 | F73: 1 | G73: 5 | I73: 1170 | N73: =SUM(I73:M73) -> 1170 | O73: =A73 -> 22 | P73: 1 | Q73: =D73 -> 0 | R73: =IF((D73)>0,N73,) -> 0 | S73: =E73*0.5*2/3 -> 0 | T73: =IF((E73)>0,N73,) -> 0 | U73: =G73 -> 5 | V73: =IF((F73)>0,N73,) -> 1170 | W73: =H73*10 -> 0 | Y73: =Q73*R73+S73*T73+U73*V73+W73*X73 -> 5850 | Z73: =Y73 -> 5850 | AA73: =Z73/$Z$238% -> 0.67752936 | AB73: =AA73 -> 0.67752936 | AD73: =AC73/$AC$238% -> 0 | AE73: =AD73 -> 0 | AG73: =AF73/$AF$238% -> 0 | AH73: =AG73 -> 0 | AJ73: =AI73/$AI$238% -> 0 | AK73: =AJ73 -> 0 | AM73: =AL73/$AI$238% -> 0 | AN73: =AM73 -> 0 | AO73: =AB73*$AA$7+AE73*$AD$7+AH73*$AG$7+AK73*$AJ$7+AN73*$AM$7 -> 0.47610171
A75: 23 | B75: Koller Johannes | C75: 381 | F75: 1 | G75: 5 | I75: 1170 | N75: =SUM(I75:M75) -> 1170 | O75: =A75 -> 23 | P75: 1 | Q75: =D75 -> 0 | R75: =IF((D75)>0,N75,) -> 0 | S75: =E75*0.5*2/3 -> 0 | T75: =IF((E75)>0,N75,) -> 0 | U75: =G75 -> 5 | V75: =IF((F75)>0,N75,) -> 1170 | W75: =H75*10 -> 0 | Y75: =Q75*R75+S75*T75+U75*V75+W75*X75 -> 5850 | Z75: =Y75 -> 5850 | AA75: =Z75/$Z$238% -> 0.67752936 | AB75: =AA75 -> 0.67752936 | AD75: =AC75/$AC$238% -> 0 | AE75: =AD75 -> 0 | AG75: =AF75/$AF$238% -> 0 | AH75: =AG75 -> 0 | AJ75: =AI75/$AI$238% -> 0 | AK75: =AJ75 -> 0 | AM75: =AL75/$AI$238% -> 0 | AN75: =AM75 -> 0 | AO75: =AB75*$AA$7+AE75*$AD$7+AH75*$AG$7+AK75*$AJ$7+AN75*$AM$7 -> 0.47610171
A77: 24 | B77: Zimmermann-Ulmann Klara u. Albert | C77: 383 | F77: 1 | G77: 5 | I77: 1170 | N77: =SUM(I77:M77) -> 1170 | O77: =A77 -> 24 | P77: 1 | Q77: =D77 -> 0 | R77: =IF((D77)>0,N77,) -> 0 | S77: =E77*0.5*2/3 -> 0 | T77: =IF((E77)>0,N77,) -> 0 | U77: =G77 -> 5 | V77: =IF((F77)>0,N77,) -> 1170 | W77: =H77*10 -> 0 | Y77: =Q77*R77+S77*T77+U77*V77+W77*X77 -> 5850 | Z77: =Y77 -> 5850 | AA77: =Z77/$Z$238% -> 0.67752936 | AB77: =AA77 -> 0.67752936 | AD77: =AC77/$AC$238% -> 0 | AE77: =AD77 -> 0 | AG77: =AF77/$AF$238% -> 0 | AH77: =AG77 -> 0 | AJ77: =AI77/$AI$238% -> 0 | AK77: =AJ77 -> 0 | AM77: =AL77/$AI$238% -> 0 | AN77: =AM77 -> 0 | AO77: =AB77*$AA$7+AE77*$AD$7+AH77*$AG$7+AK77*$AJ$7+AN77*$AM$7 -> 0.47610171
A79: 25 | B79: Isenring Johann | C79: 384 | F79: 1 | G79: 5 | I79: 1170 | N79: =SUM(I79:M79) -> 1170 | O79: =A79 -> 25 | P79: 1 | Q79: =D79 -> 0 | R79: =IF((D79)>0,N79,) -> 0 | S79: =E79*0.5*2/3 -> 0 | T79: =IF((E79)>0,N79,) -> 0 | U79: =G79 -> 5 | V79: =IF((F79)>0,N79,) -> 1170 | W79: =H79*10 -> 0 | Y79: =Q79*R79+S79*T79+U79*V79+W79*X79 -> 5850 | Z79: =Y79 -> 5850 | AA79: =Z79/$Z$238% -> 0.67752936 | AB79: =AA79 -> 0.67752936 | AD79: =AC79/$AC$238% -> 0 | AE79: =AD79 -> 0 | AG79: =AF79/$AF$238% -> 0 | AH79: =AG79 -> 0 | AJ79: =AI79/$AI$238% -> 0 | AK79: =AJ79 -> 0 | AM79: =AL79/$AI$238% -> 0 | AN79: =AM79 -> 0 | AO79: =AB79*$AA$7+AE79*$AD$7+AH79*$AG$7+AK79*$AJ$7+AN79*$AM$7 -> 0.47610171
A81: 26 | B81: Schefer-Koller Emilia und Ernst | C81: 388 | F81: 1 | G81: 5 | I81: 1170 | N81: =SUM(I81:M81) -> 1170 | O81: =A81 -> 26 | P81: 1 | Q81: =D81 -> 0 | R81: =IF((D81)>0,N81,) -> 0 | S81: =E81*0.5*2/3 -> 0 | T81: =IF((E81)>0,N81,) -> 0 | U81: =G81 -> 5 | V81: =IF((F81)>0,N81,) -> 1170 | W81: =H81*10 -> 0 | Y81: =Q81*R81+S81*T81+U81*V81+W81*X81 -> 5850 | Z81: =Y81 -> 5850 | AA81: =Z81/$Z$238% -> 0.67752936 | AB81: =AA81 -> 0.67752936 | AC81: =Y82 -> 1075 | AD81: =AC81/$AC$238% -> 17.163335 | AE81: =AD81 -> 17.163335 | AG81: =AF81/$AF$238% -> 0 | AH81: =AG81 -> 0 | AJ81: =AI81/$AI$238% -> 0 | AK81: =AJ81 -> 0 | AM81: =AL81/$AI$238% -> 0 | AN81: =AM81 -> 0 | AO81: =AB81*$AA$7+AE81*$AD$7+AH81*$AG$7+AK81*$AJ$7+AN81*$AM$7 -> 2.6923883
F82: 1 | G82: 5 | J82: 215 | N82: =SUM(I82:M82) -> 215 | O82: 26 | P82: 2 | Q82: =D82 -> 0 | R82: =IF((D82)>0,N82,) -> 0 | S82: =E82*0.5*2/3 -> 0 | T82: =IF((E82)>0,N82,) -> 0 | U82: =G82 -> 5 | V82: =IF((F82)>0,N82,) -> 215 | W82: =H82*10 -> 0 | Y82: =Q82*R82+S82*T82+U82*V82+W82*X82 -> 1075 | AA82: =Z82/$Z$238% -> 0 | AB82: =AA82 -> 0 | AD82: =AC82/$AC$238% -> 0 | AE82: =AD82 -> 0 | AG82: =AF82/$AF$238% -> 0 | AH82: =AG82 -> 0 | AJ82: =AI82/$AI$238% -> 0 | AK82: =AJ82 -> 0 | AM82: =AL82/$AI$238% -> 0 | AN82: =AM82 -> 0 | AO82: =AB82*$AA$7+AE82*$AD$7+AH82*$AG$7+AK82*$AJ$7+AN82*$AM$7 -> 0
A84: 27 | B84: Bernhard Fürer und Karl Fürer | C84: 421 | F84: 20 | G84: 63 | I84: 1170 | N84: =SUM(I84:M84) -> 1170 | O84: =A84 -> 27 | P84: 1 | Q84: =D84 -> 0 | R84: =IF((D84)>0,N84,) -> 0 | S84: =E84*0.5*2/3 -> 0 | T84: =IF((E84)>0,N84,) -> 0 | U84: =G84 -> 63 | V84: =IF((F84)>0,N84,) -> 1170 | W84: =H84*10 -> 0 | Y84: =Q84*R84+S84*T84+U84*V84+W84*X84 -> 73710 | Z84: =Y84 -> 73710 | AA84: =Z84/$Z$238% -> 8.5368699 | AB84: =AA84 -> 8.5368699 | AD84: =AC84/$AC$238% -> 0 | AE84: =AD84 -> 0 | AG84: =AF84/$AF$238% -> 0 | AH84: =AG84 -> 0 | AJ84: =AI84/$AI$238% -> 0 | AK84: =AJ84 -> 0 | AM84: =AL84/$AI$238% -> 0 | AN84: =AM84 -> 0 | AO84: =AB84*$AA$7+AE84*$AD$7+AH84*$AG$7+AK84*$AJ$7+AN84*$AM$7 -> 5.9988815
A86: 28 | B86: Di Bella-Knecht Sonja | C86: 429 | F86: 6 | G86: 21 | I86: 1170 | N86: =SUM(I86:M86) -> 1170 | O86: =A86 -> 28 | P86: 1 | Q86: =D86 -> 0 | R86: =IF((D86)>0,N86,) -> 0 | S86: =E86*0.5*2/3 -> 0 | T86: =IF((E86)>0,N86,) -> 0 | U86: =G86 -> 21 | V86: =IF((F86)>0,N86,) -> 1170 | W86: =H86*10 -> 0 | Y86: =Q86*R86+S86*T86+U86*V86+W86*X86 -> 24570 | Z86: =Y86+Y88 -> 56160 | AA86: =Z86/$Z$238% -> 6.5042818 | AB86: =AA86 -> 6.5042818 | AD86: =AC86/$AC$238% -> 0 | AE86: =AD86 -> 0 | AG86: =AF86/$AF$238% -> 0 | AH86: =AG86 -> 0 | AI86: =Y87+Y89 -> 5040 | AJ86: =AI86/$AI$238% -> 37.5 | AK86: =AJ86 -> 37.5 | AL86: =AB87+AB89 -> 0 | AM86: =AL86/$AI$238% -> 0 | AN86: =AM86 -> 0 | AO86: =AB86*$AA$7+AE86*$AD$7+AH86*$AG$7+AK86*$AJ$7+AN86*$AM$7 -> 6.8228287
F87: 6 | G87: 21 | L87: 75 | M87: 75 | N87: =SUM(I87:M87) -> 150 | O87: 28 | P87: 4 | Q87: =D87 -> 0 | R87: =IF((D87)>0,N87,) -> 0 | S87: =E87*0.5*2/3 -> 0 | T87: =IF((E87)>0,N87,) -> 0 | U87: =G87 -> 21 | V87: =IF((F87)>0,N87,) -> 150 | W87: =H87*10 -> 0 | Y87: =Q87*R87+S87*T87+U87*V87+W87*X87 -> 3150 | AA87: =Z87/$Z$238% -> 0 | AB87: =AA87 -> 0 | AD87: =AC87/$AC$238% -> 0 | AE87: =AD87 -> 0 | AG87: =AF87/$AF$238% -> 0 | AH87: =AG87 -> 0 | AJ87: =AI87/$AI$238% -> 0 | AK87: =AJ87 -> 0 | AM87: =AL87/$AI$238% -> 0 | AN87: =AM87 -> 0 | AO87: =AB87*$AA$7+AE87*$AD$7+AH87*$AG$7+AK87*$AJ$7+AN87*$AM$7 -> 0
C88: 403 | F88: 8 | G88: 27 | I88: 1170 | N88: =SUM(I88:M88) -> 1170 | O88: 28 | P88: 1 | Q88: =D88 -> 0 | R88: =IF((D88)>0,N88,) -> 0 | S88: =E88*0.5*2/3 -> 0 | T88: =IF((E88)>0,N88,) -> 0 | U88: =G88 -> 27 | V88: =IF((F88)>0,N88,) -> 1170 | W88: =H88*10 -> 0 | Y88: =Q88*R88+S88*T88+U88*V88+W88*X88 -> 31590 | AA88: =Z88/$Z$238% -> 0 | AB88: =AA88 -> 0 | AD88: =AC88/$AC$238% -> 0 | AE88: =AD88 -> 0 | AG88: =AF88/$AF$238% -> 0 | AH88: =AG88 -> 0 | AJ88: =AI88/$AI$238% -> 0 | AK88: =AJ88 -> 0 | AM88: =AL88/$AI$238% -> 0 | AN88: =AM88 -> 0 | AO88: =AB88*$AA$7+AE88*$AD$7+AH88*$AG$7+AK88*$AJ$7+AN88*$AM$7 -> 0
F89: 8 | G89: 27 | L89: 35 | M89: 35 | N89: =SUM(I89:M89) -> 70 | O89: 28 | P89: 4 | Q89: =D89 -> 0 | R89: =IF((D89)>0,N89,) -> 0 | S89: =E89*0.5*2/3 -> 0 | T89: =IF((E89)>0,N89,) -> 0 | U89: =G89 -> 27 | V89: =IF((F89)>0,N89,) -> 70 | W89: =H89*10 -> 0 | Y89: =Q89*R89+S89*T89+U89*V89+W89*X89 -> 1890 | AA89: =Z89/$Z$238% -> 0 | AB89: =AA89 -> 0 | AD89: =AC89/$AC$238% -> 0 | AE89: =AD89 -> 0 | AG89: =AF89/$AF$238% -> 0 | AH89: =AG89 -> 0 | AJ89: =AI89/$AI$238% -> 0 | AK89: =AJ89 -> 0 | AM89: =AL89/$AI$238% -> 0 | AN89: =AM89 -> 0 | AO89: =AB89*$AA$7+AE89*$AD$7+AH89*$AG$7+AK89*$AJ$7+AN89*$AM$7 -> 0
A91: 29 | B91: Hansmann Markus | C91: 404 | F91: 1 | G91: 5 | H91: 1 | I91: 1170 | N91: =SUM(I91:M91) -> 1170 | O91: =A91 -> 29 | P91: 1 | Q91: =D91 -> 0 | R91: =IF((D91)>0,N91,) -> 0 | S91: =E91*0.5*2/3 -> 0 | T91: =IF((E91)>0,N91,) -> 0 | U91: =G91 -> 5 | V91: =IF((F91)>0,N91,) -> 1170 | W91: =H91*10*0.5 -> 5 | X91: 1170 | Y91: =Q91*R91+S91*T91+U91*V91+W91*X91 -> 11700 | Z91: =Y91 -> 11700 | AA91: =Z91/$Z$238% -> 1.3550587 | AB91: =AA91 -> 1.3550587 | AD91: =AC91/$AC$238% -> 0 | AE91: =AD91 -> 0 | AG91: =AF91/$AF$238% -> 0 | AH91: =AG91 -> 0 | AJ91: =AI91/$AI$238% -> 0 | AK91: =AJ91 -> 0 | AM91: =AL91/$AI$238% -> 0 | AN91: =AM91 -> 0 | AO91: =AB91*$AA$7+AE91*$AD$7+AH91*$AG$7+AK91*$AJ$7+AN91*$AM$7 -> 0.95220342 | AP91: 1/2 Gewerbe
A93: 30 | B93: Personalfürsorgestiftung der | C93: 407 | F93: 6 | G93: 21 | I93: 1170 | N93: =SUM(I93:M93) -> 1170 | O93: =A93 -> 30 | P93: 1 | Q93: =D93 -> 0 | R93: =IF((D93)>0,N93,) -> 0 | S93: =E93*0.5*2/3 -> 0 | T93: =IF((E93)>0,N93,) -> 0 | U93: =G93 -> 21 | V93: =IF((F93)>0,N93,) -> 1170 | W93: =H93*10 -> 0 | Y93: =Q93*R93+S93*T93+U93*V93+W93*X93 -> 24570 | Z93: =Y93+Y95 -> 49140 | AA93: =Z93/$Z$238% -> 5.6912466 | AB93: =AA93 -> 5.6912466 | AD93: =AC93/$AC$238% -> 0 | AE93: =AD93 -> 0 | AG93: =AF93/$AF$238% -> 0 | AH93: =AG93 -> 0 | AI93: =Y94+Y96 -> 8400 | AJ93: =AI93/$AI$238% -> 62.5 | AK93: =AJ93 -> 62.5 | AL93: =AB94+AB96 -> 0 | AM93: =AL93/$AI$238% -> 0 | AN93: =AM93 -> 0 | AO93: =AB93*$AA$7+AE93*$AD$7+AH93*$AG$7+AK93*$AJ$7+AN93*$AM$7 -> 7.7530081
B94: TISCA/TIARA-Gruppe | F94: 6 | G94: 21 | L94: 100 | M94: 100 | N94: =SUM(I94:M94) -> 200 | O94: 30 | P94: 4 | Q94: =D94 -> 0 | R94: =IF((D94)>0,N94,) -> 0 | S94: =E94*0.5*2/3 -> 0 | T94: =IF((E94)>0,N94,) -> 0 | U94: =G94 -> 21 | V94: =IF((F94)>0,N94,) -> 200 | W94: =H94*10 -> 0 | Y94: =Q94*R94+S94*T94+U94*V94+W94*X94 -> 4200 | AA94: =Z94/$Z$238% -> 0 | AB94: =AA94 -> 0 | AD94: =AC94/$AC$238% -> 0 | AE94: =AD94 -> 0 | AG94: =AF94/$AF$238% -> 0 | AH94: =AG94 -> 0 | AJ94: =AI94/$AI$238% -> 0 | AK94: =AJ94 -> 0 | AM94: =AL94/$AI$238% -> 0 | AN94: =AM94 -> 0 | AO94: =AB94*$AA$7+AE94*$AD$7+AH94*$AG$7+AK94*$AJ$7+AN94*$AM$7 -> 0
C95: 430 | F95: 6 | G95: 21 | I95: 1170 | N95: =SUM(I95:M95) -> 1170 | O95: 30 | P95: 1 | Q95: =D95 -> 0 | R95: =IF((D95)>0,N95,) -> 0 | S95: =E95*0.5*2/3 -> 0 | T95: =IF((E95)>0,N95,) -> 0 | U95: =G95 -> 21 | V95: =IF((F95)>0,N95,) -> 1170 | W95: =H95*10 -> 0 | Y95: =Q95*R95+S95*T95+U95*V95+W95*X95 -> 24570 | AA95: =Z95/$Z$238% -> 0 | AB95: =AA95 -> 0 | AD95: =AC95/$AC$238% -> 0 | AE95: =AD95 -> 0 | AG95: =AF95/$AF$238% -> 0 | AH95: =AG95 -> 0 | AJ95: =AI95/$AI$238% -> 0 | AK95: =AJ95 -> 0 | AM95: =AL95/$AI$238% -> 0 | AN95: =AM95 -> 0 | AO95: =AB95*$AA$7+AE95*$AD$7+AH95*$AG$7+AK95*$AJ$7+AN95*$AM$7 -> 0
F96: 6 | G96: 21 | L96: 100 | M96: 100 | N96: =SUM(I96:M96) -> 200 | O96: 30 | P96: 4 | Q96: =D96 -> 0 | R96: =IF((D96)>0,N96,) -> 0 | S96: =E96*0.5*2/3 -> 0 | T96: =IF((E96)>0,N96,) -> 0 | U96: =G96 -> 21 | V96: =IF((F96)>0,N96,) -> 200 | W96: =H96*10 -> 0 | Y96: =Q96*R96+S96*T96+U96*V96+W96*X96 -> 4200 | AA96: =Z96/$Z$238% -> 0 | AB96: =AA96 -> 0 | AD96: =AC96/$AC$238% -> 0 | AE96: =AD96 -> 0 | AG96: =AF96/$AF$238% -> 0 | AH96: =AG96 -> 0 | AJ96: =AI96/$AI$238% -> 0 | AK96: =AJ96 -> 0 | AM96: =AL96/$AI$238% -> 0 | AN96: =AM96 -> 0 | AO96: =AB96*$AA$7+AE96*$AD$7+AH96*$AG$7+AK96*$AJ$7+AN96*$AM$7 -> 0
A98: 31 | B98: Paradella Sereina und Philip | C98: 418 | F98: 1 | G98: 5 | I98: 1170 | N98: =SUM(I98:M98) -> 1170 | O98: =A98 -> 31 | P98: 1 | Q98: =D98 -> 0 | R98: =IF((D98)>0,N98,) -> 0 | S98: =E98*0.5*2/3 -> 0 | T98: =IF((E98)>0,N98,) -> 0 | U98: =G98 -> 5 | V98: =IF((F98)>0,N98,) -> 1170 | W98: =H98*10 -> 0 | Y98: =Q98*R98+S98*T98+U98*V98+W98*X98 -> 5850 | Z98: =Y98 -> 5850 | AA98: =Z98/$Z$238% -> 0.67752936 | AB98: =AA98 -> 0.67752936 | AD98: =AC98/$AC$238% -> 0 | AE98: =AD98 -> 0 | AG98: =AF98/$AF$238% -> 0 | AH98: =AG98 -> 0 | AJ98: =AI98/$AI$238% -> 0 | AK98: =AJ98 -> 0 | AM98: =AL98/$AI$238% -> 0 | AN98: =AM98 -> 0 | AO98: =AB98*$AA$7+AE98*$AD$7+AH98*$AG$7+AK98*$AJ$7+AN98*$AM$7 -> 0.47610171
A100: 32 | B100: Knechtli Remo & Nadine | C100: 427 | F100: 1 | G100: 5 | I100: 1170 | N100: =SUM(I100:M100) -> 1170 | O100: =A100 -> 32 | P100: 1 | Q100: =D100 -> 0 | R100: =IF((D100)>0,N100,) -> 0 | S100: =E100*0.5*2/3 -> 0 | T100: =IF((E100)>0,N100,) -> 0 | U100: =G100 -> 5 | V100: =IF((F100)>0,N100,) -> 1170 | W100: =H100*10 -> 0 | Y100: =Q100*R100+S100*T100+U100*V100+W100*X100 -> 5850 | Z100: =Y100 -> 5850 | AA100: =Z100/$Z$238% -> 0.67752936 | AB100: =AA100 -> 0.67752936 | AD100: =AC100/$AC$238% -> 0 | AE100: =AD100 -> 0 | AG100: =AF100/$AF$238% -> 0 | AH100: =AG100 -> 0 | AJ100: =AI100/$AI$238% -> 0 | AK100: =AJ100 -> 0 | AM100: =AL100/$AI$238% -> 0 | AN100: =AM100 -> 0 | AO100: =AB100*$AA$7+AE100*$AD$7+AH100*$AG$7+AK100*$AJ$7+AN100*$AM$7 -> 0.47610171
A102: 33 | B102: Zollinger Andrin & Pfändler Leandra | C102: 428 | F102: 1 | G102: 5 | I102: 1170 | N102: =SUM(I102:M102) -> 1170 | O102: =A102 -> 33 | P102: 1 | Q102: =D102 -> 0 | R102: =IF((D102)>0,N102,) -> 0 | S102: =E102*0.5*2/3 -> 0 | T102: =IF((E102)>0,N102,) -> 0 | U102: =G102 -> 5 | V102: =IF((F102)>0,N102,) -> 1170 | W102: =H102*10 -> 0 | Y102: =Q102*R102+S102*T102+U102*V102+W102*X102 -> 5850 | Z102: =Y102 -> 5850 | AA102: =Z102/$Z$238% -> 0.67752936 | AB102: =AA102 -> 0.67752936 | AD102: =AC102/$AC$238% -> 0 | AE102: =AD102 -> 0 | AG102: =AF102/$AF$238% -> 0 | AH102: =AG102 -> 0 | AJ102: =AI102/$AI$238% -> 0 | AK102: =AJ102 -> 0 | AM102: =AL102/$AI$238% -> 0 | AN102: =AM102 -> 0 | AO102: =AB102*$AA$7+AE102*$AD$7+AH102*$AG$7+AK102*$AJ$7+AN102*$AM$7 -> 0.47610171
A104: 34 | B104: Kürsteiner-Küffer Walter | C104: 434 | F104: 1 | G104: 5 | I104: 1170 | N104: =SUM(I104:M104) -> 1170 | O104: =A104 -> 34 | P104: 1 | Q104: =D104 -> 0 | R104: =IF((D104)>0,N104,) -> 0 | S104: =E104*0.5*2/3 -> 0 | T104: =IF((E104)>0,N104,) -> 0 | U104: =G104 -> 5 | V104: =IF((F104)>0,N104,) -> 1170 | W104: =H104*10 -> 0 | Y104: =Q104*R104+S104*T104+U104*V104+W104*X104 -> 5850 | Z104: =Y104 -> 5850 | AA104: =Z104/$Z$238% -> 0.67752936 | AB104: =AA104 -> 0.67752936 | AC104: =Y105 -> 1075 | AD104: =AC104/$AC$238% -> 17.163335 | AE104: =AD104 -> 17.163335 | AG104: =AF104/$AF$238% -> 0 | AH104: =AG104 -> 0 | AJ104: =AI104/$AI$238% -> 0 | AK104: =AJ104 -> 0 | AM104: =AL104/$AI$238% -> 0 | AN104: =AM104 -> 0 | AO104: =AB104*$AA$7+AE104*$AD$7+AH104*$AG$7+AK104*$AJ$7+AN104*$AM$7 -> 2.6923883
F105: 1 | G105: 5 | J105: 215 | N105: =SUM(I105:M105) -> 215 | O105: 34 | P105: 2 | Q105: =D105 -> 0 | R105: =IF((D105)>0,N105,) -> 0 | S105: =E105*0.5*2/3 -> 0 | T105: =IF((E105)>0,N105,) -> 0 | U105: =G105 -> 5 | V105: =IF((F105)>0,N105,) -> 215 | W105: =H105*10 -> 0 | Y105: =Q105*R105+S105*T105+U105*V105+W105*X105 -> 1075 | AA105: =Z105/$Z$238% -> 0 | AB105: =AA105 -> 0 | AD105: =AC105/$AC$238% -> 0 | AE105: =AD105 -> 0 | AG105: =AF105/$AF$238% -> 0 | AH105: =AG105 -> 0 | AJ105: =AI105/$AI$238% -> 0 | AK105: =AJ105 -> 0 | AM105: =AL105/$AI$238% -> 0 | AN105: =AM105 -> 0 | AO105: =AB105*$AA$7+AE105*$AD$7+AH105*$AG$7+AK105*$AJ$7+AN105*$AM$7 -> 0
A107: 35 | B107: Brühlmann Albert | C107: 435 | F107: 1 | G107: 5 | I107: 1170 | N107: =SUM(I107:M107) -> 1170 | O107: =A107 -> 35 | P107: 1 | Q107: =D107 -> 0 | R107: =IF((D107)>0,N107,) -> 0 | S107: =E107*0.5*2/3 -> 0 | T107: =IF((E107)>0,N107,) -> 0 | U107: =G107 -> 5 | V107: =IF((F107)>0,N107,) -> 1170 | W107: =H107*10 -> 0 | Y107: =Q107*R107+S107*T107+U107*V107+W107*X107 -> 5850 | Z107: =Y107 -> 5850 | AA107: =Z107/$Z$238% -> 0.67752936 | AB107: =AA107 -> 0.67752936 | AC107: =Y108 -> 1075 | AD107: =AC107/$AC$238% -> 17.163335 | AE107: =AD107 -> 17.163335 | AG107: =AF107/$AF$238% -> 0 | AH107: =AG107 -> 0 | AJ107: =AI107/$AI$238% -> 0 | AK107: =AJ107 -> 0 | AM107: =AL107/$AI$238% -> 0 | AN107: =AM107 -> 0 | AO107: =AB107*$AA$7+AE107*$AD$7+AH107*$AG$7+AK107*$AJ$7+AN107*$AM$7 -> 2.6923883
F108: 1 | G108: 5 | J108: 215 | N108: =SUM(I108:M108) -> 215 | O108: 35 | P108: 2 | Q108: =D108 -> 0 | R108: =IF((D108)>0,N108,) -> 0 | S108: =E108*0.5*2/3 -> 0 | T108: =IF((E108)>0,N108,) -> 0 | U108: =G108 -> 5 | V108: =IF((F108)>0,N108,) -> 215 | W108: =H108*10 -> 0 | Y108: =Q108*R108+S108*T108+U108*V108+W108*X108 -> 1075 | AA108: =Z108/$Z$238% -> 0 | AB108: =AA108 -> 0 | AD108: =AC108/$AC$238% -> 0 | AE108: =AD108 -> 0 | AG108: =AF108/$AF$238% -> 0 | AH108: =AG108 -> 0 | AJ108: =AI108/$AI$238% -> 0 | AK108: =AJ108 -> 0 | AM108: =AL108/$AI$238% -> 0 | AN108: =AM108 -> 0 | AO108: =AB108*$AA$7+AE108*$AD$7+AH108*$AG$7+AK108*$AJ$7+AN108*$AM$7 -> 0
A110: 36 | B110: Heeb-Neff Monika, Sieber-Neff Barbara | C110: 444 | F110: 5 | G110: 18 | I110: 1170 | N110: =SUM(I110:M110) -> 1170 | O110: =A110 -> 36 | P110: 1 | Q110: =D110 -> 0 | R110: =IF((D110)>0,N110,) -> 0 | S110: =E110*0.5*2/3 -> 0 | T110: =IF((E110)>0,N110,) -> 0 | U110: =G110 -> 18 | V110: =IF((F110)>0,N110,) -> 1170 | W110: =H110*10 -> 0 | Y110: =Q110*R110+S110*T110+U110*V110+W110*X110 -> 21060 | Z110: =Y110 -> 21060 | AA110: =Z110/$Z$238% -> 2.4391057 | AB110: =AA110 -> 2.4391057 | AD110: =AC110/$AC$238% -> 0 | AE110: =AD110 -> 0 | AG110: =AF110/$AF$238% -> 0 | AH110: =AG110 -> 0 | AJ110: =AI110/$AI$238% -> 0 | AK110: =AJ110 -> 0 | AM110: =AL110/$AI$238% -> 0 | AN110: =AM110 -> 0 | AO110: =AB110*$AA$7+AE110*$AD$7+AH110*$AG$7+AK110*$AJ$7+AN110*$AM$7 -> 1.7139662
A112: 37 | B112: Pfander Ruth | C112: 458 | F112: 1 | G112: 5 | I112: 1170 | N112: =SUM(I112:M112) -> 1170 | O112: =A112 -> 37 | P112: 1 | Q112: =D112 -> 0 | R112: =IF((D112)>0,N112,) -> 0 | S112: =E112*0.5*2/3 -> 0 | T112: =IF((E112)>0,N112,) -> 0 | U112: =G112 -> 5 | V112: =IF((F112)>0,N112,) -> 1170 | W112: =H112*10 -> 0 | Y112: =Q112*R112+S112*T112+U112*V112+W112*X112 -> 5850 | Z112: =Y112 -> 5850 | AA112: =Z112/$Z$238% -> 0.67752936 | AB112: =AA112 -> 0.67752936 | AD112: =AC112/$AC$238% -> 0 | AE112: =AD112 -> 0 | AG112: =AF112/$AF$238% -> 0 | AH112: =AG112 -> 0 | AJ112: =AI112/$AI$238% -> 0 | AK112: =AJ112 -> 0 | AM112: =AL112/$AI$238% -> 0 | AN112: =AM112 -> 0 | AO112: =AB112*$AA$7+AE112*$AD$7+AH112*$AG$7+AK112*$AJ$7+AN112*$AM$7 -> 0.47610171
A114: 38 | B114: Wild-Endelin Ursina | C114: 710 | F114: 1 | G114: 5 | I114: 1170 | N114: =SUM(I114:M114) -> 1170 | O114: 38 | U114: =G114 -> 5 | V114: =IF((F114)>0,N114,) -> 1170 | Y114: =Q114*R114+S114*T114+U114*V114+W114*X114 -> 5850 | Z114: =Y114 -> 5850 | AA114: =Z114/$Z$238% -> 0.67752936 | AB114: =AA114 -> 0.67752936 | AC114: =Y115 -> 1075 | AD114: =AC114/$AC$238% -> 17.163335 | AE114: =AD114 -> 17.163335 | AG114: =AF114/$AF$238% -> 0 | AH114: =AG114 -> 0 | AJ114: =AI114/$AI$238% -> 0 | AK114: =AJ114 -> 0 | AM114: =AL114/$AI$238% -> 0 | AN114: =AM114 -> 0 | AO114: =AB114*$AA$7+AE114*$AD$7+AH114*$AG$7+AK114*$AJ$7+AN114*$AM$7 -> 2.6923883
F115: 1 | G115: 5 | J115: 215 | N115: =SUM(I115:M115) -> 215 | O115: 38 | P115: 2 | Q115: =D115 -> 0 | R115: =IF((D115)>0,N115,) -> 0 | S115: =E115*0.5*2/3 -> 0 | T115: =IF((E115)>0,N115,) -> 0 | U115: =G115 -> 5 | V115: =IF((F115)>0,N115,) -> 215 | W115: =H115*10 -> 0 | Y115: =Q115*R115+S115*T115+U115*V115+W115*X115 -> 1075 | AA115: =Z115/$Z$238% -> 0 | AB115: =AA115 -> 0 | AD115: =AC115/$AC$238% -> 0 | AE115: =AD115 -> 0 | AG115: =AF115/$AF$238% -> 0 | AH115: =AG115 -> 0 | AJ115: =AI115/$AI$238% -> 0 | AK115: =AJ115 -> 0 | AM115: =AL115/$AI$238% -> 0 | AN115: =AM115 -> 0 | AO115: =AB115*$AA$7+AE115*$AD$7+AH115*$AG$7+AK115*$AJ$7+AN115*$AM$7 -> 0
A117: 39 | B117: Manser Reto und Angelina | C117: 463 | F117: 1 | G117: 5 | I117: 1170 | N117: =SUM(I117:M117) -> 1170 | O117: =A117 -> 39 | P117: 1 | Q117: =D117 -> 0 | R117: =IF((D117)>0,N117,) -> 0 | S117: =E117*0.5*2/3 -> 0 | T117: =IF((E117)>0,N117,) -> 0 | U117: =G117 -> 5 | V117: =IF((F117)>0,N117,) -> 1170 | W117: =H117*10 -> 0 | Y117: =Q117*R117+S117*T117+U117*V117+W117*X117 -> 5850 | Z117: =Y117 -> 5850 | AA117: =Z117/$Z$238% -> 0.67752936 | AB117: =AA117 -> 0.67752936 | AD117: =AC117/$AC$238% -> 0 | AE117: =AD117 -> 0 | AG117: =AF117/$AF$238% -> 0 | AH117: =AG117 -> 0 | AJ117: =AI117/$AI$238% -> 0 | AK117: =AJ117 -> 0 | AM117: =AL117/$AI$238% -> 0 | AN117: =AM117 -> 0 | AO117: =AB117*$AA$7+AE117*$AD$7+AH117*$AG$7+AK117*$AJ$7+AN117*$AM$7 -> 0.47610171
A119: 40 | B119: Kochgruber Robert | C119: 464 | F119: 1 | G119: 5 | I119: 1170 | N119: =SUM(I119:M119) -> 1170 | O119: =A119 -> 40 | P119: 1 | Q119: =D119 -> 0 | R119: =IF((D119)>0,N119,) -> 0 | S119: =E119*0.5*2/3 -> 0 | T119: =IF((E119)>0,N119,) -> 0 | U119: =G119 -> 5 | V119: =IF((F119)>0,N119,) -> 1170 | W119: =H119*10 -> 0 | Y119: =Q119*R119+S119*T119+U119*V119+W119*X119 -> 5850 | Z119: =Y119 -> 5850 | AA119: =Z119/$Z$238% -> 0.67752936 | AB119: =AA119 -> 0.67752936 | AD119: =AC119/$AC$238% -> 0 | AE119: =AD119 -> 0 | AG119: =AF119/$AF$238% -> 0 | AH119: =AG119 -> 0 | AJ119: =AI119/$AI$238% -> 0 | AK119: =AJ119 -> 0 | AM119: =AL119/$AI$238% -> 0 | AN119: =AM119 -> 0 | AO119: =AB119*$AA$7+AE119*$AD$7+AH119*$AG$7+AK119*$AJ$7+AN119*$AM$7 -> 0.47610171
A121: 41 | B121: StWE-Gemeinschaft Steig | C121: 488 | F121: 25 | G121: 78 | I121: 1170 | N121: =SUM(I121:M121) -> 1170 | O121: =A121 -> 41 | P121: 1 | Q121: =D121 -> 0 | R121: =IF((D121)>0,N121,) -> 0 | S121: =E121*0.5*2/3 -> 0 | T121: =IF((E121)>0,N121,) -> 0 | U121: =G121 -> 78 | V121: =IF((F121)>0,N121,) -> 1170 | W121: =H121*10 -> 0 | Y121: =Q121*R121+S121*T121+U121*V121+W121*X121 -> 91260 | Z121: =Y121 -> 91260 | AA121: =Z121/$Z$238% -> 10.569458 | AB121: =AA121 -> 10.569458 | AD121: =AC121/$AC$238% -> 0 | AE121: =AD121 -> 0 | AG121: =AF121/$AF$238% -> 0 | AH121: =AG121 -> 0 | AJ121: =AI121/$AI$238% -> 0 | AK121: =AJ121 -> 0 | AM121: =AL121/$AI$238% -> 0 | AN121: =AM121 -> 0 | AO121: =AB121*$AA$7+AE121*$AD$7+AH121*$AG$7+AK121*$AJ$7+AN121*$AM$7 -> 7.4271867
A123: 42 | B123: Nef Roland, Caroline Wick-Nef | C123: 491 | F123: 1 | G123: 5 | I123: 1170 | N123: =SUM(I123:M123) -> 1170 | O123: =A123 -> 42 | P123: 1 | Q123: =D123 -> 0 | R123: =IF((D123)>0,N123,) -> 0 | S123: =E123*0.5*2/3 -> 0 | T123: =IF((E123)>0,N123,) -> 0 | U123: =G123 -> 5 | V123: =IF((F123)>0,N123,) -> 1170 | W123: =H123*10 -> 0 | Y123: =Q123*R123+S123*T123+U123*V123+W123*X123 -> 5850 | Z123: =Y123 -> 5850 | AA123: =Z123/$Z$238% -> 0.67752936 | AB123: =AA123 -> 0.67752936 | AD123: =AC123/$AC$238% -> 0 | AE123: =AD123 -> 0 | AG123: =AF123/$AF$238% -> 0 | AH123: =AG123 -> 0 | AJ123: =AI123/$AI$238% -> 0 | AK123: =AJ123 -> 0 | AM123: =AL123/$AI$238% -> 0 | AN123: =AM123 -> 0 | AO123: =AB123*$AA$7+AE123*$AD$7+AH123*$AG$7+AK123*$AJ$7+AN123*$AM$7 -> 0.47610171
A125: 43 | B125: Fuchs Matthias | C125: 492 | F125: 1 | G125: 5 | I125: 1170 | N125: =SUM(I125:M125) -> 1170 | O125: =A125 -> 43 | P125: 1 | Q125: =D125 -> 0 | R125: =IF((D125)>0,N125,) -> 0 | S125: =E125*0.5*2/3 -> 0 | T125: =IF((E125)>0,N125,) -> 0 | U125: =G125 -> 5 | V125: =IF((F125)>0,N125,) -> 1170 | W125: =H125*10 -> 0 | Y125: =Q125*R125+S125*T125+U125*V125+W125*X125 -> 5850 | Z125: =Y125 -> 5850 | AA125: =Z125/$Z$238% -> 0.67752936 | AB125: =AA125 -> 0.67752936 | AD125: =AC125/$AC$238% -> 0 | AE125: =AD125 -> 0 | AG125: =AF125/$AF$238% -> 0 | AH125: =AG125 -> 0 | AJ125: =AI125/$AI$238% -> 0 | AK125: =AJ125 -> 0 | AM125: =AL125/$AI$238% -> 0 | AN125: =AM125 -> 0 | AO125: =AB125*$AA$7+AE125*$AD$7+AH125*$AG$7+AK125*$AJ$7+AN125*$AM$7 -> 0.47610171
A127: 44 | B127: Balsiger-Egli Christoph und Anna | C127: 502 | F127: 1 | G127: 5 | I127: 1170 | N127: =SUM(I127:M127) -> 1170 | O127: =A127 -> 44 | P127: 1 | Q127: =D127 -> 0 | R127: =IF((D127)>0,N127,) -> 0 | S127: =E127*0.5*2/3 -> 0 | T127: =IF((E127)>0,N127,) -> 0 | U127: =G127 -> 5 | V127: =IF((F127)>0,N127,) -> 1170 | Y127: =Q127*R127+S127*T127+U127*V127+W127*X127 -> 5850 | Z127: =Y127 -> 5850 | AA127: =Z127/$Z$238% -> 0.67752936 | AB127: =AA127 -> 0.67752936 | AD127: =AC127/$AC$238% -> 0 | AE127: =AD127 -> 0 | AG127: =AF127/$AF$238% -> 0 | AH127: =AG127 -> 0 | AJ127: =AI127/$AI$238% -> 0 | AK127: =AJ127 -> 0 | AM127: =AL127/$AI$238% -> 0 | AN127: =AM127 -> 0 | AO127: =AB127*$AA$7+AE127*$AD$7+AH127*$AG$7+AK127*$AJ$7+AN127*$AM$7 -> 0.47610171
A129: 45 | B129: Hofmann Erich | C129: 536 | F129: 1 | G129: 5 | I129: 1170 | N129: =SUM(I129:M129) -> 1170 | O129: =A129 -> 45 | P129: 1 | Q129: =D129 -> 0 | R129: =IF((D129)>0,N129,) -> 0 | S129: =E129*0.5*2/3 -> 0 | T129: =IF((E129)>0,N129,) -> 0 | U129: =G129 -> 5 | V129: =IF((F129)>0,N129,) -> 1170 | W129: =H129*10 -> 0 | Y129: =Q129*R129+S129*T129+U129*V129+W129*X129 -> 5850 | Z129: =Y129 -> 5850 | AA129: =Z129/$Z$238% -> 0.67752936 | AB129: =AA129 -> 0.67752936 | AD129: =AC129/$AC$238% -> 0 | AE129: =AD129 -> 0 | AG129: =AF129/$AF$238% -> 0 | AH129: =AG129 -> 0 | AJ129: =AI129/$AI$238% -> 0 | AK129: =AJ129 -> 0 | AM129: =AL129/$AI$238% -> 0 | AN129: =AM129 -> 0 | AO129: =AB129*$AA$7+AE129*$AD$7+AH129*$AG$7+AK129*$AJ$7+AN129*$AM$7 -> 0.47610171
A131: 46 | B131: Ballarda–Hagenbuch Monika Sophie | C131: 540 | F131: 1 | G131: 5 | I131: 1170 | N131: =SUM(I131:M131) -> 1170 | O131: =A131 -> 46 | P131: 1 | Q131: =D131 -> 0 | R131: =IF((D131)>0,N131,) -> 0 | S131: =E131*0.5*2/3 -> 0 | T131: =IF((E131)>0,N131,) -> 0 | U131: =G131 -> 5 | V131: =IF((F131)>0,N131,) -> 1170 | W131: =H131*10 -> 0 | Y131: =Q131*R131+S131*T131+U131*V131+W131*X131 -> 5850 | Z131: =Y131 -> 5850 | AA131: =Z131/$Z$238% -> 0.67752936 | AB131: =AA131 -> 0.67752936 | AD131: =AC131/$AC$238% -> 0 | AE131: =AD131 -> 0 | AF131: =Y132 -> 250 | AG131: =AF131/$AF$238% -> 9.3166568 | AH131: =AG131 -> 9.3166568 | AJ131: =AI131/$AI$238% -> 0 | AK131: =AJ131 -> 0 | AM131: =AL131/$AI$238% -> 0 | AN131: =AM131 -> 0 | AO131: =AB131*$AA$7+AE131*$AD$7+AH131*$AG$7+AK131*$AJ$7+AN131*$AM$7 -> 1.0636386
F132: 1 | G132: 5 | K132: 50 | N132: =SUM(I132:M132) -> 50 | O132: =A132 -> 0 | P132: 3 | Q132: =D132 -> 0 | R132: =IF((D132)>0,N132,) -> 0 | S132: =E132*0.5*2/3 -> 0 | T132: =IF((E132)>0,N132,) -> 0 | U132: =G132 -> 5 | V132: =IF((F132)>0,N132,) -> 50 | W132: =H132*10 -> 0 | Y132: =Q132*R132+S132*T132+U132*V132+W132*X132 -> 250 | AA132: =Z132/$Z$238% -> 0 | AB132: =AA132 -> 0 | AD132: =AC132/$AC$238% -> 0 | AE132: =AD132 -> 0 | AG132: =AF132/$AF$238% -> 0 | AH132: =AG132 -> 0 | AJ132: =AI132/$AI$238% -> 0 | AK132: =AJ132 -> 0 | AM132: =AL132/$AI$238% -> 0 | AN132: =AM132 -> 0 | AO132: =AB132*$AA$7+AE132*$AD$7+AH132*$AG$7+AK132*$AJ$7+AN132*$AM$7 -> 0
A134: 47 | B134: Nänny-Eisenhut Christian und Annemarie | C134: 557 | F134: 1 | G134: 5 | I134: 1170 | N134: =SUM(I134:M134) -> 1170 | O134: =A134 -> 47 | P134: 1 | Q134: =D134 -> 0 | R134: =IF((D134)>0,N134,) -> 0 | S134: =E134*0.5*2/3 -> 0 | T134: =IF((E134)>0,N134,) -> 0 | U134: =G134 -> 5 | V134: =IF((F134)>0,N134,) -> 1170 | W134: =H134*10 -> 0 | Y134: =Q134*R134+S134*T134+U134*V134+W134*X134 -> 5850 | Z134: =Y134+Y135 -> 5860 | AA134: =Z134/$Z$238% -> 0.67868753 | AB134: =AA134 -> 0.67868753 | AD134: =AC134/$AC$238% -> 0 | AE134: =AD134 -> 0 | AG134: =AF134/$AF$238% -> 0 | AH134: =AG134 -> 0 | AJ134: =AI134/$AI$238% -> 0 | AK134: =AJ134 -> 0 | AM134: =AL134/$AI$238% -> 0 | AN134: =AM134 -> 0 | AO134: =AB134*$AA$7+AE134*$AD$7+AH134*$AG$7+AK134*$AJ$7+AN134*$AM$7 -> 0.47691556
C135: 727 | F135: 1 | G135: 1 | I135: 10 | N135: =SUM(I135:M135) -> 10 | O135: =A135 -> 0 | P135: 0 | Q135: =D135 -> 0 | R135: =IF((D135)>0,N135,) -> 0 | S135: =E135*0.5*2/3 -> 0 | T135: =IF((E135)>0,N135,) -> 0 | U135: =G135 -> 1 | V135: =IF((F135)>0,N135,) -> 10 | Y135: =Q135*R135+S135*T135+U135*V135 -> 10 | AA135: =Z135/$Z$238% -> 0 | AB135: =AA135 -> 0 | AD135: =AC135/$AC$238% -> 0 | AE135: =AD135 -> 0 | AG135: =AF135/$AF$238% -> 0 | AH135: =AG135 -> 0 | AJ135: =AI135/$AI$238% -> 0 | AK135: =AJ135 -> 0 | AM135: =AL135/$AI$238% -> 0 | AN135: =AM135 -> 0 | AO135: =AB135*$AA$7+AE135*$AD$7+AH135*$AG$7+AK135*$AJ$7+AN135*$AM$7 -> 0
A137: 48 | B137: Özdemir Mahmut | C137: 560 | F137: 1 | G137: 5 | I137: 1170 | N137: =SUM(I137:M137) -> 1170 | O137: =A137 -> 48 | P137: 1 | Q137: =D137 -> 0 | R137: =IF((D137)>0,N137,) -> 0 | S137: =E137*0.5*2/3 -> 0 | T137: =IF((E137)>0,N137,) -> 0 | U137: =G137 -> 5 | V137: =IF((F137)>0,N137,) -> 1170 | W137: =H137*10 -> 0 | Y137: =Q137*R137+S137*T137+U137*V137+W137*X137 -> 5850 | Z137: =Y137 -> 5850 | AA137: =Z137/$Z$238% -> 0.67752936 | AB137: =AA137 -> 0.67752936 | AD137: =AC137/$AC$238% -> 0 | AE137: =AD137 -> 0 | AF137: =Y138 -> 525 | AG137: =AF137/$AF$238% -> 19.564979 | AH137: =AG137 -> 19.564979 | AJ137: =AI137/$AI$238% -> 0 | AK137: =AJ137 -> 0 | AM137: =AL137/$AI$238% -> 0 | AN137: =AM137 -> 0 | AO137: =AB137*$AA$7+AE137*$AD$7+AH137*$AG$7+AK137*$AJ$7+AN137*$AM$7 -> 1.7099292
F138: 1 | G138: 5 | K138: 105 | N138: =SUM(I138:M138) -> 105 | O138: 48 | P138: 3 | Q138: =D138 -> 0 | R138: =IF((D138)>0,N138,) -> 0 | S138: =E138*0.5*2/3 -> 0 | T138: =IF((E138)>0,N138,) -> 0 | U138: =G138 -> 5 | V138: =IF((F138)>0,N138,) -> 105 | W138: =H138*10 -> 0 | Y138: =Q138*R138+S138*T138+U138*V138+W138*X138 -> 525 | AA138: =Z138/$Z$238% -> 0 | AB138: =AA138 -> 0 | AD138: =AC138/$AC$238% -> 0 | AE138: =AD138 -> 0 | AG138: =AF138/$AF$238% -> 0 | AH138: =AG138 -> 0 | AJ138: =AI138/$AI$238% -> 0 | AK138: =AJ138 -> 0 | AM138: =AL138/$AI$238% -> 0 | AN138: =AM138 -> 0 | AO138: =AB138*$AA$7+AE138*$AD$7+AH138*$AG$7+AK138*$AJ$7+AN138*$AM$7 -> 0
A140: 49 | B140: Osterwalder-Locher Roman und Franziska | C140: 561 | F140: 1 | G140: 5 | I140: 1170 | N140: =SUM(I140:M140) -> 1170 | O140: =A140 -> 49 | P140: 1 | Q140: =D140 -> 0 | R140: =IF((D140)>0,N140,) -> 0 | S140: =E140*0.5*2/3 -> 0 | T140: =IF((E140)>0,N140,) -> 0 | U140: =G140 -> 5 | V140: =IF((F140)>0,N140,) -> 1170 | W140: =H140*10 -> 0 | Y140: =Q140*R140+S140*T140+U140*V140+W140*X140 -> 5850 | Z140: =Y140 -> 5850 | AA140: =Z140/$Z$238% -> 0.67752936 | AB140: =AA140 -> 0.67752936 | AD140: =AC140/$AC$238% -> 0 | AE140: =AD140 -> 0 | AF140: =Y141 -> 375 | AG140: =AF140/$AF$238% -> 13.974985 | AH140: =AG140 -> 13.974985 | AJ140: =AI140/$AI$238% -> 0 | AK140: =AJ140 -> 0 | AM140: =AL140/$AI$238% -> 0 | AN140: =AM140 -> 0 | AO140: =AB140*$AA$7+AE140*$AD$7+AH140*$AG$7+AK140*$AJ$7+AN140*$AM$7 -> 1.3574071
F141: 1 | G141: 5 | K141: 75 | N141: =SUM(I141:M141) -> 75 | O141: 49 | P141: 3 | U141: =G141 -> 5 | V141: 75 | Y141: =Q141*R141+S141*T141+U141*V141+W141*X141 -> 375 | AJ141: =AI141/$AI$238% -> 0 | AK141: =AJ141 -> 0 | AM141: =AL141/$AI$238% -> 0 | AN141: =AM141 -> 0 | AO141: =AB141*$AA$7+AE141*$AD$7+AH141*$AG$7+AK141*$AJ$7+AN141*$AM$7 -> 0
A143: 50 | B143: Zöch-Schüpbach Wolfgang und Nadja | C143: 562 | F143: 1 | G143: 5 | I143: 1170 | N143: =SUM(I143:M143) -> 1170 | O143: =A143 -> 50 | P143: 1 | Q143: =D143 -> 0 | R143: =IF((D143)>0,N143,) -> 0 | S143: =E143*0.5*2/3 -> 0 | T143: =IF((E143)>0,N143,) -> 0 | U143: =G143 -> 5 | V143: =IF((F143)>0,N143,) -> 1170 | W143: =H143*10 -> 0 | Y143: =Q143*R143+S143*T143+U143*V143+W143*X143 -> 5850 | Z143: =Y143 -> 5850 | AA143: =Z143/$Z$238% -> 0.67752936 | AB143: =AA143 -> 0.67752936 | AD143: =AC143/$AC$238% -> 0 | AE143: =AD143 -> 0 | AF143: =Y144 -> 350 | AG143: =AF143/$AF$238% -> 13.043319 | AH143: =AG143 -> 13.043319 | AJ143: =AI143/$AI$238% -> 0 | AK143: =AJ143 -> 0 | AM143: =AL143/$AI$238% -> 0 | AN143: =AM143 -> 0 | AO143: =AB143*$AA$7+AE143*$AD$7+AH143*$AG$7+AK143*$AJ$7+AN143*$AM$7 -> 1.2986534
F144: 1 | G144: 5 | K144: 70 | N144: =SUM(I144:M144) -> 70 | O144: 50 | P144: 3 | Q144: =D144 -> 0 | R144: =IF((D144)>0,N144,) -> 0 | S144: =E144*0.5*2/3 -> 0 | T144: =IF((E144)>0,N144,) -> 0 | U144: =G144 -> 5 | V144: =IF((F144)>0,N144,) -> 70 | W144: =H144*10 -> 0 | Y144: =Q144*R144+S144*T144+U144*V144+W144*X144 -> 350 | AA144: =Z144/$Z$238% -> 0 | AB144: =AA144 -> 0 | AD144: =AC144/$AC$238% -> 0 | AE144: =AD144 -> 0 | AG144: =AF144/$AF$238% -> 0 | AH144: =AG144 -> 0 | AJ144: =AI144/$AI$238% -> 0 | AK144: =AJ144 -> 0 | AM144: =AL144/$AI$238% -> 0 | AN144: =AM144 -> 0 | AO144: =AB144*$AA$7+AE144*$AD$7+AH144*$AG$7+AK144*$AJ$7+AN144*$AM$7 -> 0
A146: 51 | B146: Aemisegger-Kriech Jutta und Peter | C146: 595 | F146: 1 | G146: 5 | I146: 1170 | N146: =SUM(I146:M146) -> 1170 | O146: =A146 -> 51 | P146: 1 | Q146: =D146 -> 0 | R146: =IF((D146)>0,N146,) -> 0 | S146: =E146*0.5*2/3 -> 0 | T146: =IF((E146)>0,N146,) -> 0 | U146: =G146 -> 5 | V146: =IF((F146)>0,N146,) -> 1170 | W146: =H146*10 -> 0 | Y146: =Q146*R146+S146*T146+U146*V146+W146*X146 -> 5850 | Z146: =Y146 -> 5850 | AA146: =Z146/$Z$238% -> 0.67752936 | AB146: =AA146 -> 0.67752936 | AD146: =AC146/$AC$238% -> 0 | AE146: =AD146 -> 0 | AF146: =Y147 -> 425 | AG146: =AF146/$AF$238% -> 15.838317 | AH146: =AG146 -> 15.838317 | AJ146: =AI146/$AI$238% -> 0 | AK146: =AJ146 -> 0 | AM146: =AL146/$AI$238% -> 0 | AN146: =AM146 -> 0 | AO146: =AB146*$AA$7+AE146*$AD$7+AH146*$AG$7+AK146*$AJ$7+AN146*$AM$7 -> 1.4749145
F147: 1 | G147: 5 | K147: 85 | N147: =SUM(I147:M147) -> 85 | O147: 51 | P147: 3 | Q147: =D147 -> 0 | R147: =IF((D147)>0,N147,) -> 0 | S147: =E147*0.5*2/3 -> 0 | T147: =IF((E147)>0,N147,) -> 0 | U147: =G147 -> 5 | V147: =IF((F147)>0,N147,) -> 85 | W147: =H147*10 -> 0 | Y147: =Q147*R147+S147*T147+U147*V147+W147*X147 -> 425 | AA147: =Z147/$Z$238% -> 0 | AB147: =AA147 -> 0 | AD147: =AC147/$AC$238% -> 0 | AE147: =AD147 -> 0 | AG147: =AF147/$AF$238% -> 0 | AH147: =AG147 -> 0 | AJ147: =AI147/$AI$238% -> 0 | AK147: =AJ147 -> 0 | AM147: =AL147/$AI$238% -> 0 | AN147: =AM147 -> 0 | AO147: =AB147*$AA$7+AE147*$AD$7+AH147*$AG$7+AK147*$AJ$7+AN147*$AM$7 -> 0
A149: 52 | B149: Manser-Stöckli Jacqueline und Alfred | C149: 608 | F149: 1 | G149: 5 | I149: 1170 | N149: =SUM(I149:M149) -> 1170 | O149: =A149 -> 52 | P149: 1 | Q149: =D149 -> 0 | R149: =IF((D149)>0,N149,) -> 0 | S149: =E149*0.5*2/3 -> 0 | T149: =IF((E149)>0,N149,) -> 0 | U149: =G149 -> 5 | V149: =IF((F149)>0,N149,) -> 1170 | W149: =H149*10 -> 0 | Y149: =Q149*R149+S149*T149+U149*V149+W149*X149 -> 5850 | Z149: =Y149 -> 5850 | AA149: =Z149/$Z$238% -> 0.67752936 | AB149: =AA149 -> 0.67752936 | AD149: =AC149/$AC$238% -> 0 | AE149: =AD149 -> 0 | AF149: =Y150 -> 525 | AG149: =AF149/$AF$238% -> 19.564979 | AH149: =AG149 -> 19.564979 | AJ149: =AI149/$AI$238% -> 0 | AK149: =AJ149 -> 0 | AM149: =AL149/$AI$238% -> 0 | AN149: =AM149 -> 0 | AO149: =AB149*$AA$7+AE149*$AD$7+AH149*$AG$7+AK149*$AJ$7+AN149*$AM$7 -> 1.7099292
F150: 1 | G150: 5 | K150: 105 | N150: =SUM(I150:M150) -> 105 | O150: 52 | P150: 3 | Q150: =D150 -> 0 | R150: =IF((D150)>0,N150,) -> 0 | S150: =E150*0.5*2/3 -> 0 | T150: =IF((E150)>0,N150,) -> 0 | U150: =G150 -> 5 | V150: =IF((F150)>0,N150,) -> 105 | W150: =H150*10 -> 0 | Y150: =Q150*R150+S150*T150+U150*V150+W150*X150 -> 525 | AA150: =Z150/$Z$238% -> 0 | AB150: =AA150 -> 0 | AD150: =AC150/$AC$238% -> 0 | AE150: =AD150 -> 0 | AG150: =AF150/$AF$238% -> 0 | AH150: =AG150 -> 0 | AJ150: =AI150/$AI$238% -> 0 | AK150: =AJ150 -> 0 | AM150: =AL150/$AI$238% -> 0 | AN150: =AM150 -> 0 | AO150: =AB150*$AA$7+AE150*$AD$7+AH150*$AG$7+AK150*$AJ$7+AN150*$AM$7 -> 0
A152: 53 | B152: Mock Kuno und Manuela | C152: 620 | F152: 1 | G152: 5 | H152: 1 | I152: 1170 | N152: =SUM(I152:M152) -> 1170 | O152: =A152 -> 53 | P152: 1 | Q152: =D152 -> 0 | R152: =IF((D152)>0,N152,) -> 0 | S152: =E152*0.5*2/3 -> 0 | T152: =IF((E152)>0,N152,) -> 0 | U152: =G152 -> 5 | V152: =IF((F152)>0,N152,) -> 1170 | W152: =H152*10*0.5 -> 5 | X152: 1170 | Y152: =Q152*R152+S152*T152+U152*V152+W152*X152 -> 11700 | Z152: =Y152 -> 11700 | AA152: =Z152/$Z$238% -> 1.3550587 | AB152: =AA152 -> 1.3550587 | AD152: =AC152/$AC$238% -> 0 | AE152: =AD152 -> 0 | AG152: =AF152/$AF$238% -> 0 | AH152: =AG152 -> 0 | AJ152: =AI152/$AI$238% -> 0 | AK152: =AJ152 -> 0 | AM152: =AL152/$AI$238% -> 0 | AN152: =AM152 -> 0 | AO152: =AB152*$AA$7+AE152*$AD$7+AH152*$AG$7+AK152*$AJ$7+AN152*$AM$7 -> 0.95220342 | AP152: 1/2 Gewerbe
A154: 54 | B154: Signer Stefan Karl | C154: 193 | D154: 1.7419 | E154: 0.0131 | I154: 1170 | N154: =SUM(I154:M154) -> 1170 | O154: =A154 -> 54 | P154: 1 | Q154: =D154 -> 1.7419 | R154: =IF((D154)>0,N154,) -> 1170 | S154: =E154*0.5*2/3 -> 0.0043666667 | T154: =IF((E154)>0,N154,) -> 1170 | U154: =G154 -> 0 | V154: =IF((F154)>0,N154,) -> 0 | W154: =H154*10 -> 0 | Y154: =Q154*R154+S154*T154+U154*V154+W154*X154 -> 2043.132 | Z154: =Y154+Y155 -> 12573.132 | AA154: =Z154/$Z$238% -> 1.4561822 | AB154: =AA154 -> 1.4561822 | AD154: =AC154/$AC$238% -> 0 | AE154: =AD154 -> 0 | AG154: =AF154/$AF$238% -> 0 | AH154: =AG154 -> 0 | AJ154: =AI154/$AI$238% -> 0 | AK154: =AJ154 -> 0 | AM154: =AL154/$AI$238% -> 0 | AN154: =AM154 -> 0 | AO154: =AB154*$AA$7+AE154*$AD$7+AH154*$AG$7+AK154*$AJ$7+AN154*$AM$7 -> 1.0232632
C155: 590 | F155: 2 | G155: 9 | I155: 1170 | N155: =SUM(I155:M155) -> 1170 | O155: 54 | P155: 1 | Q155: =D155 -> 0 | R155: =IF((D155)>0,N155,) -> 0 | S155: =E155*0.5*2/3 -> 0 | T155: =IF((E155)>0,N155,) -> 0 | U155: =G155 -> 9 | V155: =IF((F155)>0,N155,) -> 1170 | W155: =H155*10*0.5 -> 0 | X155: 1170 | Y155: =Q155*R155+S155*T155+U155*V155+W155*X155 -> 10530 | AA155: =Z155/$Z$238% -> 0 | AB155: =AA155 -> 0 | AD155: =AC155/$AC$238% -> 0 | AE155: =AD155 -> 0 | AG155: =AF155/$AF$238% -> 0 | AH155: =AG155 -> 0 | AJ155: =AI155/$AI$238% -> 0 | AK155: =AJ155 -> 0 | AM155: =AL155/$AI$238% -> 0 | AN155: =AM155 -> 0 | AO155: =AB155*$AA$7+AE155*$AD$7+AH155*$AG$7+AK155*$AJ$7+AN155*$AM$7 -> 0
A157: 55 | B157: Kanton Appenzell A.Rh. | C157: 223 | D157: 0.1136 | I157: 1170 | N157: =SUM(I157:M157) -> 1170 | O157: =A157 -> 55 | P157: 1 | Q157: =D157 -> 0.1136 | R157: =IF((D157)>0,N157,) -> 1170 | S157: =E157*0.5*2/3 -> 0 | T157: =IF((E157)>0,N157,) -> 0 | U157: =G157 -> 0 | V157: =IF((F157)>0,N157,) -> 0 | W157: =H157*10 -> 0 | Y157: =Q157*R157+S157*T157+U157*V157+W157*X157 -> 132.912 | Z157: =Y157 -> 132.912 | AA157: =Z157/$Z$238% -> 0.015393467 | AB157: =AA157 -> 0.015393467 | AD157: =AC157/$AC$238% -> 0 | AE157: =AD157 -> 0 | AG157: =AF157/$AF$238% -> 0 | AH157: =AG157 -> 0 | AJ157: =AI157/$AI$238% -> 0 | AK157: =AJ157 -> 0 | AM157: =AL157/$AI$238% -> 0 | AN157: =AM157 -> 0 | AO157: =AB157*$AA$7+AE157*$AD$7+AH157*$AG$7+AK157*$AJ$7+AN157*$AM$7 -> 0.010817031
...

Sheet Adressen
K1: Sanierung Steig | M1: Unterhalt | Q1: Kassier, Bühler_18.07.2026/grc
K2: Kostensatz [1%] | L2: 0 | M2: Kostensatz [1%] | N2: 100
K3: Mindesbeitrag | L3: 20 | M3: Mindesbeitrag | N3: 20
A5: Mitglied-nr | B5: M_F | C5: Vorname | D5: Name1 | E5: Name2 | F5: Adresse | G5: PLZ | H5: Wohnort | I5: Anrede | J5: Anteil T1 | K5: Kosten T1 | L5: Anteil | M5: Kosten | N5: GB-Nr. | O5: Email | P5: Bemerkungen | Q5: abmeldugn HV
A6: 1 | B6: Herr und Frau | C6: Urs und Heidi | D6: Freund | E6: -Fuster | F6: Steigstrasse 3 | G6: 9055 | H6: Bühler | I6: e Herr und Frau | J6: =Perimeter!AB12 -> 1.303207 | K6: =ROUND(IF(J6*$L$2<$L$3,$L$3,J6*$L$2),1) -> 20 | L6: =Perimeter!AO12 -> 1.5806531 | M6: =ROUND(IF(L6*$N$2<$N$3,$N$3,L6*$N$2),1) -> 158.1 | N6: 85
A7: 2 | B7: Frau | C7: Martina | D7: Egli | F7: Gern 27 | G7: 9055 | H7: Bühler | I7: e Frau | J7: =Perimeter!AB16 -> 0.43296836 | K7: =ROUND(IF(J7*$L$2<$L$3,$L$3,J7*$L$2),1) -> 20 | L7: =Perimeter!AO16 -> 1.4708422 | M7: =ROUND(IF(L7*$N$2<$N$3,$N$3,L7*$N$2),1) -> 147.1 | N7: 87, 325 | P7: neue Aufteilung
A8: 3 | B8: An die | C8: Einwohnergemeinde Bühler | F8: Dorfstrasse 42 | G8: 9055 | H8: Bühler | I8: e Damen und Herren | J8: =Perimeter!AB21 -> 0.72574912 | K8: =ROUND(IF(J8*$L$2<$L$3,$L$3,J8*$L$2),1) -> 20 | L8: =Perimeter!AO21 -> 0.50998587 | M8: =ROUND(IF(L8*$N$2<$N$3,$N$3,L8*$N$2),1) -> 51 | N8: 220, 268, 270
A9: 4 | B9: Herr | C9: Robert + Maya | D9: Sporn | E9: Trochsler | F9: Steigstrasse 12 | G9: 9055 | H9: Bühler | I9: e Herr und Frau | J9: =Perimeter!AB24 -> 0.67752936 | K9: =ROUND(IF(J9*$L$2<$L$3,$L$3,J9*$L$2),1) -> 20 | L9: =Perimeter!AO24 -> 0.47610171 | M9: =ROUND(IF(L9*$N$2<$N$3,$N$3,L9*$N$2),1) -> 47.6 | N9: 190
A10: 5 | B10: Frau | C10: Dr. Ingrid | D10: Jent | E10: -Sörensen | F10: Alte Landstrasse 84 | G10: 8700 | H10: Küsnacht | I10: e Frau | J10: =Perimeter!AB26 -> 0.88134374 | K10: =ROUND(IF(J10*$L$2<$L$3,$L$3,J10*$L$2),1) -> 20 | L10: =Perimeter!AO26 -> 0.61932263 | M10: =ROUND(IF(L10*$N$2<$N$3,$N$3,L10*$N$2),1) -> 61.9 | N10: 191, 192 | O10: j.jent@bluewin.ch
A11: 6 | B11: Frau | C11: Yvonne | D11: Hörler | F11: Lüdenstrasse 25 | G11: 8500 | H11: Frauenfeld | I11: e Frau | J11: =Perimeter!AB29 -> 0.84952696 | K11: =ROUND(IF(J11*$L$2<$L$3,$L$3,J11*$L$2),1) -> 20 | L11: =Perimeter!AO29 -> 0.59696489 | M11: =ROUND(IF(L11*$N$2<$N$3,$N$3,L11*$N$2),1) -> 59.7 | N11: 194
A12: 7 | B12: Geschätzte | C12: Freequenc AG | F12: Greifenstrasse 8 | G12: 9000 | H12: St. Gallen | I12: e Damen und Herren | J12: =Perimeter!AB31 -> 1.8970822 | K12: =ROUND(IF(J12*$L$2<$L$3,$L$3,J12*$L$2),1) -> 20 | L12: =Perimeter!AO31 -> 1.3330848 | M12: =ROUND(IF(L12*$N$2<$N$3,$N$3,L12*$N$2),1) -> 133.3 | N12: 195
A13: 8 | B13: Herr und Frau | C13: Willi und Katharina | D13: Suhner | E13: -Eisenhut | F13: Steigstrasse 21 | G13: 9055 | H13: Bühler | I13: e Herr und Frau | J13: =Perimeter!AB33 -> 0.67752936 | K13: =ROUND(IF(J13*$L$2<$L$3,$L$3,J13*$L$2),1) -> 20 | L13: =Perimeter!AO33 -> 0.47610171 | M13: =ROUND(IF(L13*$N$2<$N$3,$N$3,L13*$N$2),1) -> 47.6 | N13: 196
A14: 9 | B14: Herr | C14: Michael | D14: Manetsch | F14: Churfirstenblick 10 | G14: 8758 | H14: Obstalden | I14: er Herr | J14: =Perimeter!AB35 -> 1.2195528 | K14: =ROUND(IF(J14*$L$2<$L$3,$L$3,J14*$L$2),1) -> 20 | L14: =Perimeter!AO35 -> 0.85698308 | M14: =ROUND(IF(L14*$N$2<$N$3,$N$3,L14*$N$2),1) -> 85.7 | N14: 199
A15: 10 | B15: Herr Heinz Schiess | C15: Herr Peter Schiess | F15: Wässerwiesenstrasse 91 | G15: 8408 | H15: Winterthur | I15: e Herren | J15: =Perimeter!AB37 -> 1.2431309 | K15: =ROUND(IF(J15*$L$2<$L$3,$L$3,J15*$L$2),1) -> 20 | L15: =Perimeter!AO37 -> 0.87355142 | M15: =ROUND(IF(L15*$N$2<$N$3,$N$3,L15*$N$2),1) -> 87.4 | N15: 200 | O15: heinz.schiess@bluewin.ch
A16: 11 | B16: Herr | C16: Roland | D16: Ulmann | E16: -Manser | F16: Steigstrasse 43 | G16: 9055 | H16: Bühler | I16: er Herr | J16: =Perimeter!AB39 -> 0.67752936 | K16: =ROUND(IF(J16*$L$2<$L$3,$L$3,J16*$L$2),1) -> 20 | L16: =Perimeter!AO39 -> 0.47610171 | M16: =ROUND(IF(L16*$N$2<$N$3,$N$3,L16*$N$2),1) -> 47.6 | N16: 201
A17: 12 | B17: Herr und Frau | C17: Lukas und Susanne | D17: Joller | E17: -Inhelder | F17: Steigstrasse 42 | G17: 9055 | H17: Bühler | I17: e Herr und Frau | J17: =Perimeter!AB41 -> 1.3687538 | K17: =ROUND(IF(J17*$L$2<$L$3,$L$3,J17*$L$2),1) -> 20 | L17: =Perimeter!AO41 -> 0.96182702 | M17: =ROUND(IF(L17*$N$2<$N$3,$N$3,L17*$N$2),1) -> 96.2 | N17: 101, 202
A18: 13 | B18: Herr Smail Hadjidj | C18: Frau Harlis Schweizer | F18: Steigstrasse 36 | G18: 9055 | H18: Bühler | I18: e Frau Schweizer und Herr Hadjidj | J18: =Perimeter!AB44 -> 0.67752936 | K18: =ROUND(IF(J18*$L$2<$L$3,$L$3,J18*$L$2),1) -> 20 | L18: =Perimeter!AO44 -> 0.47610171 | M18: =ROUND(IF(L18*$N$2<$N$3,$N$3,L18*$N$2),1) -> 47.6 | N18: 203
A19: 14 | B19: Herr und Frau | C19: Klaus + Brigitte | D19: Schobel | F19: Steigstrasse 32 | G19: 9055 | H19: Bühler | I19: e Herr und Frau | J19: =Perimeter!AB46 -> 0.67752936 | K19: =ROUND(IF(J19*$L$2<$L$3,$L$3,J19*$L$2),1) -> 20 | L19: =Perimeter!AO46 -> 0.47610171 | M19: =ROUND(IF(L19*$N$2<$N$3,$N$3,L19*$N$2),1) -> 47.6 | N19: 204
A20: 15 | B20: Herr | C20: Ernst | D20: Schneider | F20: Krans-Lachenstr. 45 | G20: 9450 | H20: Altstätten | I20: er Herr | J20: =Perimeter!AB48 -> 0.82026672 | K20: =ROUND(IF(J20*$L$2<$L$3,$L$3,J20*$L$2),1) -> 20 | L20: =Perimeter!AO48 -> 0.57640364 | M20: =ROUND(IF(L20*$N$2<$N$3,$N$3,L20*$N$2),1) -> 57.6 | N20: 206, 263, 641, 658
A21: 16 | B21: Herr | C21: Hans | D21: Inauen | E21: -Fässler | F21: Steigbach 80 | G21: 9055 | H21: Bühler | I21: er Herr | J21: =Perimeter!AB53 -> 2.6181336 | K21: =ROUND(IF(J21*$L$2<$L$3,$L$3,J21*$L$2),1) -> 20 | L21: =Perimeter!AO53 -> 1.8397696 | M21: =ROUND(IF(L21*$N$2<$N$3,$N$3,L21*$N$2),1) -> 184 | N21: 217, 219
A22: 17 | B22: Frau | C22: Rebekka | D22: Benz | E22: -Koller | F22: Steigstrasse 71 | G22: 9055 | H22: Bühler | I22: e Frau | J22: =Perimeter!AB57 -> 2.0193347 | K22: =ROUND(IF(J22*$L$2<$L$3,$L$3,J22*$L$2),1) -> 20 | L22: =Perimeter!AO57 -> 1.9674365 | M22: =ROUND(IF(L22*$N$2<$N$3,$N$3,L22*$N$2),1) -> 196.7 | N22: 218, 264, 596
A23: 18 | B23: Herr | C23: Willi | D23: Staub | F23: Trogenerstrasse 61 | G23: 9055 | H23: Bühler | I23: er Herr | J23: =Perimeter!AB63 -> 3.3876468 | K23: =ROUND(IF(J23*$L$2<$L$3,$L$3,J23*$L$2),1) -> 20 | L23: =Perimeter!AO63 -> 2.3805085 | M23: =ROUND(IF(L23*$N$2<$N$3,$N$3,L23*$N$2),1) -> 238.1 | N23: 221
A24: 19 | B24: Herr und Frau | C24: Edwin und Irene | D24: Manetsch | E24: -Kessler | F24: Steigstrasse 56 | G24: 9055 | H24: Bühler | I24: e Herr und Frau | J24: =Perimeter!AB65 -> 2.5746116 | K24: =ROUND(IF(J24*$L$2<$L$3,$L$3,J24*$L$2),1) -> 20 | L24: =Perimeter!AO65 -> 1.8091865 | M24: =ROUND(IF(L24*$N$2<$N$3,$N$3,L24*$N$2),1) -> 180.9 | N24: 222
A25: 20 | B25: Frau | C25: Margrith | D25: Nicolet | E25: -Zuberbühler | F25: Chemin de Vert-Pré 8 | G25: 1213 | H25: Petit-Lancy | I25: e Frau | J25: =Perimeter!AB67 -> 0.44018179 | K25: =ROUND(IF(J25*$L$2<$L$3,$L$3,J25*$L$2),1) -> 20 | L25: =Perimeter!AO67 -> 0.30931693 | M25: =ROUND(IF(L25*$N$2<$N$3,$N$3,L25*$N$2),1) -> 30.9 | N25: 259, 262, 664, 665
A26: 21 | B26: Frau | C26: Claudia | D26: Graber | F26: Am Rähn 31 | G26: 9055 | H26: Bühler | I26: e Frau | J26: =Perimeter!AB70 -> 0.83995573 | K26: =ROUND(IF(J26*$L$2<$L$3,$L$3,J26*$L$2),1) -> 20 | L26: =Perimeter!AO70 -> 0.59023916 | M26: =ROUND(IF(L26*$N$2<$N$3,$N$3,L26*$N$2),1) -> 59 | N26: 260; 674
A27: 22 | B27: Herr und Frau | C27: Viktor und Andrea | D27: Meier | E27: -Mittelholzer | F27: Steigstrasse 51 | G27: 9055 | H27: Bühler | I27: e Herr und Frau | J27: =Perimeter!AB73 -> 0.67752936 | K27: =ROUND(IF(J27*$L$2<$L$3,$L$3,J27*$L$2),1) -> 20 | L27: =Perimeter!AO73 -> 0.47610171 | M27: =ROUND(IF(L27*$N$2<$N$3,$N$3,L27*$N$2),1) -> 47.6 | N27: 378 | O27: meier-steig@bluewin.ch
A28: 23 | B28: Herr | C28: Johannes | D28: Koller | F28: Walchestrasse 27 | G28: 8006 | H28: Zürich | I28: er Herr | J28: =Perimeter!AB79 -> 0.67752936 | K28: =ROUND(IF(J28*$L$2<$L$3,$L$3,J28*$L$2),1) -> 20 | L28: =Perimeter!AO79 -> 0.47610171 | M28: =ROUND(IF(L28*$N$2<$N$3,$N$3,L28*$N$2),1) -> 47.6 | N28: 381 | O28: jokoller@netsurfer.ch
A29: 24 | B29: Herr und Frau | C29: Albert und Klara | D29: Zimmermann | E29: -Ulmann | F29: Steigstrasse 45 | G29: 9055 | H29: Bühler | I29: e Herr und Frau | J29: =Perimeter!AB75 -> 0.67752936 | K29: =ROUND(IF(J29*$L$2<$L$3,$L$3,J29*$L$2),1) -> 20 | L29: =Perimeter!AO75 -> 0.47610171 | M29: =ROUND(IF(L29*$N$2<$N$3,$N$3,L29*$N$2),1) -> 47.6 | N29: 383
A30: 25 | B30: Herr | C30: Johann | D30: Isenring | F30: Steigstrasse 47 | G30: 9055 | H30: Bühler | I30: er Herr | J30: =Perimeter!AB77 -> 0.67752936 | K30: =ROUND(IF(J30*$L$2<$L$3,$L$3,J30*$L$2),1) -> 20 | L30: =Perimeter!AO77 -> 0.47610171 | M30: =ROUND(IF(L30*$N$2<$N$3,$N$3,L30*$N$2),1) -> 47.6 | N30: 384
A31: 26 | B31: Herr und Frau | C31: Ernst und Emilia | D31: Schefer | E31: -Koller | F31: Oberer Mempfel 14 | G31: 9055 | H31: Bühler | I31: e Herr und Frau | J31: =Perimeter!AB81 -> 0.67752936 | K31: =ROUND(IF(J31*$L$2<$L$3,$L$3,J31*$L$2),1) -> 20 | L31: =Perimeter!AO81 -> 2.6923883 | M31: =ROUND(IF(L31*$N$2<$N$3,$N$3,L31*$N$2),1) -> 269.2 | N31: 388
A32: 27 | B32: Herr Bernhard Fürer | C32: Herr Karl Fürer | F32: Hochbühlstrasse 24 | G32: 9532 | H32: Rickenbach b. Will | I32: er Herr | J32: =Perimeter!AB84 -> 8.5368699 | K32: =ROUND(IF(J32*$L$2<$L$3,$L$3,J32*$L$2),1) -> 20 | L32: =Perimeter!AO84 -> 5.9988815 | M32: =ROUND(IF(L32*$N$2<$N$3,$N$3,L32*$N$2),1) -> 599.9 | N32: 421
A33: 28 | B33: Frau | C33: Sonja | D33: Di Bella | E33: -Knecht | F33: Böhlstrasse 16 | G33: 9055 | H33: Bühler | I33: e Frau | J33: =Perimeter!AB86 -> 6.5042818 | K33: =ROUND(IF(J33*$L$2<$L$3,$L$3,J33*$L$2),1) -> 20 | L33: =Perimeter!AO86 -> 6.8228287 | M33: =ROUND(IF(L33*$N$2<$N$3,$N$3,L33*$N$2),1) -> 682.3 | N33: 403, 429
A34: 29 | B34: Herr | C34: Markus | D34: Hansmann | F34: Böhlstrasse 26 | G34: 9055 | H34: Bühler | I34: er Herr | J34: =Perimeter!AB91 -> 1.3550587 | K34: =ROUND(IF(J34*$L$2<$L$3,$L$3,J34*$L$2),1) -> 20 | L34: =Perimeter!AO91 -> 0.95220342 | M34: =ROUND(IF(L34*$N$2<$N$3,$N$3,L34*$N$2),1) -> 95.2 | N34: 404
A35: 30 | B35: Personalfürsorgestiftung | C35: TISCA/TIARA-Gruppe | F35: Schwägalpstrasse 111 | G35: 9107 | H35: Urnäsch | I35: e Damen und Herren | J35: =Perimeter!AB93 -> 5.6912466 | K35: =ROUND(IF(J35*$L$2<$L$3,$L$3,J35*$L$2),1) -> 20 | L35: =Perimeter!AO93 -> 7.7530081 | M35: =ROUND(IF(L35*$N$2<$N$3,$N$3,L35*$N$2),1) -> 775.3 | N35: 407, 430
A36: 31 | B36: Herr und Frau | C36: Philip und Seraina | D36: Pradella | F36: Steigstrasse 62 | G36: 9055 | H36: Bühler | I36: e Herr und Frau | J36: =Perimeter!AB98 -> 0.67752936 | K36: =ROUND(IF(J36*$L$2<$L$3,$L$3,J36*$L$2),1) -> 20 | L36: =Perimeter!AO98 -> 0.47610171 | M36: =ROUND(IF(L36*$N$2<$N$3,$N$3,L36*$N$2),1) -> 47.6 | N36: 418
A37: 32 | B37: Herr und Frau | C37: Remo & Nadine | D37: Knechtle | F37: Steigwaldstrasse 29 | G37: 9055 | H37: Bühler | I37: e Herr und Frau | J37: =Perimeter!AB100 -> 0.67752936 | K37: =ROUND(IF(J37*$L$2<$L$3,$L$3,J37*$L$2),1) -> 20 | L37: =Perimeter!AO100 -> 0.47610171 | M37: =ROUND(IF(L37*$N$2<$N$3,$N$3,L37*$N$2),1) -> 47.6 | N37: 427 | P37: von E. Kunz übernommen
A38: 33 | B38: Herr Zollinger Andrin | C38: Frau Pfändler Leandra | F38: Steigstrasse 24 | G38: 9055 | H38: Bühler | I38: e Herr und Frau | J38: =Perimeter!AB102 -> 0.67752936 | K38: =ROUND(IF(J38*$L$2<$L$3,$L$3,J38*$L$2),1) -> 20 | L38: =Perimeter!AO102 -> 0.47610171 | M38: =ROUND(IF(L38*$N$2<$N$3,$N$3,L38*$N$2),1) -> 47.6 | N38: 428
A39: 34 | B39: Herr und Frau | C39: Walter + Verena | D39: Kürsteiner | E39: -Küffer | F39: Oberer Mempfel 10 | G39: 9055 | H39: Bühler | I39: e Herr und Frau | J39: =Perimeter!AB104 -> 0.67752936 | K39: =ROUND(IF(J39*$L$2<$L$3,$L$3,J39*$L$2),1) -> 20 | L39: =Perimeter!AO104 -> 2.6923883 | M39: =ROUND(IF(L39*$N$2<$N$3,$N$3,L39*$N$2),1) -> 269.2 | N39: 434 | O39: wkuersteiner@bluewin.ch
A40: 35 | B40: Herr | C40: Albert | D40: Brühlmann | F40: Oberer Mempfel 12 | G40: 9055 | H40: Bühler | I40: er Herr | J40: =Perimeter!AB107 -> 0.67752936 | K40: =ROUND(IF(J40*$L$2<$L$3,$L$3,J40*$L$2),1) -> 20 | L40: =Perimeter!AO107 -> 2.6923883 | M40: =ROUND(IF(L40*$N$2<$N$3,$N$3,L40*$N$2),1) -> 269.2 | N40: 435
A41: 36 | B41: Frau | C41: Monika | D41: Heeb | E41: -Neff | F41: Spitalstrasse 7 | G41: 9652 | H41: Neu St. Johann | I41: e Frau | J41: =Perimeter!AB110 -> 2.4391057 | K41: =ROUND(IF(J41*$L$2<$L$3,$L$3,J41*$L$2),1) -> 20 | L41: =Perimeter!AO110 -> 1.7139662 | M41: =ROUND(IF(L41*$N$2<$N$3,$N$3,L41*$N$2),1) -> 171.4 | N41: 444 | P41: von Eltern übernommen
A42: 37 | B42: Frau | C42: Ruth | D42: Pfander | F42: Steigstrasse 34 | G42: 9055 | H42: Bühler | I42: e Frau | J42: =Perimeter!AB112 -> 0.67752936 | K42: =ROUND(IF(J42*$L$2<$L$3,$L$3,J42*$L$2),1) -> 20 | L42: =Perimeter!AO112 -> 0.47610171 | M42: =ROUND(IF(L42*$N$2<$N$3,$N$3,L42*$N$2),1) -> 47.6 | N42: 458
A43: 38 | B43: Frau | C43: Ursina | D43: Wild | E43: -Enderlin | F43: Oberer Mempfel 16 | G43: 9055 | H43: Bühler | I43: e Frau | J43: =Perimeter!AB114 -> 0.67752936 | K43: =ROUND(IF(J43*$L$2<$L$3,$L$3,J43*$L$2),1) -> 20 | L43: =Perimeter!AO114 -> 2.6923883 | M43: =ROUND(IF(L43*$N$2<$N$3,$N$3,L43*$N$2),1) -> 269.2 | N43: 710 | P43: neues Mitglied
A44: 39 | B44: Herr und Frau | C44: Reto und Angelina | D44: Manser | F44: Böhlstrasse 23 | G44: 9055 | H44: Bühler | I44: e Herr und Frau | J44: =Perimeter!AB117 -> 0.67752936 | K44: =ROUND(IF(J44*$L$2<$L$3,$L$3,J44*$L$2),1) -> 20 | L44: =Perimeter!AO117 -> 0.47610171 | M44: =ROUND(IF(L44*$N$2<$N$3,$N$3,L44*$N$2),1) -> 47.6 | N44: 463
A45: 40 | B45: Herr | C45: Robert | D45: Kochgruber | F45: Langacker 6 | G45: 9065 | H45: Gais | I45: er Herr | J45: =Perimeter!AB119 -> 0.67752936 | K45: =ROUND(IF(J45*$L$2<$L$3,$L$3,J45*$L$2),1) -> 20 | L45: =Perimeter!AO119 -> 0.47610171 | M45: =ROUND(IF(L45*$N$2<$N$3,$N$3,L45*$N$2),1) -> 47.6 | N45: 464
A46: 41 | B46: Geschätzte | C46: c/o aro immo ag | D46: STWEG Steigstrasse 39/41 | E46: Lukas Kunzmann | F46: Kasernenstrasse 4 | G46: 9100 | H46: Herisau | I46: er Herr | J46: =Perimeter!AB121 -> 10.569458 | K46: =ROUND(IF(J46*$L$2<$L$3,$L$3,J46*$L$2),1) -> 20 | L46: =Perimeter!AO121 -> 7.4271867 | M46: =ROUND(IF(L46*$N$2<$N$3,$N$3,L46*$N$2),1) -> 742.7 | N46: 488
A47: 42 | B47: Frau | C47: Caroline | D47: Wick-Nef | F47: Eggstrasse 24 | G47: 9055 | H47: Bühler | I47: e Frau | J47: =Perimeter!AB123 -> 0.67752936 | K47: =ROUND(IF(J47*$L$2<$L$3,$L$3,J47*$L$2),1) -> 20 | L47: =Perimeter!AO123 -> 0.47610171 | M47: =ROUND(IF(L47*$N$2<$N$3,$N$3,L47*$N$2),1) -> 47.6 | N47: 491
A48: 43 | B48: Herr | C48: Matthias | D48: Fuchs | F48: Steigstrasse 58 | G48: 9055 | H48: Bühler | I48: er Herr | J48: =Perimeter!AB125 -> 0.67752936 | K48: =ROUND(IF(J48*$L$2<$L$3,$L$3,J48*$L$2),1) -> 20 | L48: =Perimeter!AO125 -> 0.47610171 | M48: =ROUND(IF(L48*$N$2<$N$3,$N$3,L48*$N$2),1) -> 47.6 | N48: 492
A49: 44 | B49: Herr und Frau | C49: Christoph und Anna | D49: Balsiger | E49: -Egli | F49: Steigstrasse 67 | G49: 9055 | H49: Bühler | I49: e Herr und Frau | J49: =Perimeter!AB127 -> 0.67752936 | K49: =ROUND(IF(J49*$L$2<$L$3,$L$3,J49*$L$2),1) -> 20 | L49: =Perimeter!AO127 -> 0.47610171 | M49: =ROUND(IF(L49*$N$2<$N$3,$N$3,L49*$N$2),1) -> 47.6 | N49: 502
A50: 45 | B50: Herr | C50: Erich | D50: Hofmann | F50: Rebacher 1 | G50: 8627 | H50: Grüningen | I50: er Herr | J50: =Perimeter!AB129 -> 0.67752936 | K50: =ROUND(IF(J50*$L$2<$L$3,$L$3,J50*$L$2),1) -> 20 | L50: =Perimeter!AO129 -> 0.47610171 | M50: =ROUND(IF(L50*$N$2<$N$3,$N$3,L50*$N$2),1) -> 47.6 | N50: 536 | P50: Richard Rechsteiner 2020 verstorben
A51: 46 | B51: Frau | C51: Monika | D51: Baliarda | E51: -Hagenbuch | F51: Böhlstrasse 1 | G51: 9055 | H51: Bühler | I51: e Frau | J51: =Perimeter!AB131 -> 0.67752936 | K51: =ROUND(IF(J51*$L$2<$L$3,$L$3,J51*$L$2),1) -> 20 | L51: =Perimeter!AO131 -> 1.0636386 | M51: =ROUND(IF(L51*$N$2<$N$3,$N$3,L51*$N$2),1) -> 106.4 | N51: 540
A52: 47 | B52: Herr und Frau | C52: Christian und Annemarie | D52: Nänny | E52: -Eisenhut | F52: Steigstrasse 2 | G52: 9055 | H52: Bühler | I52: e Herr und Frau | J52: =Perimeter!AB134 -> 0.67868753 | K52: =ROUND(IF(J52*$L$2<$L$3,$L$3,J52*$L$2),1) -> 20 | L52: =Perimeter!AO134 -> 0.47691556 | M52: =ROUND(IF(L52*$N$2<$N$3,$N$3,L52*$N$2),1) -> 47.7 | N52: 187; 557 | O52: naenny.scheienhaus@bluewin.ch
A53: 48 | B53: Herr | C53: Mahmut | D53: Özdemir | F53: Böhlstrasse 5 | G53: 9055 | H53: Bühler | I53: er Herr | J53: =Perimeter!AB137 -> 0.67752936 | K53: =ROUND(IF(J53*$L$2<$L$3,$L$3,J53*$L$2),1) -> 20 | L53: =Perimeter!AO137 -> 1.7099292 | M53: =ROUND(IF(L53*$N$2<$N$3,$N$3,L53*$N$2),1) -> 171 | N53: 560
A54: 49 | B54: Herr und Frau | C54: Roman und Franziska | D54: Osterwalder | E54: -Locher | F54: Böhlstrasse 3 | G54: 9055 | H54: Bühler | I54: e Herr und Frau | J54: =Perimeter!AB140 -> 0.67752936 | K54: =ROUND(IF(J54*$L$2<$L$3,$L$3,J54*$L$2),1) -> 20 | L54: =Perimeter!AO140 -> 1.3574071 | M54: =ROUND(IF(L54*$N$2<$N$3,$N$3,L54*$N$2),1) -> 135.7 | N54: 561
A55: 50 | B55: Herr und Frau | C55: Wolfgang + Nadia | D55: Zöch | E55: -Schüpbach | F55: Böhlstrasse 11 | G55: 9055 | H55: Bühler | I55: er Herr | J55: =Perimeter!AB143 -> 0.67752936 | K55: =ROUND(IF(J55*$L$2<$L$3,$L$3,J55*$L$2),1) -> 20 | L55: =Perimeter!AO143 -> 1.2986534 | M55: =ROUND(IF(L55*$N$2<$N$3,$N$3,L55*$N$2),1) -> 129.9 | N55: 562
A56: 51 | B56: Herr und Frau | C56: Peter und Jutta | D56: Aemisegger | E56: - Kriech | F56: Böhlstrasse 9 | G56: 9055 | H56: Bühler | I56: e Herr und Frau | J56: =Perimeter!AB146 -> 0.67752936 | K56: =ROUND(IF(J56*$L$2<$L$3,$L$3,J56*$L$2),1) -> 20 | L56: =Perimeter!AO146 -> 1.4749145 | M56: =ROUND(IF(L56*$N$2<$N$3,$N$3,L56*$N$2),1) -> 147.5 | N56: 595
A57: 52 | B57: Herr und Frau | C57: Alfred und Jacqueline | D57: Manser | E57: -Stöckli | F57: Böhlstrasse 7 | G57: 9055 | H57: Bühler | I57: e Herr und Frau | J57: =Perimeter!AB149 -> 0.67752936 | K57: =ROUND(IF(J57*$L$2<$L$3,$L$3,J57*$L$2),1) -> 20 | L57: =Perimeter!AO149 -> 1.7099292 | M57: =ROUND(IF(L57*$N$2<$N$3,$N$3,L57*$N$2),1) -> 171 | N57: 608
A58: 53 | B58: Herr und Frau | C58: Kuno + Manuela | D58: Mock | F58: Steigstrasse 69 | G58: 9055 | H58: Bühler | I58: e Herr und Frau | J58: =Perimeter!AB152 -> 1.3550587 | K58: =ROUND(IF(J58*$L$2<$L$3,$L$3,J58*$L$2),1) -> 20 | L58: =Perimeter!AO152 -> 0.95220342 | M58: =ROUND(IF(L58*$N$2<$N$3,$N$3,L58*$N$2),1) -> 95.2 | N58: 620
A59: 54 | B59: Herr | C59: Stefan Karl | D59: Signer | F59: Steigwaldstrasse 30 | G59: 9055 | H59: Bühler | I59: er Herr | J59: =Perimeter!AB154 -> 1.4561822 | K59: =ROUND(IF(J59*$L$2<$L$3,$L$3,J59*$L$2),1) -> 20 | L59: =Perimeter!AO154 -> 1.0232632 | M59: =ROUND(IF(L59*$N$2<$N$3,$N$3,L59*$N$2),1) -> 102.3 | N59: 193, 590
A60: 55 | B60: Appenzell Ausserrhoden | C60: Amt für Immobilien | F60: Obstmarkt 1 | G60: 9100 | H60: Herisau | I60: e Damen und Herren | J60: =Perimeter!AB157 -> 0.015393467 | K60: =ROUND(IF(J60*$L$2<$L$3,$L$3,J60*$L$2),1) -> 20 | L60: =Perimeter!AO157 -> 0.010817031 | M60: =ROUND(IF(L60*$N$2<$N$3,$N$3,L60*$N$2),1) -> 20 | N60: 223
A61: 56 | B61: Frau | C61: Rita | D61: Meier | E61: -Kuhn | F61: Weid 33 | G61: 9055 | H61: Bühler | I61: e Frau | J61: =Perimeter!AB159 -> 1.6165579 | K61: =ROUND(IF(J61*$L$2<$L$3,$L$3,J61*$L$2),1) -> 20 | L61: =Perimeter!AO159 -> 1.1359596 | M61: =ROUND(IF(L61*$N$2<$N$3,$N$3,L61*$N$2),1) -> 113.6 | N61: 249
A62: 57 | B62: Herr | C62: Hanspeter | D62: Mannhart | F62: Tell 4 | G62: 9055 | H62: Bühler | I62: er Herr | J62: =Perimeter!AB161 -> 0.053626449 | K62: =ROUND(IF(J62*$L$2<$L$3,$L$3,J62*$L$2),1) -> 20 | L62: =Perimeter!AO161 -> 0.03768345 | M62: =ROUND(IF(L62*$N$2<$N$3,$N$3,L62*$N$2),1) -> 20 | N62: 252, 261
A63: 58 | B63: Frau Jacqueline König | C63: Herr Albert von Däniken | F63: Glärnischstr. 32d | G63: 8636 | H63: Wald | I63: e Frau König, Sehr geehrter Herr von Däniken | J63: =Perimeter!AB164 -> 1.071341 | K63: =ROUND(IF(J63*$L$2<$L$3,$L$3,J63*$L$2),1) -> 20 | L63: =Perimeter!AO164 -> 0.75283424 | M63: =ROUND(IF(L63*$N$2<$N$3,$N$3,L63*$N$2),1) -> 75.3 | N63: 265, 266
A64: 59 | B64: Herr und Frau | C64: Max und Béatrice | D64: Höhener | E64: -Gebert | F64: Stein11 | G64: 9043 | H64: Trogen | I64: e Herr und Frau | J64: =Perimeter!AB167 -> 0.7234523 | K64: =ROUND(IF(J64*$L$2<$L$3,$L$3,J64*$L$2),1) -> 20 | L64: =Perimeter!AO167 -> 0.50837188 | M64: =ROUND(IF(L64*$N$2<$N$3,$N$3,L64*$N$2),1) -> 50.8 | N64: 267, 272
A65: 60 | B65: Herr | C65: Josef | D65: Neff | E65: -Inauen | F65: Rothaldenstrasse 23 | G65: 9055 | H65: Bühler | I65: er Herr | J65: =Perimeter!AB170 -> 0.37171971 | K65: =ROUND(IF(J65*$L$2<$L$3,$L$3,J65*$L$2),1) -> 20 | L65: =Perimeter!AO170 -> 0.26120844 | M65: =ROUND(IF(L65*$N$2<$N$3,$N$3,L65*$N$2),1) -> 26.1 | N65: 572
A66: 61 | B66: Herr und Frau | C66: Hans & Sandra | D66: Zeller | E66: -Waldburger | F66: Schwantlen 19 | G66: 9055 | H66: Bühler | I66: e Herr und Frau | J66: =Perimeter!AB172 -> 0.025603834 | K66: =ROUND(IF(J66*$L$2<$L$3,$L$3,J66*$L$2),1) -> 20 | L66: =Perimeter!AO172 -> 0.017991884 | M66: =ROUND(IF(L66*$N$2<$N$3,$N$3,L66*$N$2),1) -> 20 | N66: 269
A67: 62 | B67: Erbengemeinschaft Adolf Zobrist sel. | C67: Frau Liselotte Zobrist | F67: Mülistrasse 20 | G67: 8426 | H67: Lufingen | I67: e Damen und Herren | J67: =Perimeter!AB174 -> 1.0844264 | K67: =ROUND(IF(J67*$L$2<$L$3,$L$3,J67*$L$2),1) -> 20 | L67: =Perimeter!AO174 -> 0.76202935 | M67: =ROUND(IF(L67*$N$2<$N$3,$N$3,L67*$N$2),1) -> 76.2 | N67: 271
A68: 63 | B68: Frau | C68: Rahel | D68: Koller | F68: Böhlstrasse 15 | G68: 9055 | H68: Bühler | I68: e Frau | J68: =Perimeter!AB176 -> 0.0091059945 | K68: =ROUND(IF(J68*$L$2<$L$3,$L$3,J68*$L$2),1) -> 20 | L68: =Perimeter!AO176 -> 0.006398807 | M68: =ROUND(IF(L68*$N$2<$N$3,$N$3,L68*$N$2),1) -> 20 | N68: 675
A69: 64 | B69: Herr und Frau | C69: Martin und Katharina | D69: Wirth | E69: -Nef | F69: Via Bosia 5C | G69: 6900 | H69: Paradiso | I69: e Herr und Frau | J69: =Perimeter!AB179 -> 0.080415959 | K69: =ROUND(IF(J69*$L$2<$L$3,$L$3,J69*$L$2),1) -> 20 | L69: =Perimeter!AO179 -> 0.056508512 | M69: =ROUND(IF(L69*$N$2<$N$3,$N$3,L69*$N$2),1) -> 20 | N69: 88
A70: 65 | B70: Flurgenossenschaft Rothalde | C70: Herr Ueli Tanner | F70: Rothaldenstrasse 31 | G70: 9055 | H70: Bühler | I70: e Damen und Herren | J70: =Perimeter!AB181 -> 0 | K70: =ROUND(IF(J70*$L$2<$L$3,$L$3,J70*$L$2),1) -> 20 | L70: =Perimeter!AO181 -> 0 | M70: =ROUND(IF(L70*$N$2<$N$3,$N$3,L70*$N$2),1) -> 20 | O70: tanner.em@bluewin.ch
A71: 66 | B71: Flurgenossenschaft Schlatterlehn | C71: Herr Florian Studach | F71: Lehn 1124 | G71: 9053 | H71: Teufen | I71: e Damen und Herren | J71: =Perimeter!AB183 -> 0 | K71: =ROUND(IF(J71*$L$2<$L$3,$L$3,J71*$L$2),1) -> 20 | L71: =Perimeter!AO183 -> 0 | M71: 0 | P71: gem. Beschluss HV 10.3.2008 kein Beitrag
A72: 67 | B72: Herr und Frau | C72: Paul und Beate | D72: Stieger | E72: Göller | F72: Steigwaldstrasse 2 | G72: 9055 | H72: Bühler | I72: e Frau Göller, sehr geehrter Herr | J72: =Perimeter!AB185 -> 0.67752936 | K72: =ROUND(IF(J72*$L$2<$L$3,$L$3,J72*$L$2),1) -> 20 | L72: =Perimeter!AO185 -> 0.47610171 | M72: =ROUND(IF(L72*$N$2<$N$3,$N$3,L72*$N$2),1) -> 47.6 | N72: 646
A73: 68 | B73: Herr und Frau | C73: Cataldo und Ana Maria | D73: Caliandro | E73: -Soro | F73: Steigwaldstrasse 4 | G73: 9055 | H73: Bühler | I73: e Herr und Frau | J73: =Perimeter!AB187 -> 0.67752936 | K73: =ROUND(IF(J73*$L$2<$L$3,$L$3,J73*$L$2),1) -> 20 | L73: =Perimeter!AO187 -> 1.0112904 | M73: =ROUND(IF(L73*$N$2<$N$3,$N$3,L73*$N$2),1) -> 101.1 | N73: 647
A74: 69 | B74: Herr und Frau | C74: Ismail und Agnes | D74: Dönmez | E74: -Eugster | F74: Steigwaldstrasse 6 | G74: 9055 | H74: Bühler | I74: e Herr und Frau | J74: =Perimeter!AB190 -> 0.67752936 | K74: =ROUND(IF(J74*$L$2<$L$3,$L$3,J74*$L$2),1) -> 20 | L74: =Perimeter!AO190 -> 1.50188 | M74: =ROUND(IF(L74*$N$2<$N$3,$N$3,L74*$N$2),1) -> 150.2 | N74: 648
A75: 70 | B75: Herr und Frau | C75: Luca und Silvia | D75: Val | E75: -Rutz | F75: Steigwaldstrasse 8 | G75: 9055 | H75: Bühler | I75: e Herr und Frau | J75: =Perimeter!AB193 -> 0.67752936 | K75: =ROUND(IF(J75*$L$2<$L$3,$L$3,J75*$L$2),1) -> 20 | L75: =Perimeter!AO193 -> 1.5910781 | M75: =ROUND(IF(L75*$N$2<$N$3,$N$3,L75*$N$2),1) -> 159.1 | N75: 649
A76: 71 | B76: Herr und Frau | C76: Albert und Cornelia | D76: Gründler | E76: -Gubser | F76: Steigwaldstrasse 18 | G76: 9055 | H76: Bühler | I76: e Herr und Frau | J76: =Perimeter!AB196 -> 0.67752936 | K76: =ROUND(IF(J76*$L$2<$L$3,$L$3,J76*$L$2),1) -> 20 | L76: =Perimeter!AO196 -> 0.47610171 | M76: =ROUND(IF(L76*$N$2<$N$3,$N$3,L76*$N$2),1) -> 47.6 | N76: 650
A77: 72 | B77: Frau | C77: Marlies | D77: D'Agostino-Büchler | F77: Steigwaldstrasse 10 | G77: 9055 | H77: Bühler | I77: e Frau D'Agostino | J77: =Perimeter!AB198 -> 0.67752936 | K77: =ROUND(IF(J77*$L$2<$L$3,$L$3,J77*$L$2),1) -> 20 | L77: =Perimeter!AO198 -> 0.47610171 | M77: =ROUND(IF(L77*$N$2<$N$3,$N$3,L77*$N$2),1) -> 47.6 | N77: 651
A78: 73 | B78: Herr und Frau | C78: Michael und Renée | D78: Lechner | E78: -Bertoli | F78: Steigwaldstrasse 12 | G78: 9055 | H78: Bühler | I78: e Herr und Frau | J78: =Perimeter!AB200 -> 0.67752936 | K78: =ROUND(IF(J78*$L$2<$L$3,$L$3,J78*$L$2),1) -> 20 | L78: =Perimeter!AO200 -> 0.47610171 | M78: =ROUND(IF(L78*$N$2<$N$3,$N$3,L78*$N$2),1) -> 47.6 | N78: 652
A79: 74 | B79: Frau | C79: Irene | D79: Lendenmann | F79: Steigwaldstrasse 13 | G79: 9055 | H79: Bühler | I79: e Frau | J79: =Perimeter!AB202 -> 0.67752936 | K79: =ROUND(IF(J79*$L$2<$L$3,$L$3,J79*$L$2),1) -> 20 | L79: =Perimeter!AO202 -> 0.47610171 | M79: =ROUND(IF(L79*$N$2<$N$3,$N$3,L79*$N$2),1) -> 47.6 | N79: 654
A80: 75 | B80: Herr | C80: Bernhard | D80: Weiss | F80: Steigwaldstrasse 15 | G80: 9055 | H80: Bühler | I80: er Herr | J80: =Perimeter!AB204 -> 0.67752936 | K80: =ROUND(IF(J80*$L$2<$L$3,$L$3,J80*$L$2),1) -> 20 | L80: =Perimeter!AO204 -> 0.47610171 | M80: =ROUND(IF(L80*$N$2<$N$3,$N$3,L80*$N$2),1) -> 47.6 | N80: 655
A81: 76 | B81: Herr und Frau | C81: Peter und Marianne | D81: Freund | E81: -Schefer | F81: Steigwaldstrasse 17 | G81: 9055 | H81: Bühler | I81: e Herr und Frau | J81: =Perimeter!AB206 -> 0.67752936 | K81: =ROUND(IF(J81*$L$2<$L$3,$L$3,J81*$L$2),1) -> 20 | L81: =Perimeter!AO206 -> 0.47610171 | M81: =ROUND(IF(L81*$N$2<$N$3,$N$3,L81*$N$2),1) -> 47.6 | N81: 656
A82: 77 | B82: Herr | C82: Hans Jörg | D82: Freund | F82: Steigwaldstrasse 21 | G82: 9055 | H82: Bühler | I82: er Herr | J82: =Perimeter!AB208 -> 0.67752936 | K82: =ROUND(IF(J82*$L$2<$L$3,$L$3,J82*$L$2),1) -> 20 | L82: =Perimeter!AO208 -> 0.47610171 | M82: =ROUND(IF(L82*$N$2<$N$3,$N$3,L82*$N$2),1) -> 47.6 | N82: 657
A83: 78 | B83: Frau | C83: Daniela | D83: Schriebl | F83: Steigwaldstrasse 19 | G83: 9055 | H83: Bühler | I83: e Frau | J83: =Perimeter!AB210 -> 0.67752936 | K83: =ROUND(IF(J83*$L$2<$L$3,$L$3,J83*$L$2),1) -> 20 | L83: =Perimeter!AO210 -> 0.47610171 | M83: =ROUND(IF(L83*$N$2<$N$3,$N$3,L83*$N$2),1) -> 47.6 | N83: 653
A84: 79 | B84: Herr | C84: Ralph | D84: Suhner | F84: Steigstrasse 50 | G84: 9055 | H84: Bühler | I84: er Herr | J84: =Perimeter!AB212 -> 0.67752936 | K84: =ROUND(IF(J84*$L$2<$L$3,$L$3,J84*$L$2),1) -> 20 | L84: =Perimeter!AO212 -> 1.1450875 | M84: =ROUND(IF(L84*$N$2<$N$3,$N$3,L84*$N$2),1) -> 114.5 | N84: 643
A85: 80 | B85: Herr und Frau | C85: Christoph und Christine | D85: Hofstetter | E85: -Jeker | F85: Steigstrasse 46 | G85: 9055 | H85: Bühler | I85: e Herr und Frau | J85: =Perimeter!AB215 -> 0.67752936 | K85: =ROUND(IF(J85*$L$2<$L$3,$L$3,J85*$L$2),1) -> 20 | L85: =Perimeter!AO215 -> 0.47610171 | M85: =ROUND(IF(L85*$N$2<$N$3,$N$3,L85*$N$2),1) -> 47.6 | N85: 645
A86: 81 | B86: Herr und Frau | C86: Daniel und Carmen | D86: Eigenmann | F86: Steigstrasse 48 | G86: 9055 | H86: Bühler | I86: e Herr und Frau | J86: =Perimeter!AB217 -> 0.67752936 | K86: =ROUND(IF(J86*$L$2<$L$3,$L$3,J86*$L$2),1) -> 20 | L86: =Perimeter!AO217 -> 1.4424146 | M86: =ROUND(IF(L86*$N$2<$N$3,$N$3,L86*$N$2),1) -> 144.2 | N86: 644
A87: 82 | B87: Herr und Frau | C87: Gianfranco und Maria Angela | D87: Renna | E87: -Scuro | F87: Steigstrasse 52 | G87: 9055 | H87: Bühler | I87: e Herr und Frau | J87: =Perimeter!AB220 -> 0.67752936 | K87: =ROUND(IF(J87*$L$2<$L$3,$L$3,J87*$L$2),1) -> 20 | L87: =Perimeter!AO220 -> 0.47610171 | M87: =ROUND(IF(L87*$N$2<$N$3,$N$3,L87*$N$2),1) -> 47.6 | N87: 642
A88: 83 | B88: Herr und Frau | C88: Naim und Semeate | D88: Amidi | E88: -Osmani | F88: Steigstrasse 54 | G88: 9055 | H88: Bühler | I88: e Herr und Frau | J88: =Perimeter!AB222 -> 0.67752936 | K88: =ROUND(IF(J88*$L$2<$L$3,$L$3,J88*$L$2),1) -> 20 | L88: =Perimeter!AO222 -> 0.66936428 | M88: =ROUND(IF(L88*$N$2<$N$3,$N$3,L88*$N$2),1) -> 66.9 | N88: 462, 623
A89: 84 | B89: Herr | C89: Andreas | D89: Enderlin | E89: -Rechsteiner | F89: Oberer Mempfel 20 | G89: 9055 | H89: Bühler | I89: er Herr | J89: =Perimeter!AB226 -> 0.67752936 | K89: =ROUND(IF(J89*$L$2<$L$3,$L$3,J89*$L$2),1) -> 20 | L89: =Perimeter!AO226 -> 2.6923883 | M89: =ROUND(IF(L89*$N$2<$N$3,$N$3,L89*$N$2),1) -> 269.2 | N89: 685 | P89: neue aufteilung
A90: 85 | B90: Herr und Frau | C90: Silvano und Sarah | D90: Leucci | E90: -Oberholzer | F90: Nord 72 | G90: 9055 | H90: Bühler | I90: e Herr und Frau | J90: =Perimeter!AB229 -> 1.2195528 | K90: =ROUND(IF(J90*$L$2<$L$3,$L$3,J90*$L$2),1) -> 20 | L90: =Perimeter!AO229 -> 0.85698308 | M90: =ROUND(IF(L90*$N$2<$N$3,$N$3,L90*$N$2),1) -> 85.7 | N90: 664, 664
A91: 86 | B91: Herr und Frau | C91: Hugo und Daniela | D91: Pfister | E91: -Kobler | F91: Dorfstrasse 13 | G91: 9055 | H91: Bühler | I91: e Herr und Frau | J91: =Perimeter!AB232 -> 0 | K91: =ROUND(IF(J91*$L$2<$L$3,$L$3,J91*$L$2),1) -> 20 | L91: =Perimeter!AO232 -> 0 | M91: =ROUND(IF(L91*$N$2<$N$3,$N$3,L91*$N$2),1) -> 20 | N91: 724
A92: 87 | B92: Herr und Frau | C92: Roman und Selina | D92: Langenegger | E92: -Ruckstuhl | F92: Steigstrasse 59 | G92: 9055 | H92: Bühler | I92: e Herr und Frau | J92: =Perimeter!AA234 -> 0.67752936 | K92: =ROUND(IF(J92*$L$2<$L$3,$L$3,J92*$L$2),1) -> 20 | L92: =Perimeter!AO234 -> 0.47610171 | M92: =ROUND(IF(L92*$N$2<$N$3,$N$3,L92*$N$2),1) -> 47.6 | N92: 725
B94: Total | J94: =SUM(J6:J93) -> 100 | K94: =SUM(K6:K93) -> 1740 | L94: =SUM(L6:L93) -> 100 | M94: =SUM(M6:M90) -> 10058.8

Sheet HV Präsenzliste
B1: Präsenzliste HV 27.03.2023
A3: Mitglied-nr | B3: Name1 | C3: Name2 | D3: Vorname | E3: GB-Nr. | F3: Visum | G3: Spalte1
A4: =Adressen!A6 -> 1 | B4: =Adressen!D6 -> Freund | C4: =Adressen!E6 -> -Fuster | D4: =Adressen!C6 -> Urs und Heidi | E4: =Adressen!N6 -> 85
A5: =Adressen!A7 -> 2 | B5: =Adressen!D7 -> Egli | C5: =Adressen!E7 | D5: =Adressen!C7 -> Martina | E5: =Adressen!N7 -> 87, 325
A6: =Adressen!A8 -> 3 | B6: =Adressen!D8 | C6: =Adressen!E8 | D6: =Adressen!C8 -> Einwohnergemeinde Bühler | E6: =Adressen!N8 -> 220, 268, 270 | F6: Vertretung Sepp Neff
A7: =Adressen!A9 -> 4 | B7: =Adressen!D9 -> Sporn | C7: =Adressen!E9 -> Trochsler | D7: =Adressen!C9 -> Robert + Maya | E7: =Adressen!N9 -> 190
A8: =Adressen!A10 -> 5 | B8: =Adressen!D10 -> Jent | C8: =Adressen!E10 -> -Sörensen | D8: =Adressen!C10 -> Dr. Ingrid | E8: =Adressen!N10 -> 191, 192
A9: =Adressen!A11 -> 6 | B9: =Adressen!D11 -> Hörler | C9: =Adressen!E11 | D9: =Adressen!C11 -> Yvonne | E9: =Adressen!N11 -> 194 | F9: Vertretung Fürer
A10: =Adressen!A12 -> 7 | B10: =Adressen!D12 -> 0 | C10: =Adressen!E12 | D10: =Adressen!C12 -> Freequenc AG | E10: =Adressen!N12 -> 195
A11: =Adressen!A13 -> 8 | B11: =Adressen!D13 -> Suhner | C11: =Adressen!E13 -> -Eisenhut | D11: =Adressen!C13 -> Willi und Katharina | E11: =Adressen!N13 -> 196
A12: =Adressen!A14 -> 9 | B12: =Adressen!D14 -> Manetsch | C12: =Adressen!E14 | D12: =Adressen!C14 -> Michael | E12: =Adressen!N14 -> 199
A13: =Adressen!A15 -> 10 | B13: =Adressen!D15 | C13: =Adressen!E15 | D13: =Adressen!C15 -> Herr Peter Schiess | E13: =Adressen!N15 -> 200
A14: =Adressen!A16 -> 11 | B14: =Adressen!D16 -> Ulmann | C14: =Adressen!E16 -> -Manser | D14: =Adressen!C16 -> Roland | E14: =Adressen!N16 -> 201
A15: =Adressen!A17 -> 12 | B15: =Adressen!D17 -> Joller | C15: =Adressen!E17 -> -Inhelder | D15: =Adressen!C17 -> Lukas und Susanne | E15: =Adressen!N17 -> 101, 202 | G15: lukas.joller@sep.ch
A16: =Adressen!A18 -> 13 | B16: =Adressen!D18 -> 0 | C16: =Adressen!E18 | D16: =Adressen!C18 -> Frau Harlis Schweizer | E16: =Adressen!N18 -> 203
A17: =Adressen!A19 -> 14 | B17: =Adressen!D19 -> Schobel | C17: =Adressen!E19 | D17: =Adressen!C19 -> Klaus + Brigitte | E17: =Adressen!N19 -> 204
A18: =Adressen!A20 -> 15 | B18: =Adressen!D20 -> Schneider | C18: =Adressen!E20 | D18: =Adressen!C20 -> Ernst | E18: =Adressen!N20 -> 206, 263, 641, 658
A19: =Adressen!A21 -> 16 | B19: =Adressen!D21 -> Inauen | C19: =Adressen!E21 -> -Fässler | D19: =Adressen!C21 -> Hans | E19: =Adressen!N21 -> 217, 219
A20: =Adressen!A22 -> 17 | B20: =Adressen!D22 -> Benz | C20: =Adressen!E22 -> -Koller | D20: =Adressen!C22 -> Rebekka | E20: =Adressen!N22 -> 218, 264, 596
A21: =Adressen!A23 -> 18 | B21: =Adressen!D23 -> Staub | C21: =Adressen!E23 | D21: =Adressen!C23 -> Willi | E21: =Adressen!N23 -> 221
A22: =Adressen!A24 -> 19 | B22: =Adressen!D24 -> Manetsch | C22: =Adressen!E24 -> -Kessler | D22: =Adressen!C24 -> Edwin und Irene | E22: =Adressen!N24 -> 222
A23: =Adressen!A25 -> 20 | B23: =Adressen!D25 -> Nicolet | C23: =Adressen!E25 -> -Zuberbühler | D23: =Adressen!C25 -> Margrith | E23: =Adressen!N25 -> 259, 262, 664, 665
A24: =Adressen!A26 -> 21 | B24: =Adressen!D26 -> Graber | C24: =Adressen!E26 | D24: =Adressen!C26 -> Claudia | E24: =Adressen!N26 -> 260; 674
A25: =Adressen!A27 -> 22 | B25: =Adressen!D27 -> Meier | C25: =Adressen!E27 -> -Mittelholzer | D25: =Adressen!C27 -> Viktor und Andrea | E25: =Adressen!N27 -> 378
A26: =Adressen!A28 -> 23 | B26: =Adressen!D28 -> Koller | C26: =Adressen!E28 | D26: =Adressen!C28 -> Johannes | E26: =Adressen!N28 -> 381
A27: =Adressen!A29 -> 24 | B27: =Adressen!D29 -> Zimmermann | C27: =Adressen!E29 -> -Ulmann | D27: =Adressen!C29 -> Albert und Klara | E27: =Adressen!N29 -> 383
... A30: =Adressen!A32 -> 27 | B30: =Adressen!D32 -> 0 | C30: =Adressen!E32 -> 0 | D30: =Adressen!C32 -> Herr Karl Fürer | E30: =Adressen!N32 -> 421
A31: =Adressen!A33 -> 28 | B31: =Adressen!D33 -> Di Bella | C31: =Adressen!E33 -> -Knecht | D31: =Adressen!C33 -> Sonja | E31: =Adressen!N33 -> 403, 429 | G31: dibella.sonja@bluewin.ch
A32: =Adressen!A34 -> 29 | B32: =Adressen!D34 -> Hansmann | C32: =Adressen!E34 | D32: =Adressen!C34 -> Markus | E32: =Adressen!N34 -> 404
A33: =Adressen!A35 -> 30 | B33: =Adressen!D35 | C33: =Adressen!E35 | D33: =Adressen!C35 -> TISCA/TIARA-Gruppe | E33: =Adressen!N35 -> 407, 430
A34: =Adressen!A36 -> 31 | B34: =Adressen!D36 -> Pradella | C34: =Adressen!E36 -> 0 | D34: =Adressen!C36 -> Philip und Seraina | E34: =Adressen!N36 -> 418
A35: =Adressen!A37 -> 32 | B35: =Adressen!D37 -> Knechtle | C35: =Adressen!E37 | D35: =Adressen!C37 -> Remo & Nadine | E35: =Adressen!N37 -> 427
A36: =Adressen!A38 -> 33 | B36: =Adressen!D38 -> 0 | C36: =Adressen!E38 | D36: =Adressen!C38 -> Frau Pfändler Leandra | E36: =Adressen!N38 -> 428
A37: =Adressen!A39 -> 34 | B37: =Adressen!D39 -> Kürsteiner | C37: =Adressen!E39 -> -Küffer | D37: =Adressen!C39 -> Walter + Verena | E37: =Adressen!N39 -> 434
A38: =Adressen!A40 -> 35 | B38: =Adressen!D40 -> Brühlmann | C38: =Adressen!E40 | D38: =Adressen!C40 -> Albert | E38: =Adressen!N40 -> 435
A39: =Adressen!A41 -> 36 | B39: =Adressen!D41 -> Heeb | C39: =Adressen!E41 -> -Neff | D39: =Adressen!C41 -> Monika | E39: =Adressen!N41 -> 444
A40: =Adressen!A42 -> 37 | B40: =Adressen!D42 -> Pfander | C40: =Adressen!E42 | D40: =Adressen!C42 -> Ruth | E40: =Adressen!N42 -> 458
A41: =Adressen!A43 -> 38 | B41: =Adressen!D43 -> Wild | C41: =Adressen!E43 -> -Enderlin | D41: =Adressen!C43 -> Ursina | E41: =Adressen!N43 -> 710
A42: =Adressen!A44 -> 39 | B42: =Adressen!D44 -> Manser | C42: =Adressen!E44 | D42: =Adressen!C44 -> Reto und Angelina | E42: =Adressen!N44 -> 463
A43: =Adressen!A45 -> 40 | B43: =Adressen!D45 -> Kochgruber | C43: =Adressen!E45 | D43: =Adressen!C45 -> Robert | E43: =Adressen!N45 -> 464
... A52: =Adressen!A54 -> 49 | B52: =Adressen!D54 -> Osterwalder | C52: =Adressen!E54 -> -Locher | D52: =Adressen!C54 -> Roman und Franziska | E52: =Adressen!N54 -> 561
A53: =Adressen!A55 -> 50 | B53: =Adressen!D55 -> Zöch | C53: =Adressen!E55 -> -Schüpbach | D53: =Adressen!C55 -> Wolfgang + Nadia | E53: =Adressen!N55 -> 562 | G53: wolfgang.zoech@gmx.at
A54: =Adressen!A56 -> 51 | B54: =Adressen!D56 -> Aemisegger | C54: =Adressen!E56 -> - Kriech | D54: =Adressen!C56 -> Peter und Jutta | E54: =Adressen!N56 -> 595
A55: =Adressen!A57 -> 52 | B55: =Adressen!D57 -> Manser | C55: =Adressen!E57 -> -Stöckli | D55: =Adressen!C57 -> Alfred und Jacqueline | E55: =Adressen!N57 -> 608
A56: =Adressen!A58 -> 53 | B56: =Adressen!D58 -> Mock | C56: =Adressen!E58 -> 0 | D56: =Adressen!C58 -> Kuno + Manuela | E56: =Adressen!N58 -> 620
A57: =Adressen!A59 -> 54 | B57: =Adressen!D59 -> Signer | C57: =Adressen!E59 -> 0 | D57: =Adressen!C59 -> Stefan Karl | E57: =Adressen!N59 -> 193, 590
A58: =Adressen!A60 -> 55 | B58: =Adressen!D60 | C58: =Adressen!E60 | D58: =Adressen!C60 -> Amt für Immobilien | E58: =Adressen!N60 -> 223
A59: =Adressen!A61 -> 56 | B59: =Adressen!D61 -> Meier | C59: =Adressen!E61 -> -Kuhn | D59: =Adressen!C61 -> Rita | E59: =Adressen!N61 -> 249
A60: =Adressen!A62 -> 57 | B60: =Adressen!D62 -> Mannhart | C60: =Adressen!E62 | D60: =Adressen!C62 -> Hanspeter | E60: =Adressen!N62 -> 252, 261
A61: =Adressen!A63 -> 58 | B61: =Adressen!D63 | C61: =Adressen!E63 | D61: =Adressen!C63 -> Herr Albert von Däniken | E61: =Adressen!N63 -> 265, 266
A62: =Adressen!A64 -> 59 | B62: =Adressen!D64 -> Höhener | C62: =Adressen!E64 -> -Gebert | D62: =Adressen!C64 -> Max und Béatrice | E62: =Adressen!N64 -> 267, 272
A63: =Adressen!A65 -> 60 | B63: =Adressen!D65 -> Neff | C63: =Adressen!E65 -> -Inauen | D63: =Adressen!C65 -> Josef | E63: =Adressen!N65 -> 572
A64: =Adressen!A66 -> 61 | B64: =Adressen!D66 -> Zeller | C64: =Adressen!E66 -> -Waldburger | D64: =Adressen!C66 -> Hans & Sandra | E64: =Adressen!N66 -> 269
A65: =Adressen!A67 -> 62 | B65: =Adressen!D67 | C65: =Adressen!E67 | D65: =Adressen!C67 -> Frau Liselotte Zobrist | E65: =Adressen!N67 -> 271
... A82: =Adressen!A84 -> 79 | B82: =Adressen!D84 -> Suhner | C82: =Adressen!E84 | D82: =Adressen!C84 -> Ralph | E82: =Adressen!N84 -> 643
A83: =Adressen!A85 -> 80 | B83: =Adressen!D85 -> Hofstetter | C83: =Adressen!E85 -> -Jeker | D83: =Adressen!C85 -> Christoph und Christine | E83: =Adressen!N85 -> 645 | G83: christoph-hofstetter6@bluewin.ch
A84: =Adressen!A86 -> 81 | B84: =Adressen!D86 -> Eigenmann | C84: =Adressen!E86 | D84: =Adressen!C86 -> Daniel und Carmen | E84: =Adressen!N86 -> 644 | G84: daniel.eigenmann@leica-geosystems.com
A85: =Adressen!A87 -> 82 | B85: =Adressen!D87 -> Renna | C85: =Adressen!E87 -> -Scuro | D85: =Adressen!C87 -> Gianfranco und Maria Angela | E85: =Adressen!N87 -> 642
A86: =Adressen!A88 -> 83 | B86: =Adressen!D88 -> Amidi | C86: =Adressen!E88 -> -Osmani | D86: =Adressen!C88 -> Naim und Semeate | E86: =Adressen!N88 -> 462, 623
A87: =Adressen!A89 -> 84 | B87: =Adressen!D89 -> Enderlin | C87: =Adressen!E89 -> -Rechsteiner | D87: =Adressen!C89 -> Andreas | E87: =Adressen!N89 -> 685
A88: =Adressen!A90 -> 85 | B88: =Adressen!D90 -> Leucci | C88: =Adressen!E90 -> -Oberholzer | D88: =Adressen!C90 -> Silvano und Sarah | E88: =Adressen!N90 -> 664, 664

Sheet HV Präsenz sortiert
A5: Mitglied-nr | B5: Name1 | C5: Name2 | D5: Vorname | E5: GB-Nr. | F5: Visum
A6: 55 | D6: Amt für Immobilien | E6: 223
A7: 3 | D7: Einwohnergemeinde Bühler | E7: 220, 268, 270 | F7: Vertretung Sepp Neff
A8: 62 | D8: Frau Liselotte Zobrist | E8: 271
A9: 58 | D9: Herr Albert von Däniken | E9: 265, 266
A10: 66 | D10: Herr Florinan Studach | E10: 0
A11: 10 | D11: Herr Peter Schiess | E11: 200
A12: 65 | D12: Herr Ueli Tanner | E12: 0
A13: 30 | D13: TISCA/TIARA-Gruppe | E13: 407, 430
A14: 13 | D14: Frau Harlis Schweizer | E14: 203
A15: 51 | B15: Aemisegger | C15: - Kriech | D15: Peter und Jutta | E15: 595
A16: 83 | B16: Amidi | C16: -Osmani | D16: Naim und Semeate | E16: 462, 623
A17: 41 | B17: Kunzmann | D17: STWEG Steigstrasse 39/41 c/o ARO-Knechtle AG | E17: 488
A18: 46 | B18: Ballarda | C18: -Hagenbuch | D18: Monika | E18: 540
A19: 44 | B19: Balsiger | C19: -Egli | D19: Christoph und Anna | E19: 502
A20: 17 | B20: Benz | C20: -Koller | D20: Rebekka | E20: 218, 264, 596
A21: 35 | B21: Brühlmann | D21: Albert | E21: 435
A22: 68 | B22: Caliandro | C22: -Soro | D22: Cataldo und Ana Maria | E22: 647
A23: 72 | B23: D'Agostino-Büchler | D23: Marlies | E23: 651
A24: 28 | B24: Di Bella | C24: -Knecht | D24: Sonja | E24: 403, 429
A25: 69 | B25: Dönmez | C25: -Eugster | D25: Ismail und Agnes | E25: 648
A26: 81 | B26: Eigenmann | D26: Daniel und Carmen | E26: 644
A27: 84 | B27: Enderlin | C27: -Rechsteiner | D27: Andreas | E27: 685
A28: 2 | B28: Enderlin | D28: Hanspeter | E28: 87, 325
A29: 7 | B29: Freequen C AG | E29: 195
A30: 77 | B30: Freund | D30: Hans Jörg | E30: 657
A31: 76 | B31: Freund | C31: -Schefer | D31: Peter und Marianne | E31: 656
A32: 1 | B32: Freund | C32: -Fuster | D32: Urs und Heidi | E32: 85
A33: 43 | B33: Fuchs | D33: Matthias | E33: 492
A34: 27 | B34: Fürer | C34: -Truniger | D34: Louise | E34: 421
A35: 21 | B35: Graber | D35: Claudia | E35: 260; 674
A36: 71 | B36: Gründler | C36: -Gubser | D36: Albert und Cornelia | E36: 650
A37: 29 | B37: Hansmann | D37: Markus | E37: 404
A38: 36 | B38: Heeb | C38: -Neff | D38: Monika | E38: 444
A39: 31 | B39: Heimburger | D39: Erika | E39: 418
A40: 45 | B40: Hofmann | D40: Erich | E40: 536
A41: 80 | B41: Hofstetter | C41: -Jeker | D41: Christoph und Christine | E41: 645
A42: 59 | B42: Höhener | C42: -Gebert | D42: Max und Béatrice | E42: 267, 272
A43: 6 | B43: Hörler | D43: Yvonne | E43: 194 | F43: Vertretung Führer
A44: 16 | B44: Inauen | C44: -Fässler | D44: Hans | E44: 217, 219
A45: 25 | B45: Isenring | D45: Johann | E45: 384
A46: 5 | B46: Jent | C46: -Sörensen | D46: Dr. Ingrid | E46: 191, 192
A47: 12 | B47: Joller | C47: -Inhelder | D47: Lukas und Susanne | E47: 101, 202
A48: 18 | B48: Keller | C48: -Müller | D48: Annalies | E48: 221
A49: 32 | B49: Knechtli | C49: 0 | D49: Remo & Nadine | E49: 427
A50: 40 | B50: Kochgruber | D50: Robert | E50: 464
A51: 23 | B51: Koller | D51: Johannes | E51: 381
A52: 63 | B52: Koller | D52: Rahel | E52: 675
A53: 34 | B53: Kürsteiner | C53: -Küffer | D53: Walter + Verena | E53: 434
A54: 73 | B54: Lechner | C54: -Bertoli | D54: Michael und Renée | E54: 652
A55: 74 | B55: Lendenmann | D55: Irene | E55: 654
A56: 19 | B56: Manetsch | C56: -Kessler | D56: Edwin und Irene | E56: 222
A57: 57 | B57: Mannhart | D57: Hanspeter | E57: 252, 261
A58: 52 | B58: Manser | C58: -Stöckli | D58: Alfred und Jacqueline | E58: 608
A59: 39 | B59: Manser | D59: Reto und Angelina | E59: 463
A60: 56 | B60: Meier | C60: -Kuhn | D60: Rita | E60: 249
A61: 22 | B61: Meier | C61: -Mittelholzer | D61: Viktor und Andrea | E61: 378
A62: 53 | B62: Metzger | C62: -Koller | D62: Alexandra | E62: 620
A63: 47 | B63: Nänny | C63: -Eisenhut | D63: Christian und Annemarie | E63: 187; 557
A64: 42 | B64: Nef | C64: -Dobler | D64: Alfred | E64: 491
A65: 60 | B65: Neff | C65: -Inauen | D65: Josef | E65: 572
A66: 20 | B66: Nicolet | C66: -Zuberbühler | D66: Margrith | E66: 259, 262, 664, 665
A67: 49 | B67: Osterwalder | C67: -Locher | D67: Roman und Franziska | E67: 561
A68: 48 | B68: Özdemir | D68: Mahmut | E68: 560
A69: 37 | B69: Pfander | D69: Ruth | E69: 458
A70: 82 | B70: Renna | C70: -Scuro | D70: Gianfranco und Maria Angela | E70: 642
A71: 26 | B71: Schefer | C71: -Koller | D71: Ernst und Emilia | E71: 388
A72: 15 | B72: Schneider | D72: Ernst | E72: 206, 263, 641, 658
A73: 14 | B73: Schobel | D73: Klaus + Brigitte | E73: 204
A74: 78 | B74: Schriebl | C74: 0 | D74: Daniela | E74: 653
A75: 50 | B75: Senn | C75: -Tribelhorn | D75: Guido | E75: 562
A76: 54 | B76: Signer | C76: -Zuglian | D76: Stefan | E76: 193, 590
A77: 4 | B77: Sporn | C77: Trochsler | D77: Robert | E77: 190
A78: 9 | B78: Stark | D78: Josef | E78: 199
A79: 67 | B79: Stieger | C79: Göller | D79: Paul und Beate | E79: 646
A80: 33 | B80: Streule | D80: Beda | E80: 428
A81: 79 | B81: Suhner | D81: Ralph | E81: 643
A82: 8 | B82: Suhner | C82: -Eisenhut | D82: Willi und Katharina | E82: 196
A83: 11 | B83: Ulmann | C83: -Manser | D83: Roland | E83: 201
A84: 70 | B84: Val | C84: -Rutz | D84: Luca und Silvia | E84: 649
A85: 75 | B85: Weiss | D85: Bernhard | E85: 655
A86: 38 | B86: Wild | C86: -Enderlin | D86: Ursina | E86: 710
A87: 64 | B87: Wirth | C87: -Nef | D87: Martin und Katharina | E87: 88
A88: 61 | B88: Zeller | C88: -Waldburger | D88: Hans & Sandra | E88: 269
A89: 24 | B89: Zimmermann | C89: -Ulmann | D89: Albert und Klara | E89: 383
A90: 85 | B90: 0 | C90: 0 | D90: 0 | E90: 0

Sheet Briefadressen
A1: =Adressen!$A$5 -> Mitglied-nr | B1: =Adressen!$B$5 -> M_F | C1: =Adressen!$C$5 -> Vorname | D1: =Adressen!$D$5 -> Name1 | E1: =Adressen!$E$5 -> Name2 | F1: =Adressen!$F$5 -> Adresse | G1: =Adressen!$G$5 -> PLZ | H1: =Adressen!$H$5 -> Wohnort | I1: =Adressen!$I$5 -> Anrede | J1: =Adressen!$J$5 -> Anteil T1 | K1: =Adressen!$K$5 -> Kosten T1 | L1: =Adressen!$L$5 -> Anteil | M1: =Adressen!$M$5 -> Kosten | N1: =Adressen!$N$5 -> GB-Nr. | O1: =Adressen!$O$5 -> Email | P1: =Adressen!$P$5 -> Bemerkungen | Q1: =Adressen!$Q$5 -> abmeldugn HV | S1: EZ
A2: =Adressen!A6 -> 1 | B2: =Adressen!B6 -> Herr und Frau | C2: =Adressen!C6 -> Urs und Heidi | D2: =Adressen!D6 -> Freund | E2: =Adressen!E6 -> -Fuster | F2: =Adressen!F6 -> Steigstrasse 3 | G2: =Adressen!G6 -> 9055 | H2: =Adressen!H6 -> Bühler | ... Q2: =Adressen!Q6 -> 0
A3: =Adressen!A7 -> 2 | B3: =Adressen!B7 -> Frau | C3: =Adressen!C7 -> Martina | D3: =Adressen!D7 -> Egli | E3: =Adressen!E7 | F3: =Adressen!F7 -> Gern 27 | G3: =Adressen!G7 -> 9055 | H3: =Adressen!H7 -> Bühler | ... Q3: =Adressen!Q7 -> 0
A4: =Adressen!A8 -> 3 | B4: =Adressen!B8 -> An die | C4: =Adressen!C8 -> Einwohnergemeinde Bühler | D4: =Adressen!D8 | E4: =Adressen!E8 | F4: =Adressen!F8 -> Dorfstrasse 42 | G4: =Adressen!G8 -> 9055 | H4: =Adressen!H8 -> Bühler | ... Q4: =Adressen!Q8 -> 0
A5: =Adressen!A9 -> 4 | B5: =Adressen!B9 -> Herr | C5: =Adressen!C9 -> Robert + Maya | D5: =Adressen!D9 -> Sporn | F5: =Adressen!F9 -> Steigstrasse 12 | G5: =Adressen!G9 -> 9055 | H5: =Adressen!H9 -> Bühler | I5: =Adressen!I9 -> e Herr und Frau | J5: =Adressen!J9 -> 0.67752936 | K5: =Adressen!K9 -> 20 | L5: =Adressen!L9 -> 0.47610171 | M5: =Adressen!M9 -> 47.6 | ... Q5: =Adressen!Q9 -> 0
A6: =Adressen!A10 -> 5 | B6: =Adressen!B10 -> Frau | C6: =Adressen!C10 -> Dr. Ingrid | D6: =Adressen!D10 -> Jent | E6: =Adressen!E10 -> -Sörensen | F6: =Adressen!F10 -> Alte Landstrasse 84 | G6: =Adressen!G10 -> 8700 | H6: =Adressen!H10 -> Küsnacht | ... Q6: =Adressen!Q10 -> 0
A7: =Adressen!A11 -> 6 | B7: =Adressen!B11 -> Frau | C7: =Adressen!C11 -> Yvonne | D7: =Adressen!D11 -> Hörler | E7: =Adressen!E11 | F7: =Adressen!F11 -> Lüdenstrasse 25 | G7: =Adressen!G11 -> 8500 | H7: =Adressen!H11 -> Frauenfeld | ... Q7: =Adressen!Q11 -> 0
A8: =Adressen!A12 -> 7 | B8: =Adressen!B12 -> Geschätzte | C8: =Adressen!C12 -> Freequenc AG | D8: =Adressen!D12 -> 0 | E8: =Adressen!E12 | F8: =Adressen!F12 -> Greifenstrasse 8 | G8: =Adressen!G12 -> 9000 | H8: =Adressen!H12 -> St. Gallen | ... Q8: =Adressen!Q12 -> 0
A9: =Adressen!A13 -> 8 | B9: =Adressen!B13 -> Herr und Frau | C9: =Adressen!C13 -> Willi und Katharina | D9: =Adressen!D13 -> Suhner | E9: =Adressen!E13 -> -Eisenhut | F9: =Adressen!F13 -> Steigstrasse 21 | G9: =Adressen!G13 -> 9055 | H9: =Adressen!H13 -> Bühler | ... Q9: =Adressen!Q13 -> 0
A10: =Adressen!A14 -> 9 | B10: =Adressen!B14 -> Herr | C10: =Adressen!C14 -> Michael | D10: =Adressen!D14 -> Manetsch | E10: =Adressen!E14 | F10: =Adressen!F14 -> Churfirstenblick 10 | G10: =Adressen!G14 -> 8758 | H10: =Adressen!H14 -> Obstalden | ... Q10: =Adressen!Q14 -> 0
A11: =Adressen!A15 -> 10 | B11: Herr | C11: Heinz | D11: Schiess | E11: =Adressen!E15 | F11: =Adressen!F15 -> Wässerwiesenstrasse 91 | G11: =Adressen!G15 -> 8408 | H11: =Adressen!H15 -> Winterthur | I11: =Adressen!I15 -> e Herren | J11: =Adressen!J15 -> 1.2431309 | K11: =Adressen!K15 -> 20 | L11: =Adressen!L15 -> 0.87355142 | ... Q11: =Adressen!Q15 -> 0
A12: =Adressen!A16 -> 11 | B12: =Adressen!B16 -> Herr | C12: =Adressen!C16 -> Roland | D12: =Adressen!D16 -> Ulmann | E12: =Adressen!E16 -> -Manser | F12: =Adressen!F16 -> Steigstrasse 43 | G12: =Adressen!G16 -> 9055 | H12: =Adressen!H16 -> Bühler | ... Q12: =Adressen!Q16 -> 0
A13: =Adressen!A17 -> 12 | B13: =Adressen!B17 -> Herr und Frau | C13: =Adressen!C17 -> Lukas und Susanne | D13: =Adressen!D17 -> Joller | E13: =Adressen!E17 -> -Inhelder | F13: =Adressen!F17 -> Steigstrasse 42 | G13: =Adressen!G17 -> 9055 | H13: =Adressen!H17 -> Bühler | ... Q13: =Adressen!Q17 -> 0
A14: =Adressen!A18 -> 13 | B14: =Adressen!B18 -> Herr Smail Hadjidj | C14: =Adressen!C18 -> Frau Harlis Schweizer | D14: =Adressen!D18 -> 0 | E14: =Adressen!E18 | F14: =Adressen!F18 -> Steigstrasse 36 | G14: =Adressen!G18 -> 9055 | H14: =Adressen!H18 -> Bühler | ... Q14: =Adressen!Q18 -> 0
A15: =Adressen!A19 -> 14 | B15: =Adressen!B19 -> Herr und Frau | C15: =Adressen!C19 -> Klaus + Brigitte | D15: =Adressen!D19 -> Schobel | E15: =Adressen!E19 | F15: =Adressen!F19 -> Steigstrasse 32 | G15: =Adressen!G19 -> 9055 | H15: =Adressen!H19 -> Bühler | I15: e Herr und Frau | J15: =Adressen!J19 -> 0.67752936 | K15: =Adressen!K19 -> 20 | L15: =Adressen!L19 -> 0.47610171 | M15: =Adressen!M19 -> 47.6 | N15: =Adressen!N19 -> 204 | O15: =Adressen!O19 -> 0 | P15: =Adressen!P19 -> 0 | Q15: =Adressen!Q19 -> 0
A16: =Adressen!A20 -> 15 | B16: =Adressen!B20 -> Herr | C16: =Adressen!C20 -> Ernst | D16: =Adressen!D20 -> Schneider | E16: =Adressen!E20 | F16: =Adressen!F20 -> Krans-Lachenstr. 45 | G16: =Adressen!G20 -> 9450 | H16: =Adressen!H20 -> Altstätten | ... Q16: =Adressen!Q20 -> 0
A17: =Adressen!A21 -> 16 | B17: =Adressen!B21 -> Herr | C17: =Adressen!C21 -> Hans | D17: =Adressen!D21 -> Inauen | E17: =Adressen!E21 -> -Fässler | F17: =Adressen!F21 -> Steigbach 80 | G17: =Adressen!G21 -> 9055 | H17: =Adressen!H21 -> Bühler | ... Q17: =Adressen!Q21 -> 0
A18: =Adressen!A22 -> 17 | B18: =Adressen!B22 -> Frau | C18: =Adressen!C22 -> Rebekka | D18: =Adressen!D22 -> Benz | E18: =Adressen!E22 -> -Koller | F18: =Adressen!F22 -> Steigstrasse 71 | G18: =Adressen!G22 -> 9055 | H18: =Adressen!H22 -> Bühler | ... Q18: =Adressen!Q22 -> 0
A19: =Adressen!A23 -> 18 | B19: =Adressen!B23 -> Herr | C19: =Adressen!C23 -> Willi | D19: =Adressen!D23 -> Staub | E19: =Adressen!E23 | F19: =Adressen!F23 -> Trogenerstrasse 61 | G19: =Adressen!G23 -> 9055 | H19: =Adressen!H23 -> Bühler | ... Q19: =Adressen!Q23 -> 0
A20: =Adressen!A24 -> 19 | B20: =Adressen!B24 -> Herr und Frau | C20: =Adressen!C24 -> Edwin und Irene | D20: =Adressen!D24 -> Manetsch | E20: =Adressen!E24 -> -Kessler | F20: =Adressen!F24 -> Steigstrasse 56 | G20: =Adressen!G24 -> 9055 | H20: =Adressen!H24 -> Bühler | ... Q20: =Adressen!Q24 -> 0
A21: =Adressen!A25 -> 20 | B21: =Adressen!B25 -> Frau | C21: =Adressen!C25 -> Margrith | D21: =Adressen!D25 -> Nicolet | E21: =Adressen!E25 -> -Zuberbühler | F21: =Adressen!F25 -> Chemin de Vert-Pré 8 | G21: =Adressen!G25 -> 1213 | H21: =Adressen!H25 -> Petit-Lancy | ... Q21: =Adressen!Q25 -> 0
A22: =Adressen!A26 -> 21 | B22: =Adressen!B26 -> Frau | C22: =Adressen!C26 -> Claudia | D22: =Adressen!D26 -> Graber | E22: =Adressen!E26 | F22: =Adressen!F26 -> Am Rähn 31 | G22: =Adressen!G26 -> 9055 | H22: =Adressen!H26 -> Bühler | ... Q22: =Adressen!Q26 -> 0
A23: =Adressen!A27 -> 22 | B23: =Adressen!B27 -> Herr und Frau | C23: =Adressen!C27 -> Viktor und Andrea | D23: =Adressen!D27 -> Meier | E23: =Adressen!E27 -> -Mittelholzer | F23: =Adressen!F27 -> Steigstrasse 51 | G23: =Adressen!G27 -> 9055 | H23: =Adressen!H27 -> Bühler | ... Q23: =Adressen!Q27 -> 0
A24: =Adressen!A28 -> 23 | B24: =Adressen!B28 -> Herr | C24: =Adressen!C28 -> Johannes | D24: =Adressen!D28 -> Koller | E24: =Adressen!E28 | F24: =Adressen!F28 -> Walchestrasse 27 | G24: =Adressen!G28 -> 8006 | H24: =Adressen!H28 -> Zürich | ... Q24: =Adressen!Q28 -> 0
A25: =Adressen!A29 -> 24 | B25: =Adressen!B29 -> Herr und Frau | C25: =Adressen!C29 -> Albert und Klara | D25: =Adressen!D29 -> Zimmermann | E25: =Adressen!E29 -> -Ulmann | F25: =Adressen!F29 -> Steigstrasse 45 | G25: =Adressen!G29 -> 9055 | H25: =Adressen!H29 -> Bühler | ... Q25: =Adressen!Q29 -> 0
A26: =Adressen!A30 -> 25 | B26: =Adressen!B30 -> Herr | C26: =Adressen!C30 -> Johann | D26: =Adressen!D30 -> Isenring | E26: =Adressen!E30 | F26: =Adressen!F30 -> Steigstrasse 47 | G26: =Adressen!G30 -> 9055 | H26: =Adressen!H30 -> Bühler | ... Q26: =Adressen!Q30 -> 0
A27: =Adressen!A31 -> 26 | B27: =Adressen!B31 -> Herr und Frau | C27: =Adressen!C31 -> Ernst und Emilia | D27: =Adressen!D31 -> Schefer | E27: =Adressen!E31 -> -Koller | F27: =Adressen!F31 -> Oberer Mempfel 14 | G27: =Adressen!G31 -> 9055 | H27: =Adressen!H31 -> Bühler | ... Q27: =Adressen!Q31 -> 0
A28: =Adressen!A32 -> 27 | B28: =Adressen!B32 -> Herr Bernhard Fürer | C28: =Adressen!C32 -> Herr Karl Fürer | D28: =Adressen!D32 -> 0 | E28: =Adressen!E32 -> 0 | F28: =Adressen!F32 -> Hochbühlstrasse 24 | G28: =Adressen!G32 -> 9532 | H28: Rickenbach bei Will | I28: =Adressen!I32 -> er Herr | J28: =Adressen!J32 -> 8.5368699 | K28: =Adressen!K32 -> 20 | L28: =Adressen!L32 -> 5.9988815 | M28: =Adressen!M32 -> 599.9 | N28: =Adressen!N32 -> 421 | O28: =Adressen!O32 -> 0 | P28: =Adressen!P32 -> 0 | Q28: =Adressen!Q32 -> 0
A29: =Adressen!A33 -> 28 | B29: =Adressen!B33 -> Frau | C29: =Adressen!C33 -> Sonja | D29: =Adressen!D33 -> Di Bella | E29: =Adressen!E33 -> -Knecht | F29: =Adressen!F33 -> Böhlstrasse 16 | G29: =Adressen!G33 -> 9055 | H29: =Adressen!H33 -> Bühler | ... Q29: =Adressen!Q33 -> 0
A30: =Adressen!A34 -> 29 | B30: =Adressen!B34 -> Herr | C30: =Adressen!C34 -> Markus | D30: =Adressen!D34 -> Hansmann | E30: =Adressen!E34 | F30: =Adressen!F34 -> Böhlstrasse 26 | G30: =Adressen!G34 -> 9055 | H30: =Adressen!H34 -> Bühler | ... Q30: =Adressen!Q34 -> 0
A31: =Adressen!A35 -> 30 | B31: =Adressen!B35 -> Personalfürsorgestiftung | C31: =Adressen!C35 -> TISCA/TIARA-Gruppe | D31: =Adressen!D35 | E31: =Adressen!E35 | F31: =Adressen!F35 -> Schwägalpstrasse 111 | G31: =Adressen!G35 -> 9107 | H31: =Adressen!H35 -> Urnäsch | ... Q31: =Adressen!Q35 -> 0
A32: =Adressen!A36 -> 31 | B32: =Adressen!B36 -> Herr und Frau | C32: =Adressen!C36 -> Philip und Seraina | D32: =Adressen!D36 -> Pradella | E32: =Adressen!E36 -> 0 | F32: =Adressen!F36 -> Steigstrasse 62 | G32: =Adressen!G36 -> 9055 | H32: =Adressen!H36 -> Bühler | ... Q32: =Adressen!Q36 -> 0
A33: =Adressen!A37 -> 32 | B33: =Adressen!B37 -> Herr und Frau | C33: =Adressen!C37 -> Remo & Nadine | D33: =Adressen!D37 -> Knechtle | E33: =Adressen!E37 | F33: =Adressen!F37 -> Steigwaldstrasse 29 | G33: =Adressen!G37 -> 9055 | H33: =Adressen!H37 -> Bühler | ... Q33: =Adressen!Q37 -> 0
A34: =Adressen!A38 -> 33 | B34: =Adressen!B38 -> Herr Zollinger Andrin | C34: =Adressen!C38 -> Frau Pfändler Leandra | D34: =Adressen!D38 -> 0 | E34: =Adressen!E38 | F34: =Adressen!F38 -> Steigstrasse 24 | G34: =Adressen!G38 -> 9055 | H34: =Adressen!H38 -> Bühler | ... Q34: =Adressen!Q38
A35: =Adressen!A39 -> 34 | B35: =Adressen!B39 -> Herr und Frau | C35: =Adressen!C39 -> Walter + Verena | D35: =Adressen!D39 -> Kürsteiner | E35: =Adressen!E39 -> -Küffer | F35: =Adressen!F39 -> Oberer Mempfel 10 | G35: =Adressen!G39 -> 9055 | H35: =Adressen!H39 -> Bühler | ... Q35: =Adressen!Q39 -> 0
A36: =Adressen!A40 -> 35 | B36: =Adressen!B40 -> Herr | C36: =Adressen!C40 -> Albert | D36: =Adressen!D40 -> Brühlmann | E36: =Adressen!E40 | F36: =Adressen!F40 -> Oberer Mempfel 12 | G36: =Adressen!G40 -> 9055 | H36: =Adressen!H40 -> Bühler | ... Q36: =Adressen!Q40 -> 0
A37: =Adressen!A41 -> 36 | B37: =Adressen!B41 -> Frau | C37: =Adressen!C41 -> Monika | D37: =Adressen!D41 -> Heeb | E37: =Adressen!E41 -> -Neff | F37: =Adressen!F41 -> Spitalstrasse 7 | G37: =Adressen!G41 -> 9652 | H37: =Adressen!H41 -> Neu St. Johann | I37: e Frau | J37: =Adressen!J41 -> 2.4391057 | K37: =Adressen!K41 -> 20 | L37: =Adressen!L41 -> 1.7139662 | M37: =Adressen!M41 -> 171.4 | N37: =Adressen!N41 -> 444 | O37: =Adressen!O41 -> 0 | P37: =Adressen!P41 -> von Eltern übernommen | Q37: =Adressen!Q41 -> 0
A38: =Adressen!A42 -> 37 | B38: =Adressen!B42 -> Frau | C38: =Adressen!C42 -> Ruth | D38: =Adressen!D42 -> Pfander | E38: =Adressen!E42 | F38: =Adressen!F42 -> Steigstrasse 34 | G38: =Adressen!G42 -> 9055 | H38: =Adressen!H42 -> Bühler | ... Q38: =Adressen!Q42 -> 0
A39: =Adressen!A43 -> 38 | B39: =Adressen!B43 -> Frau | C39: =Adressen!C43 -> Ursina | D39: =Adressen!D43 -> Wild | E39: =Adressen!E43 -> -Enderlin | F39: =Adressen!F43 -> Oberer Mempfel 16 | G39: =Adressen!G43 -> 9055 | H39: =Adressen!H43 -> Bühler | ... Q39: =Adressen!Q43 -> 0
A40: =Adressen!A44 -> 39 | B40: =Adressen!B44 -> Herr und Frau | C40: =Adressen!C44 -> Reto und Angelina | D40: =Adressen!D44 -> Manser | E40: =Adressen!E44 | F40: =Adressen!F44 -> Böhlstrasse 23 | G40: =Adressen!G44 -> 9055 | H40: =Adressen!H44 -> Bühler | I40: e Herr und Frau | J40: =Adressen!J44 -> 0.67752936 | K40: =Adressen!K44 -> 20 | L40: =Adressen!L44 -> 0.47610171 | M40: =Adressen!M44 -> 47.6 | N40: =Adressen!N44 -> 463 | O40: =Adressen!O44 -> 0 | P40: =Adressen!P44 -> 0 | Q40: =Adressen!Q44 -> 0
A41: =Adressen!A45 -> 40 | B41: =Adressen!B45 -> Herr | C41: =Adressen!C45 -> Robert | D41: =Adressen!D45 -> Kochgruber | E41: =Adressen!E45 | F41: =Adressen!F45 -> Langacker 6 | G41: =Adressen!G45 -> 9065 | H41: =Adressen!H45 -> Gais | ... Q41: =Adressen!Q45 -> 0
A42: =Adressen!A46 -> 41 | B42: =Adressen!B46 -> Geschätzte | C42: STWEG Steigstrasse39/41,Bühler,co.ARO-KnechtleAG/ | D42: Lukas Kunzmann | E42: =Adressen!E46 -> Lukas Kunzmann | F42: =Adressen!F46 -> Kasernenstrasse 4 | G42: =Adressen!G46 -> 9100 | H42: =Adressen!H46 -> Herisau | I42: =Adressen!I46 -> er Herr | J42: =Adressen!J46 -> 10.569458 | K42: =Adressen!K46 -> 20 | L42: =Adressen!L46 -> 7.4271867 | ... Q42: =Adressen!Q46 -> 0
A43: =Adressen!A47 -> 42 | B43: =Adressen!B47 -> Frau | C43: =Adressen!C47 -> Caroline | D43: =Adressen!D47 -> Wick-Nef | E43: =Adressen!E47 | F43: =Adressen!F47 -> Eggstrasse 24 | G43: =Adressen!G47 -> 9055 | H43: =Adressen!H47 -> Bühler | ... Q43: =Adressen!Q47 -> 0
A44: =Adressen!A48 -> 43 | B44: =Adressen!B48 -> Herr | C44: =Adressen!C48 -> Matthias | D44: =Adressen!D48 -> Fuchs | E44: =Adressen!E48 | F44: =Adressen!F48 -> Steigstrasse 58 | G44: =Adressen!G48 -> 9055 | H44: =Adressen!H48 -> Bühler | ... Q44: =Adressen!Q48 -> 0
A45: =Adressen!A49 -> 44 | B45: =Adressen!B49 -> Herr und Frau | C45: =Adressen!C49 -> Christoph und Anna | D45: =Adressen!D49 -> Balsiger | E45: =Adressen!E49 -> -Egli | F45: =Adressen!F49 -> Steigstrasse 67 | G45: =Adressen!G49 -> 9055 | H45: =Adressen!H49 -> Bühler | ... Q45: =Adressen!Q49 -> 0
A46: =Adressen!A50 -> 45 | B46: =Adressen!B50 -> Herr | C46: =Adressen!C50 -> Erich | D46: =Adressen!D50 -> Hofmann | E46: =Adressen!E50 | F46: Rebacher 1 | G46: =Adressen!G50 -> 8627 | H46: =Adressen!H50 -> Grüningen | I46: =Adressen!I50 -> er Herr | J46: =Adressen!J50 -> 0.67752936 | K46: =Adressen!K50 -> 20 | L46: =Adressen!L50 -> 0.47610171 | M46: =Adressen!M50 -> 47.6 | N46: =Adressen!N50 -> 536 | ... Q46: =Adressen!Q50 -> 0
A47: =Adressen!A51 -> 46 | B47: =Adressen!B51 -> Frau | C47: =Adressen!C51 -> Monika | D47: =Adressen!D51 -> Baliarda | E47: =Adressen!E51 -> -Hagenbuch | F47: =Adressen!F51 -> Böhlstrasse 1 | G47: =Adressen!G51 -> 9055 | H47: =Adressen!H51 -> Bühler | ... Q47: =Adressen!Q51 -> 0
A48: =Adressen!A52 -> 47 | B48: =Adressen!B52 -> Herr und Frau | C48: =Adressen!C52 -> Christian und Annemarie | D48: =Adressen!D52 -> Nänny | E48: =Adressen!E52 -> -Eisenhut | F48: =Adressen!F52 -> Steigstrasse 2 | G48: =Adressen!G52 -> 9055 | H48: =Adressen!H52 -> Bühler | ... Q48: =Adressen!Q52 -> 0
A49: =Adressen!A53 -> 48 | B49: =Adressen!B53 -> Herr | C49: =Adressen!C53 -> Mahmut | D49: =Adressen!D53 -> Özdemir | E49: =Adressen!E53 | F49: =Adressen!F53 -> Böhlstrasse 5 | G49: =Adressen!G53 -> 9055 | H49: =Adressen!H53 -> Bühler | ... Q49: =Adressen!Q53 -> 0
A50: =Adressen!A54 -> 49 | B50: =Adressen!B54 -> Herr und Frau | C50: =Adressen!C54 -> Roman und Franziska | D50: =Adressen!D54 -> Osterwalder | E50: =Adressen!E54 -> -Locher | F50: =Adressen!F54 -> Böhlstrasse 3 | G50: =Adressen!G54 -> 9055 | H50: =Adressen!H54 -> Bühler | ... Q50: =Adressen!Q54 -> 0
A51: =Adressen!A55 -> 50 | B51: =Adressen!B55 -> Herr und Frau | C51: =Adressen!C55 -> Wolfgang + Nadia | D51: =Adressen!D55 -> Zöch | E51: =Adressen!E55 -> -Schüpbach | F51: =Adressen!F55 -> Böhlstrasse 11 | G51: =Adressen!G55 -> 9055 | H51: =Adressen!H55 -> Bühler | ... Q51: =Adressen!Q55 -> 0
A52: =Adressen!A56 -> 51 | B52: =Adressen!B56 -> Herr und Frau | C52: =Adressen!C56 -> Peter und Jutta | D52: =Adressen!D56 -> Aemisegger | E52: =Adressen!E56 -> - Kriech | F52: =Adressen!F56 -> Böhlstrasse 9 | G52: =Adressen!G56 -> 9055 | H52: =Adressen!H56 -> Bühler | ... Q52: =Adressen!Q56 -> 0
A53: =Adressen!A57 -> 52 | B53: =Adressen!B57 -> Herr und Frau | C53: =Adressen!C57 -> Alfred und Jacqueline | D53: =Adressen!D57 -> Manser | E53: =Adressen!E57 -> -Stöckli | F53: =Adressen!F57 -> Böhlstrasse 7 | G53: =Adressen!G57 -> 9055 | H53: =Adressen!H57 -> Bühler | ... Q53: =Adressen!Q57 -> 0
A54: =Adressen!A58 -> 53 | B54: Herr und Frau | C54: Kuno + Manuela | D54: Mock | F54: =Adressen!F58 -> Steigstrasse 69 | G54: =Adressen!G58 -> 9055 | H54: =Adressen!H58 -> Bühler | I54: =Adressen!I58 -> e Herr und Frau | J54: =Adressen!J58 -> 1.3550587 | K54: =Adressen!K58 -> 20 | L54: =Adressen!L58 -> 0.95220342 | M54: =Adressen!M58 -> 95.2 | ... Q54: =Adressen!Q58 -> 0
A55: =Adressen!A59 -> 54 | B55: =Adressen!B59 -> Herr | C55: =Adressen!C59 -> Stefan Karl | D55: =Adressen!D59 -> Signer | E55: =Adressen!E59 -> 0 | F55: =Adressen!F59 -> Steigwaldstrasse 30 | G55: =Adressen!G59 -> 9055 | H55: =Adressen!H59 -> Bühler | ... Q55: =Adressen!Q59 -> 0
A56: =Adressen!A60 -> 55 | B56: =Adressen!B60 -> Appenzell Ausserrhoden | C56: =Adressen!C60 -> Amt für Immobilien | D56: =Adressen!D60 | E56: =Adressen!E60 | F56: =Adressen!F60 -> Obstmarkt 1 | G56: =Adressen!G60 -> 9100 | H56: =Adressen!H60 -> Herisau | ... Q56: =Adressen!Q60
A57: =Adressen!A61 -> 56 | B57: =Adressen!B61 -> Frau | C57: =Adressen!C61 -> Rita | D57: =Adressen!D61 -> Meier | E57: =Adressen!E61 -> -Kuhn | F57: =Adressen!F61 -> Weid 33 | G57: =Adressen!G61 -> 9055 | H57: =Adressen!H61 -> Bühler | ... Q57: =Adressen!Q61 -> 0
A58: =Adressen!A62 -> 57 | B58: =Adressen!B62 -> Herr | C58: =Adressen!C62 -> Hanspeter | D58: =Adressen!D62 -> Mannhart | E58: =Adressen!E62 | F58: =Adressen!F62 -> Tell 4 | G58: =Adressen!G62 -> 9055 | H58: =Adressen!H62 -> Bühler | ... Q58: =Adressen!Q62 -> 0
A59: =Adressen!A63 -> 58 | B59: =Adressen!B63 -> Frau Jacqueline König | C59: =Adressen!C63 -> Herr Albert von Däniken | D59: =Adressen!D63 | E59: =Adressen!E63 | F59: =Adressen!F63 -> Glärnischstr. 32d | G59: =Adressen!G63 -> 8636 | H59: =Adressen!H63 -> Wald | ... Q59: =Adressen!Q63 -> 0
A60: =Adressen!A64 -> 59 | B60: =Adressen!B64 -> Herr und Frau | C60: =Adressen!C64 -> Max und Béatrice | D60: =Adressen!D64 -> Höhener | E60: =Adressen!E64 -> -Gebert | F60: =Adressen!F64 -> Stein11 | G60: =Adressen!G64 -> 9043 | H60: =Adressen!H64 -> Trogen | ... Q60: =Adressen!Q64 -> 0
A61: =Adressen!A65 -> 60 | B61: =Adressen!B65 -> Herr | C61: =Adressen!C65 -> Josef | D61: =Adressen!D65 -> Neff | E61: =Adressen!E65 -> -Inauen | F61: =Adressen!F65 -> Rothaldenstrasse 23 | G61: =Adressen!G65 -> 9055 | H61: =Adressen!H65 -> Bühler | ... Q61: =Adressen!Q65 -> 0
A62: =Adressen!A66 -> 61 | B62: =Adressen!B66 -> Herr und Frau | C62: =Adressen!C66 -> Hans & Sandra | D62: =Adressen!D66 -> Zeller | E62: =Adressen!E66 -> -Waldburger | F62: =Adressen!F66 -> Schwantlen 19 | G62: =Adressen!G66 -> 9055 | H62: =Adressen!H66 -> Bühler | ... Q62: =Adressen!Q66 -> 0
A63: =Adressen!A67 -> 62 | B63: =Adressen!B67 -> Erbengemeinschaft Adolf Zobrist sel. | C63: =Adressen!C67 -> Frau Liselotte Zobrist | D63: =Adressen!D67 | E63: =Adressen!E67 | F63: =Adressen!F67 -> Mülistrasse 20 | G63: =Adressen!G67 -> 8426 | H63: =Adressen!H67 -> Lufingen | ... Q63: =Adressen!Q67 -> 0
A64: =Adressen!A68 -> 63 | B64: =Adressen!B68 -> Frau | C64: =Adressen!C68 -> Rahel | D64: =Adressen!D68 -> Koller | E64: =Adressen!E68 | F64: Böhlstrasse 15 | G64: 9055 | H64: Bühler | I64: =Adressen!I68 -> e Frau | J64: =Adressen!J68 -> 0.0091059945 | K64: =Adressen!K68 -> 20 | L64: =Adressen!L68 -> 0.006398807 | M64: =Adressen!M68 -> 20 | N64: =Adressen!N68 -> 675 | O64: =Adressen!O68 -> 0 | P64: =Adressen!P68 -> 0 | Q64: =Adressen!Q68 -> 0
A65: =Adressen!A69 -> 64 | B65: =Adressen!B69 -> Herr und Frau | C65: =Adressen!C69 -> Martin und Katharina | D65: =Adressen!D69 -> Wirth | E65: =Adressen!E69 -> -Nef | F65: =Adressen!F69 -> Via Bosia 5C | G65: =Adressen!G69 -> 6900 | H65: =Adressen!H69 -> Paradiso | ... Q65: =Adressen!Q69
A66: =Adressen!A70 -> 65 | B66: =Adressen!B70 -> Flurgenossenschaft Rothalde | C66: =Adressen!C70 -> Herr Ueli Tanner | D66: =Adressen!D70 | E66: =Adressen!E70 | F66: Rothaldenstrasse 31 | G66: =Adressen!G70 -> 9055 | H66: =Adressen!H70 -> Bühler | I66: =Adressen!I70 -> e Damen und Herren | J66: =Adressen!J70 -> 0 | K66: =Adressen!K70 -> 20 | L66: =Adressen!L70 -> 0 | M66: =Adressen!M70 -> 20 | N66: =Adressen!N70 -> 0 | ... Q66: =Adressen!Q70 -> 0
A67: =Adressen!A71 -> 66 | B67: =Adressen!B71 -> Flurgenossenschaft Schlatterlehn | C67: Herr Florian Studach | D67: =Adressen!D71 | E67: =Adressen!E71 | F67: =Adressen!F71 -> Lehn 1124 | G67: =Adressen!G71 -> 9053 | H67: =Adressen!H71 -> Teufen | I67: =Adressen!I71 -> e Damen und Herren | J67: =Adressen!J71 -> 0 | K67: =Adressen!K71 -> 20 | ... Q67: =Adressen!Q71 -> 0
A68: =Adressen!A72 -> 67 | B68: =Adressen!B72 -> Herr und Frau | C68: =Adressen!C72 -> Paul und Beate | D68: =Adressen!D72 -> Stieger | E68: =Adressen!E72 -> Göller | F68: =Adressen!F72 -> Steigwaldstrasse 2 | G68: =Adressen!G72 -> 9055 | H68: =Adressen!H72 -> Bühler | I68: e Frau Göller | J68: =Adressen!J72 -> 0.67752936 | K68: =Adressen!K72 -> 20 | L68: =Adressen!L72 -> 0.47610171 | M68: =Adressen!M72 -> 47.6 | N68: =Adressen!N72 -> 646 | O68: =Adressen!O72 -> 0 | P68: =Adressen!P72 -> 0 | Q68: =Adressen!Q72 -> 0
A69: =Adressen!A73 -> 68 | B69: =Adressen!B73 -> Herr und Frau | C69: =Adressen!C73 -> Cataldo und Ana Maria | D69: =Adressen!D73 -> Caliandro | E69: =Adressen!E73 -> -Soro | F69: =Adressen!F73 -> Steigwaldstrasse 4 | G69: =Adressen!G73 -> 9055 | H69: =Adressen!H73 -> Bühler | ... Q69: =Adressen!Q73 -> 0
A70: =Adressen!A74 -> 69 | B70: =Adressen!B74 -> Herr und Frau | C70: =Adressen!C74 -> Ismail und Agnes | D70: =Adressen!D74 -> Dönmez | E70: =Adressen!E74 -> -Eugster | F70: =Adressen!F74 -> Steigwaldstrasse 6 | G70: =Adressen!G74 -> 9055 | H70: =Adressen!H74 -> Bühler | ... Q70: =Adressen!Q74 -> 0
A71: =Adressen!A75 -> 70 | B71: =Adressen!B75 -> Herr und Frau | C71: =Adressen!C75 -> Luca und Silvia | D71: =Adressen!D75 -> Val | E71: =Adressen!E75 -> -Rutz | F71: =Adressen!F75 -> Steigwaldstrasse 8 | G71: =Adressen!G75 -> 9055 | H71: =Adressen!H75 -> Bühler | ... Q71: =Adressen!Q75 -> 0
A72: =Adressen!A76 -> 71 | B72: =Adressen!B76 -> Herr und Frau | C72: =Adressen!C76 -> Albert und Cornelia | D72: =Adressen!D76 -> Gründler | E72: =Adressen!E76 -> -Gubser | F72: =Adressen!F76 -> Steigwaldstrasse 18 | G72: =Adressen!G76 -> 9055 | H72: =Adressen!H76 -> Bühler | ... Q72: =Adressen!Q76 -> 0
A73: =Adressen!A77 -> 72 | B73: =Adressen!B77 -> Frau | C73: =Adressen!C77 -> Marlies | D73: =Adressen!D77 -> D'Agostino-Büchler | E73: =Adressen!E77 | F73: =Adressen!F77 -> Steigwaldstrasse 10 | G73: =Adressen!G77 -> 9055 | H73: =Adressen!H77 -> Bühler | ... Q73: =Adressen!Q77 -> 0
A74: =Adressen!A78 -> 73 | B74: =Adressen!B78 -> Herr und Frau | C74: =Adressen!C78 -> Michael und Renée | D74: =Adressen!D78 -> Lechner | E74: =Adressen!E78 -> -Bertoli | F74: =Adressen!F78 -> Steigwaldstrasse 12 | G74: =Adressen!G78 -> 9055 | H74: =Adressen!H78 -> Bühler | ... Q74: =Adressen!Q78
A75: =Adressen!A79 -> 74 | B75: =Adressen!B79 -> Frau | C75: =Adressen!C79 -> Irene | D75: =Adressen!D79 -> Lendenmann | E75: =Adressen!E79 | F75: =Adressen!F79 -> Steigwaldstrasse 13 | G75: =Adressen!G79 -> 9055 | H75: =Adressen!H79 -> Bühler | ... Q75: =Adressen!Q79 -> 0
A76: =Adressen!A80 -> 75 | B76: =Adressen!B80 -> Herr | C76: =Adressen!C80 -> Bernhard | D76: =Adressen!D80 -> Weiss | E76: =Adressen!E80 | F76: =Adressen!F80 -> Steigwaldstrasse 15 | G76: =Adressen!G80 -> 9055 | H76: =Adressen!H80 -> Bühler | ... Q76: =Adressen!Q80 -> 0
A77: =Adressen!A81 -> 76 | B77: =Adressen!B81 -> Herr und Frau | C77: =Adressen!C81 -> Peter und Marianne | D77: =Adressen!D81 -> Freund | E77: =Adressen!E81 -> -Schefer | F77: =Adressen!F81 -> Steigwaldstrasse 17 | G77: =Adressen!G81 -> 9055 | H77: =Adressen!H81 -> Bühler | ... Q77: =Adressen!Q81 -> 0
A78: =Adressen!A82 -> 77 | B78: =Adressen!B82 -> Herr | C78: =Adressen!C82 -> Hans Jörg | D78: =Adressen!D82 -> Freund | E78: =Adressen!E82 | F78: =Adressen!F82 -> Steigwaldstrasse 21 | G78: =Adressen!G82 -> 9055 | H78: =Adressen!H82 -> Bühler | ... Q78: =Adressen!Q82 -> 0
A79: =Adressen!A83 -> 78 | B79: =Adressen!B83 -> Frau | C79: =Adressen!C83 -> Daniela | D79: =Adressen!D83 -> Schriebl | F79: =Adressen!F83 -> Steigwaldstrasse 19 | G79: =Adressen!G83 -> 9055 | H79: =Adressen!H83 -> Bühler | I79: =Adressen!I83 -> e Frau | J79: =Adressen!J83 -> 0.67752936 | K79: =Adressen!K83 -> 20 | L79: =Adressen!L83 -> 0.47610171 | M79: =Adressen!M83 -> 47.6 | ... Q79: =Adressen!Q83 -> 0
A80: =Adressen!A84 -> 79 | B80: =Adressen!B84 -> Herr | C80: =Adressen!C84 -> Ralph | D80: =Adressen!D84 -> Suhner | E80: =Adressen!E84 | F80: =Adressen!F84 -> Steigstrasse 50 | G80: =Adressen!G84 -> 9055 | H80: =Adressen!H84 -> Bühler | ... Q80: =Adressen!Q84 -> 0
A81: =Adressen!A85 -> 80 | B81: =Adressen!B85 -> Herr und Frau | C81: =Adressen!C85 -> Christoph und Christine | D81: =Adressen!D85 -> Hofstetter | E81: -Jeker | F81: =Adressen!F85 -> Steigstrasse 46 | G81: =Adressen!G85 -> 9055 | H81: =Adressen!H85 -> Bühler | I81: =Adressen!I85 -> e Herr und Frau | J81: =Adressen!J85 -> 0.67752936 | K81: =Adressen!K85 -> 20 | L81: =Adressen!L85 -> 0.47610171 | M81: =Adressen!M85 -> 47.6 | ... Q81: =Adressen!Q85 -> 0
A82: =Adressen!A86 -> 81 | B82: =Adressen!B86 -> Herr und Frau | C82: =Adressen!C86 -> Daniel und Carmen | D82: =Adressen!D86 -> Eigenmann | F82: =Adressen!F86 -> Steigstrasse 48 | G82: =Adressen!G86 -> 9055 | H82: =Adressen!H86 -> Bühler | I82: =Adressen!I86 -> e Herr und Frau | J82: =Adressen!J86 -> 0.67752936 | K82: =Adressen!K86 -> 20 | L82: =Adressen!L86 -> 1.4424146 | M82: =Adressen!M86 -> 144.2 | ... Q82: =Adressen!Q86 -> 0
A83: =Adressen!A87 -> 82 | B83: =Adressen!B87 -> Herr und Frau | C83: =Adressen!C87 -> Gianfranco und Maria Angela | D83: =Adressen!D87 -> Renna | E83: =Adressen!E87 -> -Scuro | F83: =Adressen!F87 -> Steigstrasse 52 | G83: =Adressen!G87 -> 9055 | H83: =Adressen!H87 -> Bühler | ... Q83: =Adressen!Q87 -> 0
A84: =Adressen!A88 -> 83 | B84: =Adressen!B88 -> Herr und Frau | C84: =Adressen!C88 -> Naim und Semeate | D84: =Adressen!D88 -> Amidi | E84: =Adressen!E88 -> -Osmani | F84: =Adressen!F88 -> Steigstrasse 54 | G84: =Adressen!G88 -> 9055 | H84: =Adressen!H88 -> Bühler | ... Q84: =Adressen!Q88 -> 0
A85: =Adressen!A89 -> 84 | B85: =Adressen!B89 -> Herr | C85: =Adressen!C89 -> Andreas | D85: =Adressen!D89 -> Enderlin | E85: =Adressen!E89 -> -Rechsteiner | F85: =Adressen!F89 -> Oberer Mempfel 20 | G85: =Adressen!G89 -> 9055 | H85: =Adressen!H89 -> Bühler | ... Q85: =Adressen!Q89 -> 0
A86: =Adressen!A90 -> 85 | B86: =Adressen!B90 -> Herr und Frau | C86: =Adressen!C90 -> Silvano und Sarah | D86: =Adressen!D90 -> Leucci | E86: =Adressen!E90 -> -Oberholzer | F86: =Adressen!F90 -> Nord 72 | G86: =Adressen!G90 -> 9055 | H86: =Adressen!H90 -> Bühler | ... Q86: =Adressen!Q90 -> 0
A87: =Adressen!A93 -> 0 | B87: =Adressen!B93 -> 0 | C87: =Adressen!C93 -> 0 | D87: =Adressen!D93 -> 0 | E87: =Adressen!E93 -> 0 | F87: =Adressen!F93 -> 0 | G87: =Adressen!G93 -> 0 | H87: =Adressen!H93 -> 0 | ... Q87: =Adressen!Q93 -> 0
J90: =SUM(J2:J89) -> 99.322471 | K90: =SUM(K2:K89) -> 1700 | L90: =SUM(L2:L89) -> 99.523898 | M90: =SUM(M2:M89) -> 10058.8
