Workbook
Name _Zu1: Perimeter!#REF!
Name _Zu2: Perimeter!#REF!
Name B: Perimeter!#REF!
Name Total: Perimeter!#REF!
Name ZU: Perimeter!#REF!

Sheet Perimeter
A1: Unterhaltskostenverteiler Flurgenossenschaft Steig-Steigbach mit Teilstücken | AQ1: Amt für Landwirtschaft, Herisau_03.07.2026/pra
A3: Nr. | B3: Grundeigentümer | C3: GB Nr. | D3: G r u n d b u c h d a t e n | O3: Nr. | Z3: Kostenverteiler | AC3: Kostenverteiler | AF3: Kostenverteiler | AI3: Kostenverteiler | AL3: Kostenverteiler | AO3: Gesamtko- | AP3: B e m e r k u n g e n
D4: Wiese, | E4: Wald | F4: Wohnungen | H4: Gewerbe | I4: 1. Teilstk. | J4: 2. Teilstk. | K4: 3. Teilstk. | L4: 4. Teilstk. | M4: 5. Teilstk. | N4: ange- | P4: Teil- | Q4: ä u s s e r e B e z i e h u n g | Z4: Teilstk. 1 | AA4: =AQ4 -> 1170 | AB4: m | AC4: Teilstk. 2 | AD4: =AQ5 -> 215 | AE4: m | AF4: Teilstk.3 | AG4: =AQ6 -> 105 | AH4: m | AI4: Teilstk. 4 | AJ4: =AQ7 -> 100 | AK4: m | AL4: Teilstk. 5 | AM4: =AQ8 -> 75 | AN4: m | AO4: stenverteiler | AP4: Teilstk. 1 | AQ4: 1170
D5: Weide | N5: rechnete | P5: stück | Q5: Wiese, Weide | S5: W a l d | U5: Wohnung | W5: Gewerbe | AA5: Einzel- | AB5: Ihr | AD5: Einzel- | AE5: Ihr | AG5: Einzel- | AH5: Ihr | AJ5: Einzel- | AK5: Ihr | AM5: Einzel- | AN5: Ihr | AO5: Ihr | AP5: Teilstk. 2 | AQ5: 215
N6: Länge | Y6: Total | Z6: Total | AA6: anteil | AB6: Anteil | AC6: Total | AD6: anteil | AE6: Anteil | AF6: Total | AG6: anteil | AH6: Anteil | AI6: Total | AJ6: anteil | AK6: Anteil | AL6: Total | AM6: anteil | AN6: Anteil | AO6: Anteil | AP6: Teilstk. 3 | AQ6: 105
G7: Anzahl | AA7: =1/$AQ$9*AA4 -> 0.7027027 | AD7: =1/$AQ$9*AD4 -> 0.12912913 | AG7: =1/$AQ$9*AG4 -> 0.063063063 | AJ7: =1/$AQ$9*AJ4 -> 0.06006006 | AM7: =1/$AQ$9*AM4 -> 0.045045045 | AO7: =AM7+AJ7+AG7+AD7+AA7 -> 1 | AP7: Teilstk. 4 | AQ7: 100
AP8: Teilstk. 5 | AQ8: 75
D9: (ha) | E9: (ha) | F9: Anzahl | G9: Punkte | I9: (m) | J9: (m) | K9: (m) | L9: (m) | M9: (m) | N9: (m) | Q9: p | R9: m | S9: p | T9: m | U9: p | V9: m | Y9: Punkte | Z9: Punkte | AA9: % | AB9: % | AC9: Punkte | AD9: % | AE9: % | AF9: Punkte | AG9: % | AH9: % | AI9: Punkte | AJ9: % | AK9: % | AL9: Punkte | AM9: % | AN9: % | AO9: % | AP9: Totale Länge: | AQ9: =SUM(AQ4:AQ8) -> 1665
A12: 1 | B12: Freund-Fuster Urs und Heidi | C12: 85 | D12: 2.5004 | E12: 1.9612 | I12: 229 | N12: =SUM(I12:M12) -> 229 | O12: =A12 -> 1 | P12: 1 | Q12: =D12 -> 2.5004 | R12: =IF((D12)>0,N12,) -> 229 | S12: =E12*0.5*2/3 -> 0.65373333 | T12: =IF((E12)>0,N12,) -> 229 | U12: =G12 -> 0 | V12: =IF((F12)>0,N12,) -> 0 | Y12: =Q12*R12+S12*T12+U12*V12 -> 722.29653 | Z12: =Y12+Y13 -> 11252.297 | AA12: =Z12/$Z$238% -> 1.303207 | AB12: =AA12 -> 1.303207 | AC12: =Y14 -> 322.5 | AD12: =AC12/$AC$238% -> 5.1490006 | AE12: =AD12 -> 5.1490006 | AG12: =AF12/$AF$238% -> 0 | AH12: =AG12 -> 0 | AJ12: =AI12/$AI$238% -> 0 | AK12: =AJ12 -> 0 | AM12: =AL12/$AI$238% -> 0 | AN12: =AM12 -> 0 | AO12: =AB12*$AA$7+AE12*$AD$7+AH12*$AG$7+AK12*$AJ$7+AN12*$AM$7 -> 1.5806531 | AP12: 1/3 Brennholz
F13: 2 | G13: 9 | I13: 1170 | N13: =SUM(I13:M13) -> 1170 | O13: 1 | P13: 1 | U13: =G13 -> 9 | V13: =IF((F13)>0,N13,) -> 1170 | Y13: =Q13*R13+S13*T13+U13*V13 -> 10530 | AJ13: =AI13/$AI$238% -> 0 | AK13: =AJ13 -> 0 | AM13: =AL13/$AI$238% -> 0 | AN13: =AM13 -> 0 | AO13: =AB13*$AA$7+AE13*$AD$7+AH13*$AG$7+AK13*$AJ$7+AN13*$AM$7 -> 0
D14: 1.5 | E14: 1.92 | J14: 215 | N14: =SUM(I14:M14) -> 215 | O14: 1 | P14: 2 | Q14: =D14 -> 1.5 | R14: =IF((D14)>0,N14,) -> 215 | S14: =E14*0.5*2/3 -> 0.64 | U14: =G14 -> 0 | V14: =IF((F14)>0,N14,) -> 0 | Y14: =Q14*R14+S14*T14+U14*V14 -> 322.5 | AA14: =Z14/$Z$238% -> 0 | AB14: =AA14 -> 0 | AD14: =AC14/$AC$238% -> 0 | AE14: =AD14 -> 0 | AG14: =AF14/$AF$238% -> 0 | AH14: =AG14 -> 0 | AJ14: =AI14/$AI$238% -> 0 | AK14: =AJ14 -> 0 | AM14: =AL14/$AI$238% -> 0 | AN14: =AM14 -> 0 | AO14: =AB14*$AA$7+AE14*$AD$7+AH14*$AG$7+AK14*$AJ$7+AN14*$AM$7 -> 0 | AP14: 1/3 Brennholz
A16: 2 | B16: Egli Martina | C16: 87 | D16: 1.9816 | E16: 1.9508 | I16: 1170 | N16: =SUM(I16:M16) -> 1170 | O16: =A16 -> 2 | P16: 1 | Q16: =D16 -> 1.9816 | R16: =IF((D16)>0,N16,) -> 1170 | S16: =E16*0.5*2/3 -> 0.65026667 | T16: =IF((E16)>0,N16,) -> 1170 | U16: =G16 -> 0 | V16: =IF((F16)>0,N16,) -> 0 | Y16: =Q16*R16+S16*T16+U16*V16 -> 3079.284 | Z16: =Y16+Y18 -> 3738.384 | AA16: =Z16/$Z$238% -> 0.43296836 | AB16: =AA16 -> 0.43296836 | AC16: =Y17 -> 565.85133 | AD16: =AC16/$AC$238% -> 9.0343221 | AE16: =AD16 -> 9.0343221 | AG16: =AF16/$AF$238% -> 0 | AH16: =AG16 -> 0 | AJ16: =AI16/$AI$238% -> 0 | AK16: =AJ16 -> 0 | AM16: =AL16/$AI$238% -> 0 | AN16: =AM16 -> 0 | AO16: =AB16*$AA$7+AE16*$AD$7+AH16*$AG$7+AK16*$AJ$7+AN16*$AM$7 -> 1.4708422 | AP16: 1/3 Brennholz
D17: 1.9816 | E17: 1.9508 | J17: 215 | N17: =SUM(I17:M17) -> 215 | O17: 2 | P17: 2 | Q17: =D17 -> 1.9816 | R17: =IF((D17)>0,N17,) -> 215 | S17: =E17*0.5*2/3 -> 0.65026667 | T17: =IF((E17)>0,N17,) -> 215 | U17: =G17 -> 0 | V17: =IF((F17)>0,N17,) -> 0 | Y17: =Q17*R17+S17*T17+U17*V17 -> 565.85133 | AA17: =Z17/$Z$238% -> 0 | AB17: =AA17 -> 0 | AD17: =AC17/$AC$238% -> 0 | AE17: =AD17 -> 0 | AG17: =AF17/$AF$238% -> 0 | AH17: =AG17 -> 0 | AJ17: =AI17/$AI$238% -> 0 | AK17: =AJ17 -> 0 | AM17: =AL17/$AI$238% -> 0 | AN17: =AM17 -> 0 | AO17: =AB17*$AA$7+AE17*$AD$7+AH17*$AG$7+AK17*$AJ$7+AN17*$AM$7 -> 0 | AP17: 1/3 Brennholz
C18: 325 | E18: 1.69 | I18: 1170 | N18: =SUM(I18:M18) -> 1170 | O18: 2 | P18: 1 | Q18: =D18 -> 0 | R18: =IF((D18)>0,N18,) -> 0 | S18: =E18*0.5*2/3 -> 0.56333333 | T18: =IF((E18)>0,N18,) -> 1170 | U18: =G18 -> 0 | V18: =IF((F18)>0,N18,) -> 0 | Y18: =Q18*R18+S18*T18+U18*V18 -> 659.1 | AA18: =Z18/$Z$238% -> 0 | AB18: =AA18 -> 0 | AD18: =AC18/$AC$238% -> 0 | AE18: =AD18 -> 0 | AG18: =AF18/$AF$238% -> 0 | AH18: =AG18 -> 0 | AJ18: =AI18/$AI$238% -> 0 | AK18: =AJ18 -> 0 | AM18: =AL18/$AI$238% -> 0 | AN18: =AM18 -> 0 | AO18: =AB18*$AA$7+AE18*$AD$7+AH18*$AG$7+AK18*$AJ$7+AN18*$AM$7 -> 0 | AP18: 1/3 Brennholz_ Fahrrecht
A20: 3 | B20: Einwohnergemeinde Bühler | C20: 220 | N20: =SUM(I20:M20) -> 0 | O20: 3 | Q20: =D20 -> 0 | R20: =IF((D20)>0,N20,) -> 0 | T20: =IF((E20)>0,N20,) -> 0 | U20: =G20 -> 0 | V20: =IF((F20)>0,N20,) -> 0 | AD20: =AC20/$AC$238% -> 0 | AE20: =AD20 -> 0 | AG20: =AF20/$AF$238% -> 0 | AH20: =AG20 -> 0 | AJ20: =AI20/$AI$238% -> 0 | AK20: =AJ20 -> 0 | AM20: =AL20/$AI$238% -> 0 | AN20: =AM20 -> 0 | AO20: =AB20*$AA$7+AE20*$AD$7+AH20*$AG$7+AK20*$AJ$7+AN20*$AM$7 -> 0 | AP20: nur Strasse
C21: 268 | E21: 10.6764 | I21: 1170 | N21: =SUM(I21:M21) -> 1170 | O21: 3 | P21: 1 | Q21: =D21 -> 0 | R21: =IF((D21)>0,N21,) -> 0 | S21: =E21*0.5 -> 5.3382 | T21: =IF((E21)>0,N21,) -> 1170 | U21: =G21 -> 0 | V21: =IF((F21)>0,N21,) -> 0 | Y21: =Q21*R21+S21*T21+U21*V21 -> 6245.694 | Z21: =Y21+Y22 -> 6266.3445 | AA21: =Z21/$Z$238% -> 0.72574912 | AB21: =AA21 -> 0.72574912 | AD21: =AC21/$AC$238% -> 0 | AE21: =AD21 -> 0 | AG21: =AF21/$AF$238% -> 0 | AH21: =AG21 -> 0 | AJ21: =AI21/$AI$238% -> 0 | AK21: =AJ21 -> 0 | AM21: =AL21/$AI$238% -> 0 | AN21: =AM21 -> 0 | AO21: =AB21*$AA$7+AE21*$AD$7+AH21*$AG$7+AK21*$AJ$7+AN21*$AM$7 -> 0.50998587
C22: 270 | E22: 0.0353 | I22: 1170 | N22: =SUM(I22:M22) -> 1170 | O22: 3 | P22: 1 | Q22: =D22 -> 0 | R22: =IF((D22)>0,N22,) -> 0 | S22: =E22*0.5 -> 0.01765 | T22: =IF((E22)>0,N22,) -> 1170 | U22: =G22 -> 0 | V22: =IF((F22)>0,N22,) -> 0 | Y22: =Q22*R22+S22*T22+U22*V22 -> 20.6505 | AD22: =AC22/$AC$238% -> 0 | AE22: =AD22 -> 0 | AG22: =AF22/$AF$238% -> 0 | AH22: =AG22 -> 0 | AJ22: =AI22/$AI$238% -> 0 | AK22: =AJ22 -> 0 | AM22: =AL22/$AI$238% -> 0 | AN22: =AM22 -> 0 | AO22: =AB22*$AA$7+AE22*$AD$7+AH22*$AG$7+AK22*$AJ$7+AN22*$AM$7 -> 0
A24: 4 | B24: Sporn Robert und Maya | C24: 190 | F24: 1 | G24: 5 | I24: 1170 | N24: =SUM(I24:M24) -> 1170 | O24: =A24 -> 4 | P24: 1 | Q24: =D24 -> 0 | R24: =IF((D24)>0,N24,) -> 0 | S24: =E24*0.5*3/3 -> 0 | T24: =IF((E24)>0,N24,) -> 0 | U24: =G24 -> 5 | V24: =IF((F24)>0,N24,) -> 1170 | Y24: =Q24*R24+S24*T24+U24*V24 -> 5850 | Z24: =Y24 -> 5850 | AA24: =Z24/$Z$238% -> 0.67752936 | AB24: =AA24 -> 0.67752936 | AD24: =AC24/$AC$238% -> 0 | AE24: =AD24 -> 0 | AG24: =AF24/$AF$238% -> 0 | AH24: =AG24 -> 0 | AJ24: =AI24/$AI$238% -> 0 | AK24: =AJ24 -> 0 | AM24: =AL24/$AI$238% -> 0 | AN24: =AM24 -> 0 | AO24: =AB24*$AA$7+AE24*$AD$7+AH24*$AG$7+AK24*$AJ$7+AN24*$AM$7 -> 0.47610171
A26: 5 | B26: Jent-Sörensen Ingrid | C26: 191 | D26: 0.8783 | F26: 1 | G26: 5 | I26: 1170 | N26: =SUM(I26:M26) -> 1170 | O26: =A26 -> 5 | P26: 1 | Q26: =D26 -> 0.8783 | R26: =IF((D26)>0,N26,) -> 1170 | S26: =E26*0.5*3/3 -> 0 | T26: =IF((E26)>0,N26,) -> 0 | U26: =G26 -> 5 | V26: =IF((F26)>0,N26,) -> 1170 | Y26: =Q26*R26+S26*T26+U26*V26 -> 6877.611 | Z26: =Y26+Y27 -> 7609.797 | AA26: =Z26/$Z$238% -> 0.88134374 | AB26: =AA26 -> 0.88134374 | AD26: =AC26/$AC$238% -> 0 | AE26: =AD26 -> 0 | AG26: =AF26/$AF$238% -> 0 | AH26: =AG26 -> 0 | AJ26: =AI26/$AI$238% -> 0 | AK26: =AJ26 -> 0 | AM26: =AL26/$AI$238% -> 0 | AN26: =AM26 -> 0 | AO26: =AB26*$AA$7+AE26*$AD$7+AH26*$AG$7+AK26*$AJ$7+AN26*$AM$7 -> 0.61932263
C27: 192 | D27: 0.2538 | E27: 1.116 | I27: 1170 | N27: =SUM(I27:M27) -> 1170 | O27: 5 | P27: 1 | Q27: =D27 -> 0.2538 | R27: =IF((D27)>0,N27,) -> 1170 | S27: =E27*0.5*2/3 -> 0.372 | T27: =IF((E27)>0,N27,) -> 1170 | U27: =G27 -> 0 | V27: =IF((F27)>0,N27,) -> 0 | W27: =H27*10 -> 0 | Y27: =Q27*R27+S27*T27+U27*V27+W27*X27 -> 732.186 | AA27: =Z27/$Z$238% -> 0 | AB27: =AA27 -> 0 | AD27: =AC27/$AC$238% -> 0 | AE27: =AD27 -> 0 | AG27: =AF27/$AF$238% -> 0 | AH27: =AG27 -> 0 | AJ27: =AI27/$AI$238% -> 0 | AK27: =AJ27 -> 0 | AM27: =AL27/$AI$238% -> 0 | AN27: =AM27 -> 0 | AO27: =AB27*$AA$7+AE27*$AD$7+AH27*$AG$7+AK27*$AJ$7+AN27*$AM$7 -> 0 | AP27: 1/3 Brennholz
A29: 6 | B29: Hörler Yvonne und Urs | C29: 194 | D29: 1.2693 | F29: 1 | G29: 5 | I29: 1170 | N29: =SUM(I29:M29) -> 1170 | O29: =A29 -> 6 | P29: 1 | Q29: =D29 -> 1.2693 | R29: =IF((D29)>0,N29,) -> 1170 | S29: =E29*0.5*2/3 -> 0 | T29: =IF((E29)>0,N29,) -> 0 | U29: =G29 -> 5 | V29: =IF((F29)>0,N29,) -> 1170 | Y29: =Q29*R29+S29*T29+U29*V29 -> 7335.081 | Z29: =Y29 -> 7335.081 | AA29: =Z29/$Z$238% -> 0.84952696 | AB29: =AA29 -> 0.84952696 | AD29: =AC29/$AC$238% -> 0 | AE29: =AD29 -> 0 | AG29: =AF29/$AF$238% -> 0 | AH29: =AG29 -> 0 | AJ29: =AI29/$AI$238% -> 0 | AK29: =AJ29 -> 0 | AM29: =AL29/$AI$238% -> 0 | AN29: =AM29 -> 0 | AO29: =AB29*$AA$7+AE29*$AD$7+AH29*$AG$7+AK29*$AJ$7+AN29*$AM$7 -> 0.59696489
A31: 7 | B31: Freequenc AG | C31: 195 | F31: 2 | G31: 9 | H31: 1 | I31: 1170 | N31: =SUM(I31:M31) -> 1170 | O31: =A31 -> 7 | P31: 1 | Q31: =D31 -> 0 | R31: =IF((D31)>0,N31,) -> 0 | S31: =E31*0.5*2/3 -> 0 | T31: =IF((E31)>0,N31,) -> 0 | U31: =G31 -> 9 | V31: =IF((F31)>0,N31,) -> 1170 | W31: =H31*10*0.5 -> 5 | X31: =N31 -> 1170 | Y31: =Q31*R31+S31*T31+U31*V31+W31*X31 -> 16380 | Z31: =Y31 -> 16380 | AA31: =Z31/$Z$238% -> 1.8970822 | AB31: =AA31 -> 1.8970822 | AD31: =AC31/$AC$238% -> 0 | AE31: =AD31 -> 0 | AG31: =AF31/$AF$238% -> 0 | AH31: =AG31 -> 0 | AJ31: =AI31/$AI$238% -> 0 | AK31: =AJ31 -> 0 | AM31: =AL31/$AI$238% -> 0 | AN31: =AM31 -> 0 | AO31: =AB31*$AA$7+AE31*$AD$7+AH31*$AG$7+AK31*$AJ$7+AN31*$AM$7 -> 1.3330848 | AP31: 1/2 Gewerbe
A33: 8 | B33: Suhner-Eisenhut Willi und Katharina | C33: 196 | F33: 1 | G33: 5 | I33: 1170 | N33: =SUM(I33:M33) -> 1170 | O33: =A33 -> 8 | P33: 1 | Q33: =D33 -> 0 | R33: =IF((D33)>0,N33,) -> 0 | S33: =E33*0.5*2/3 -> 0 | T33: =IF((E33)>0,N33,) -> 0 | U33: =G33 -> 5 | V33: =IF((F33)>0,N33,) -> 1170 | W33: =H33*10 -> 0 | Y33: =Q33*R33+S33*T33+U33*V33+W33*X33 -> 5850 | Z33: =Y33 -> 5850 | AA33: =Z33/$Z$238% -> 0.67752936 | AB33: =AA33 -> 0.67752936 | AD33: =AC33/$AC$238% -> 0 | AE33: =AD33 -> 0 | AG33: =AF33/$AF$238% -> 0 | AH33: =AG33 -> 0 | AJ33: =AI33/$AI$238% -> 0 | AK33: =AJ33 -> 0 | AM33: =AL33/$AI$238% -> 0 | AN33: =AM33 -> 0 | AO33: =AB33*$AA$7+AE33*$AD$7+AH33*$AG$7+AK33*$AJ$7+AN33*$AM$7 -> 0.47610171
A35: 9 | B35: Manetsch Michael | C35: 199 | F35: 2 | G35: 9 | I35: 1170 | N35: =SUM(I35:M35) -> 1170 | O35: =A35 -> 9 | P35: 1 | Q35: =D35 -> 0 | R35: =IF((D35)>0,N35,) -> 0 | T35: =IF((E35)>0,N35,) -> 0 | U35: =G35 -> 9 | V35: =IF((F35)>0,N35,) -> 1170 | W35: =H35*10 -> 0 | Y35: =Q35*R35+S35*T35+U35*V35+W35*X35 -> 10530 | Z35: =Y35 -> 10530 | AA35: =Z35/$Z$238% -> 1.2195528 | AB35: =AA35 -> 1.2195528 | AD35: =AC35/$AC$238% -> 0 | AE35: =AD35 -> 0 | AG35: =AF35/$AF$238% -> 0 | AH35: =AG35 -> 0 | AJ35: =AI35/$AI$238% -> 0 | AK35: =AJ35 -> 0 | AM35: =AL35/$AI$238% -> 0 | AN35: =AM35 -> 0 | AO35: =AB35*$AA$7+AE35*$AD$7+AH35*$AG$7+AK35*$AJ$7+AN35*$AM$7 -> 0.85698308
A37: 10 | B37: Schiess Peter, Schiess Heinz | C37: 200 | D37: 0.174 | F37: 2 | G37: 9 | I37: 1170 | N37: =SUM(I37:M37) -> 1170 | O37: =A37 -> 10 | P37: 1 | Q37: =D37 -> 0.174 | R37: =IF((D37)>0,N37,) -> 1170 | T37: =IF((E37)>0,N37,) -> 0 | U37: =G37 -> 9 | V37: =IF((F37)>0,N37,) -> 1170 | W37: =H37*10 -> 0 | Y37: =Q37*R37+S37*T37+U37*V37+W37*X37 -> 10733.58 | Z37: =Y37 -> 10733.58 | AA37: =Z37/$Z$238% -> 1.2431309 | AB37: =AA37 -> 1.2431309 | AD37: =AC37/$AC$238% -> 0 | AE37: =AD37 -> 0 | AG37: =AF37/$AF$238% -> 0 | AH37: =AG37 -> 0 | AJ37: =AI37/$AI$238% -> 0 | AK37: =AJ37 -> 0 | AM37: =AL37/$AI$238% -> 0 | AN37: =AM37 -> 0 | AO37: =AB37*$AA$7+AE37*$AD$7+AH37*$AG$7+AK37*$AJ$7+AN37*$AM$7 -> 0.87355142
A39: 11 | B39: Ulmann-Manser Roland | C39: 201 | F39: 1 | G39: 5 | I39: 1170 | N39: =SUM(I39:M39) -> 1170 | O39: =A39 -> 11 | P39: 1 | Q39: =D39 -> 0 | R39: =IF((D39)>0,N39,) -> 0 | S39: =E39*0.5*2/3 -> 0 | T39: =IF((E39)>0,N39,) -> 0 | U39: =G39 -> 5 | V39: =IF((F39)>0,N39,) -> 1170 | W39: =H39*10 -> 0 | Y39: =Q39*R39+S39*T39+U39*V39+W39*X39 -> 5850 | Z39: =Y39 -> 5850 | AA39: =Z39/$Z$238% -> 0.67752936 | AB39: =AA39 -> 0.67752936 | AD39: =AC39/$AC$238% -> 0 | AE39: =AD39 -> 0 | AG39: =AF39/$AF$238% -> 0 | AH39: =AG39 -> 0 | AJ39: =AI39/$AI$238% -> 0 | AK39: =AJ39 -> 0 | AM39: =AL39/$AI$238% -> 0 | AN39: =AM39 -> 0 | AO39: =AB39*$AA$7+AE39*$AD$7+AH39*$AG$7+AK39*$AJ$7+AN39*$AM$7 -> 0.47610171
A41: 12 | B41: Joller-Inhelder Susanne und Lukas | C41: 202 | D41: 0.6805 | F41: 2 | G41: 9 | I41: 1170 | N41: =SUM(I41:M41) -> 1170 | O41: =A41 -> 12 | P41: 1 | Q41: =D41 -> 0.6805 | R41: =IF((D41)>0,N41,) -> 1170 | S41: =E41*0.5*2/3 -> 0 | T41: =IF((E41)>0,N41,) -> 0 | U41: =G41 -> 9 | V41: =IF((F41)>0,N41,) -> 1170 | W41: =H41*10 -> 0 | Y41: =Q41*R41+S41*T41+U41*V41+W41*X41 -> 11326.185 | Z41: =Y41+Y42 -> 11818.248 | AA41: =Z41/$Z$238% -> 1.3687538 | AB41: =AA41 -> 1.3687538 | AD41: =AC41/$AC$238% -> 0 | AE41: =AD41 -> 0 | AG41: =AF41/$AF$238% -> 0 | AH41: =AG41 -> 0 | AJ41: =AI41/$AI$238% -> 0 | AK41: =AJ41 -> 0 | AM41: =AL41/$AI$238% -> 0 | AN41: =AM41 -> 0 | AO41: =AB41*$AA$7+AE41*$AD$7+AH41*$AG$7+AK41*$AJ$7+AN41*$AM$7 -> 0.96182702
C42: 101 | E42: 1.2617 | I42: 1170 | N42: =SUM(I42:M42) -> 1170 | O42: 12 | P42: 1 | Q42: =D42 -> 0 | R42: =IF((D42)>0,N42,) -> 0 | S42: =E42*0.5*2/3 -> 0.42056667 | T42: =IF((E42)>0,N42,) -> 1170 | U42: =G42 -> 0 | V42: =IF((F42)>0,N42,) -> 0 | W42: =H42*10 -> 0 | Y42: =Q42*R42+S42*T42+U42*V42+W42*X42 -> 492.063 | AA42: =Z42/$Z$238% -> 0 | AB42: =AA42 -> 0 | AD42: =AC42/$AC$238% -> 0 | AE42: =AD42 -> 0 | AG42: =AF42/$AF$238% -> 0 | AH42: =AG42 -> 0 | AJ42: =AI42/$AI$238% -> 0 | AK42: =AJ42 -> 0 | AM42: =AL42/$AI$238% -> 0 | AN42: =AM42 -> 0 | AO42: =AB42*$AA$7+AE42*$AD$7+AH42*$AG$7+AK42*$AJ$7+AN42*$AM$7 -> 0 | AP42: 1/3 Brennholz
A44: 13 | B44: Hadjidj Smail und Hadjidj Schweizer Harlis | C44: 203 | F44: 1 | G44: 5 | I44: 1170 | N44: =SUM(I44:M44) -> 1170 | O44: =A44 -> 13 | P44: 1 | Q44: =D44 -> 0 | R44: =IF((D44)>0,N44,) -> 0 | S44: =E44*0.5*2/3 -> 0 | T44: =IF((E44)>0,N44,) -> 0 | U44: =G44 -> 5 | V44: =IF((F44)>0,N44,) -> 1170 | W44: =H44*10 -> 0 | Y44: =Q44*R44+S44*T44+U44*V44+W44*X44 -> 5850 | Z44: =Y44 -> 5850 | AA44: =Z44/$Z$238% -> 0.67752936 | AB44: =AA44 -> 0.67752936 | AD44: =AC44/$AC$238% -> 0 | AE44: =AD44 -> 0 | AG44: =AF44/$AF$238% -> 0 | AH44: =AG44 -> 0 | AJ44: =AI44/$AI$238% -> 0 | AK44: =AJ44 -> 0 | AM44: =AL44/$AI$238% -> 0 | AN44: =AM44 -> 0 | AO44: =AB44*$AA$7+AE44*$AD$7+AH44*$AG$7+AK44*$AJ$7+AN44*$AM$7 -> 0.47610171
A46: 14 | B46: Schobel Klaus und Brigitte | C46: 204 | F46: 1 | G46: 5 | I46: 1170 | N46: =SUM(I46:M46) -> 1170 | O46: =A46 -> 14 | P46: 1 | Q46: =D46 -> 0 | R46: =IF((D46)>0,N46,) -> 0 | S46: =E46*0.5*2/3 -> 0 | T46: =IF((E46)>0,N46,) -> 0 | U46: =G46 -> 5 | V46: =IF((F46)>0,N46,) -> 1170 | W46: =H46*10 -> 0 | Y46: =Q46*R46+S46*T46+U46*V46+W46*X46 -> 5850 | Z46: =Y46 -> 5850 | AA46: =Z46/$Z$238% -> 0.67752936 | AB46: =AA46 -> 0.67752936 | AD46: =AC46/$AC$238% -> 0 | AE46: =AD46 -> 0 | AG46: =AF46/$AF$238% -> 0 | AH46: =AG46 -> 0 | AJ46: =AI46/$AI$238% -> 0 | AK46: =AJ46 -> 0 | AM46: =AL46/$AI$238% -> 0 | AN46: =AM46 -> 0 | AO46: =AB46*$AA$7+AE46*$AD$7+AH46*$AG$7+AK46*$AJ$7+AN46*$AM$7 -> 0.47610171
A48: 15 | B48: Schneider-Frei Ernst, Balgach | C48: 206 | F48: 1 | G48: 5 | I48: 1170 | N48: =SUM(I48:M48) -> 1170 | O48: =A48 -> 15 | P48: 1 | Q48: =D48 -> 0 | R48: =IF((D48)>0,N48,) -> 0 | S48: =E48*0.5*2/3 -> 0 | T48: =IF((E48)>0,N48,) -> 0 | U48: =G48 -> 5 | V48: =IF((F48)>0,N48,) -> 1170 | W48: =H48*10 -> 0 | Y48: =Q48*R48+S48*T48+U48*V48+W48*X48 -> 5850 | Z48: =Y48+Y49+Y50+Y51 -> 7082.439 | AA48: =Z48/$Z$238% -> 0.82026672 | AB48: =AA48 -> 0.82026672 | AD48: =AC48/$AC$238% -> 0 | AE48: =AD48 -> 0 | AG48: =AF48/$AF$238% -> 0 | AH48: =AG48 -> 0 | AJ48: =AI48/$AI$238% -> 0 | AK48: =AJ48 -> 0 | AM48: =AL48/$AI$238% -> 0 | AN48: =AM48 -> 0 | AO48: =AB48*$AA$7+AE48*$AD$7+AH48*$AG$7+AK48*$AJ$7+AN48*$AM$7 -> 0.57640364
C49: 263 | E49: 0.1847 | I49: 1170 | N49: =SUM(I49:M49) -> 1170 | O49: 15 | P49: 1 | Q49: =D49 -> 0 | R49: =IF((D49)>0,N49,) -> 0 | S49: =E49*0.5*2/3 -> 0.061566667 | T49: =IF((E49)>0,N49,) -> 1170 | U49: =G49 -> 0 | V49: =IF((F49)>0,N49,) -> 0 | W49: =H49*10 -> 0 | Y49: =Q49*R49+S49*T49+U49*V49+W49*X49 -> 72.033 | AA49: =Z49/$Z$238% -> 0 | AB49: =AA49 -> 0 | AO49: =AB49*$AA$7+AE49*$AD$7+AH49*$AG$7+AK49*$AJ$7+AN49*$AM$7 -> 0 | AP49: 1/3 Brennholz
C50: 641 | D50: 0 | I50: 1170 | N50: =SUM(I50:M50) -> 1170 | O50: 15 | P50: 1 | Q50: =D50 -> 0 | R50: =IF((D50)>0,N50,) -> 0 | S50: =E50*0.5*2/3 -> 0 | T50: =IF((E50)>0,N50,) -> 0 | U50: =G50 -> 0 | V50: =IF((F50)>0,N50,) -> 0 | W50: =H50*10 -> 0 | Y50: =Q50*R50+S50*T50+U50*V50+W50*X50 -> 0 | AO50: =AB50*$AA$7+AE50*$AD$7+AH50*$AG$7+AK50*$AJ$7+AN50*$AM$7 -> 0
C51: 658 | D51: 0.9918 | I51: 1170 | N51: =SUM(I51:M51) -> 1170 | O51: 15 | P51: 1 | Q51: =D51 -> 0.9918 | R51: =IF((D51)>0,N51,) -> 1170 | S51: =E51*0.5*2/3 -> 0 | T51: =IF((E51)>0,N51,) -> 0 | U51: =G51 -> 0 | V51: =IF((F51)>0,N51,) -> 0 | W51: =H51*10 -> 0 | Y51: =Q51*R51+S51*T51+U51*V51+W51*X51 -> 1160.406
A53: 16 | B53: Inauen Hans | C53: 217 | D53: 1.9251 | E53: 0.387 | I53: 180 | N53: =SUM(I53:M53) -> 180 | O53: =A53 -> 16 | P53: 1 | Q53: =D53 -> 1.9251 | R53: =IF((D53)>0,N53,) -> 180 | S53: =E53*0.5*2/3 -> 0.129 | T53: =IF((E53)>0,N53,) -> 180 | U53: =G53 -> 0 | V53: =IF((F53)>0,N53,) -> 0 | W53: =H53*10 -> 0 | X53: =N53 -> 180 | Y53: =Q53*R53+S53*T53+U53*V53+W53*X53 -> 369.738 | Z53: =Y53+Y54+Y55 -> 22605.783 | AA53: =Z53/$Z$238% -> 2.6181336 | AB53: =AA53 -> 2.6181336 | AD53: =AC53/$AC$238% -> 0 | AE53: =AD53 -> 0 | AG53: =AF53/$AF$238% -> 0 | AH53: =AG53 -> 0 | AJ53: =AI53/$AI$238% -> 0 | AK53: =AJ53 -> 0 | AM53: =AL53/$AI$238% -> 0 | AN53: =AM53 -> 0 | AO53: =AB53*$AA$7+AE53*$AD$7+AH53*$AG$7+AK53*$AJ$7+AN53*$AM$7 -> 1.8397696 | AP53: 1/3 Brennholz
F54: 2 | G54: 9 | H54: 1 | I54: 1170 | N54: =SUM(I54:M54) -> 1170 | O54: 16 | P54: 2 | Q54: =D54 -> 0 | R54: =IF((D54)>0,N54,) -> 0 | S54: =E54*0.5*2/3 -> 0 | T54: =IF((E54)>0,N54,) -> 0 | U54: =G54 -> 9 | V54: =IF((F54)>0,N54,) -> 1170 | W54: =H54*10 -> 10 | X54: =N54 -> 1170 | Y54: =Q54*R54+S54*T54+U54*V54+W54*X54 -> 22230 | AJ54: =AI54/$AI$238% -> 0 | AK54: =AJ54 -> 0 | AM54: =AL54/$AI$238% -> 0 | AN54: =AM54 -> 0 | AO54: =AB54*$AA$7+AE54*$AD$7+AH54*$AG$7+AK54*$AJ$7+AN54*$AM$7 -> 0
C55: 219 | E55: 0.0155 | I55: 1170 | N55: =SUM(I55:M55) -> 1170 | O55: 16 | P55: 3 | Q55: =D55 -> 0 | R55: =IF((D55)>0,N55,) -> 0 | S55: =E55*0.5*2/3 -> 0.0051666667 | T55: =IF((E55)>0,N55,) -> 1170 | U55: =G55 -> 0 | V55: =IF((F55)>0,N55,) -> 0 | W55: =H55*10 -> 0 | X55: =N55 -> 1170 | Y55: =Q55*R55+S55*T55+U55*V55+W55*X55 -> 6.045 | AO55: =AB55*$AA$7+AE55*$AD$7+AH55*$AG$7+AK55*$AJ$7+AN55*$AM$7 -> 0
A57: 17 | B57: Benz-Koller Rebeka | C57: 218 | D57: 0.1607 | F57: 2 | G57: 9 | I57: 1170 | N57: =SUM(I57:M57) -> 1170 | O57: =A57 -> 17 | P57: 1 | Q57: =D57 -> 0.1607 | R57: =IF((D57)>0,N57,) -> 1170 | S57: =E57*0.5*2/3 -> 0 | T57: =IF((E57)>0,N57,) -> 0 | U57: =G57 -> 9 | V57: =IF((F57)>0,N57,) -> 1170 | W57: =H57*10 -> 0 | Y57: =Q57*R57+S57*T57+U57*V57+W57*X57 -> 10718.019 | Z57: =Y57+Y59+Y61+Y58 -> 17435.567 | AA57: =Z57/$Z$238% -> 2.0193347 | AB57: =AA57 -> 2.0193347 | AD57: =AC57/$AC$238% -> 0 | AE57: =AD57 -> 0 | AF57: =Y60 -> 233.366 | AG57: =AF57/$AF$238% -> 8.6967637 | AH57: =AG57 -> 8.6967637 | AJ57: =AI57/$AI$238% -> 0 | AK57: =AJ57 -> 0 | AM57: =AL57/$AI$238% -> 0 | AN57: =AM57 -> 0 | AO57: =AB57*$AA$7+AE57*$AD$7+AH57*$AG$7+AK57*$AJ$7+AN57*$AM$7 -> 1.9674365
C58: 726 | F58: 1 | G58: 5 | I58: 1170 | N58: =SUM(I58:M58) -> 1170 | O58: =A58 -> 0 | P58: 1 | Q58: =D58 -> 0 | R58: =IF((D58)>0,N58,) -> 0 | S58: =E58*0.5*2/3 -> 0 | T58: =IF((E58)>0,N58,) -> 0 | U58: =G58 -> 5 | V58: =IF((F58)>0,N58,) -> 1170 | W58: =H58*10 -> 0 | Y58: =Q58*R58+S58*T58+U58*V58+W58*X58 -> 5850 | AA58: =Z58/$Z$238% -> 0 | AB58: =AA58 -> 0 | AD58: =AC58/$AC$238% -> 0 | AE58: =AD58 -> 0 | AG58: =AF58/$AF$238% -> 0 | AH58: =AG58 -> 0 | AO58: =AB58*$AA$7+AE58*$AD$7+AH58*$AG$7+AK58*$AJ$7+AN58*$AM$7 -> 0
C59: 596 | D59: 2.1387 | E59: 0.2515 | I59: 350 | N59: =SUM(I59:M59) -> 350 | O59: 17 | P59: 1 | Q59: =D59 -> 2.1387 | R59: =IF((D59)>0,N59,) -> 350 | S59: =E59*0.5*2/3 -> 0.083833333 | T59: =IF((E59)>0,N59,) -> 350 | U59: =G59 -> 0 | V59: =IF((F59)>0,N59,) -> 0 | W59: =H59*10 -> 0 | Y59: =Q59*R59+S59*T59+U59*V59+W59*X59 -> 777.88667 | AA59: =Z59/$Z$238% -> 0 | AB59: =AA59 -> 0 | AD59: =AC59/$AC$238% -> 0 | AE59: =AD59 -> 0 | AG59: =AF59/$AF$238% -> 0 | AH59: =AG59 -> 0 | AJ59: =AI59/$AI$238% -> 0 | AK59: =AJ59 -> 0 | AM59: =AL59/$AI$238% -> 0 | AN59: =AM59 -> 0 | AO59: =AB59*$AA$7+AE59*$AD$7+AH59*$AG$7+AK59*$AJ$7+AN59*$AM$7 -> 0 | AP59: 1/3 Brennholz
...

Sheet Adressen
K1: Sanierung Steig | M1: Unterhalt | Q1: Kassier, Bühler_18.07.2026/grc
K2: Kostensatz [1%] | L2: 0 | M2: Kostensatz [1%] | N2: 100
K3: Mindesbeitrag | L3: 20 | M3: Mindesbeitrag | N3: 20
A5: Mitglied-nr | B5: M_F | C5: Vorname | D5: Name1 | E5: Name2 | F5: Adresse | G5: PLZ | H5: Wohnort | I5: Anrede | J5: Anteil T1 | K5: Kosten T1 | L5: Anteil | M5: Kosten | N5: GB-Nr. | O5: Email | P5: Bemerkungen | Q5: abmeldugn HV
A6: 1 | B6: Herr und Frau | C6: Urs und Heidi | D6: Freund | E6: -Fuster | F6: Steigstrasse 3 | G6: 9055 | H6: Bühler | I6: e Herr und Frau | J6: =Perimeter!AB12 -> 1.303207 | K6: =ROUND(IF(J6*$L$2<$L$3,$L$3,J6*$L$2),1) -> 20 | L6: =Perimeter!AO12 -> 1.5806531 | M6: =ROUND(IF(L6*$N$2<$N$3,$N$3,L6*$N$2),1) -> 158.1 | N6: 85
A7: 2 | B7: Frau | C7: Martina | D7: Egli | F7: Gern 27 | G7: 9055 | H7: Bühler | I7: e Frau | J7: =Perimeter!AB16 -> 0.43296836 | K7: =ROUND(IF(J7*$L$2<$L$3,$L$3,J7*$L$2),1) -> 20 | L7: =Perimeter!AO16 -> 1.4708422 | M7: =ROUND(IF(L7*$N$2<$N$3,$N$3,L7*$N$2),1) -> 147.1 | N7: 87, 325 | P7: neue Aufteilung
A8: 3 | B8: An die | C8: Einwohnergemeinde Bühler | F8: Dorfstrasse 42 | G8: 9055 | H8: Bühler | I8: e Damen und Herren | J8: =Perimeter!AB21 -> 0.72574912 | K8: =ROUND(IF(J8*$L$2<$L$3,$L$3,J8*$L$2),1) -> 20 | L8: =Perimeter!AO21 -> 0.50998587 | M8: =ROUND(IF(L8*$N$2<$N$3,$N$3,L8*$N$2),1) -> 51 | N8: 220, 268, 270
A9: 4 | B9: Herr | C9: Robert + Maya | D9: Sporn | E9: Trochsler | F9: Steigstrasse 12 | G9: 9055 | H9: Bühler | I9: e Herr und Frau | J9: =Perimeter!AB24 -> 0.67752936 | K9: =ROUND(IF(J9*$L$2<$L$3,$L$3,J9*$L$2),1) -> 20 | L9: =Perimeter!AO24 -> 0.47610171 | M9: =ROUND(IF(L9*$N$2<$N$3,$N$3,L9*$N$2),1) -> 47.6 | N9: 190
A10: 5 | B10: Frau | C10: Dr. Ingrid | D10: Jent | E10: -Sörensen | F10: Alte Landstrasse 84 | G10: 8700 | H10: Küsnacht | I10: e Frau | J10: =Perimeter!AB26 -> 0.88134374 | K10: =ROUND(IF(J10*$L$2<$L$3,$L$3,J10*$L$2),1) -> 20 | L10: =Perimeter!AO26 -> 0.61932263 | M10: =ROUND(IF(L10*$N$2<$N$3,$N$3,L10*$N$2),1) -> 61.9 | N10: 191, 192 | O10: j.jent@bluewin.ch
A11: 6 | B11: Frau | C11: Yvonne | D11: Hörler | F11: Lüdenstrasse 25 | G11: 8500 | H11: Frauenfeld | I11: e Frau | J11: =Perimeter!AB29 -> 0.84952696 | K11: =ROUND(IF(J11*$L$2<$L$3,$L$3,J11*$L$2),1) -> 20 | L11: =Perimeter!AO29 -> 0.59696489 | M11: =ROUND(IF(L11*$N$2<$N$3,$N$3,L11*$N$2),1) -> 59.7 | N11: 194
A12: 7 | B12: Geschätzte | C12: Freequenc AG | F12: Greifenstrasse 8 | G12: 9000 | H12: St. Gallen | I12: e Damen und Herren | J12: =Perimeter!AB31 -> 1.8970822 | K12: =ROUND(IF(J12*$L$2<$L$3,$L$3,J12*$L$2),1) -> 20 | L12: =Perimeter!AO31 -> 1.3330848 | M12: =ROUND(IF(L12*$N$2<$N$3,$N$3,L12*$N$2),1) -> 133.3 | N12: 195
A13: 8 | B13: Herr und Frau | C13: Willi und Katharina | D13: Suhner | E13: -Eisenhut | F13: Steigstrasse 21 | G13: 9055 | H13: Bühler | I13: e Herr und Frau | J13: =Perimeter!AB33 -> 0.67752936 | K13: =ROUND(IF(J13*$L$2<$L$3,$L$3,J13*$L$2),1) -> 20 | L13: =Perimeter!AO33 -> 0.47610171 | M13: =ROUND(IF(L13*$N$2<$N$3,$N$3,L13*$N$2),1) -> 47.6 | N13: 196
A14: 9 | B14: Herr | C14: Michael | D14: Manetsch | F14: Churfirstenblick 10 | G14: 8758 | H14: Obstalden | I14: er Herr | J14: =Perimeter!AB35 -> 1.2195528 | K14: =ROUND(IF(J14*$L$2<$L$3,$L$3,J14*$L$2),1) -> 20 | L14: =Perimeter!AO35 -> 0.85698308 | M14: =ROUND(IF(L14*$N$2<$N$3,$N$3,L14*$N$2),1) -> 85.7 | N14: 199
A15: 10 | B15: Herr Heinz Schiess | C15: Herr Peter Schiess | F15: Wässerwiesenstrasse 91 | G15: 8408 | H15: Winterthur | I15: e Herren | J15: =Perimeter!AB37 -> 1.2431309 | K15: =ROUND(IF(J15*$L$2<$L$3,$L$3,J15*$L$2),1) -> 20 | L15: =Perimeter!AO37 -> 0.87355142 | M15: =ROUND(IF(L15*$N$2<$N$3,$N$3,L15*$N$2),1) -> 87.4 | N15: 200 | O15: heinz.schiess@bluewin.ch
A16: 11 | B16: Herr | C16: Roland | D16: Ulmann | E16: -Manser | F16: Steigstrasse 43 | G16: 9055 | H16: Bühler | I16: er Herr | J16: =Perimeter!AB39 -> 0.67752936 | K16: =ROUND(IF(J16*$L$2<$L$3,$L$3,J16*$L$2),1) -> 20 | L16: =Perimeter!AO39 -> 0.47610171 | M16: =ROUND(IF(L16*$N$2<$N$3,$N$3,L16*$N$2),1) -> 47.6 | N16: 201
A17: 12 | B17: Herr und Frau | C17: Lukas und Susanne | D17: Joller | E17: -Inhelder | F17: Steigstrasse 42 | G17: 9055 | H17: Bühler | I17: e Herr und Frau | J17: =Perimeter!AB41 -> 1.3687538 | K17: =ROUND(IF(J17*$L$2<$L$3,$L$3,J17*$L$2),1) -> 20 | L17: =Perimeter!AO41 -> 0.96182702 | M17: =ROUND(IF(L17*$N$2<$N$3,$N$3,L17*$N$2),1) -> 96.2 | N17: 101, 202
A18: 13 | B18: Herr Smail Hadjidj | C18: Frau Harlis Schweizer | F18: Steigstrasse 36 | G18: 9055 | H18: Bühler | I18: e Frau Schweizer und Herr Hadjidj | J18: =Perimeter!AB44 -> 0.67752936 | K18: =ROUND(IF(J18*$L$2<$L$3,$L$3,J18*$L$2),1) -> 20 | L18: =Perimeter!AO44 -> 0.47610171 | M18: =ROUND(IF(L18*$N$2<$N$3,$N$3,L18*$N$2),1) -> 47.6 | N18: 203
A19: 14 | B19: Herr und Frau | C19: Klaus + Brigitte | D19: Schobel | F19: Steigstrasse 32 | G19: 9055 | H19: Bühler | I19: e Herr und Frau | J19: =Perimeter!AB46 -> 0.67752936 | K19: =ROUND(IF(J19*$L$2<$L$3,$L$3,J19*$L$2),1) -> 20 | L19: =Perimeter!AO46 -> 0.47610171 | M19: =ROUND(IF(L19*$N$2<$N$3,$N$3,L19*$N$2),1) -> 47.6 | N19: 204
A20: 15 | B20: Herr | C20: Ernst | D20: Schneider | F20: Krans-Lachenstr. 45 | G20: 9450 | H20: Altstätten | I20: er Herr | J20: =Perimeter!AB48 -> 0.82026672 | K20: =ROUND(IF(J20*$L$2<$L$3,$L$3,J20*$L$2),1) -> 20 | L20: =Perimeter!AO48 -> 0.57640364 | M20: =ROUND(IF(L20*$N$2<$N$3,$N$3,L20*$N$2),1) -> 57.6 | N20: 206, 263, 641, 658
A21: 16 | B21: Herr | C21: Hans | D21: Inauen | E21: -Fässler | F21: Steigbach 80 | G21: 9055 | H21: Bühler | I21: er Herr | J21: =Perimeter!AB53 -> 2.6181336 | K21: =ROUND(IF(J21*$L$2<$L$3,$L$3,J21*$L$2),1) -> 20 | L21: =Perimeter!AO53 -> 1.8397696 | M21: =ROUND(IF(L21*$N$2<$N$3,$N$3,L21*$N$2),1) -> 184 | N21: 217, 219
A22: 17 | B22: Frau | C22: Rebekka | D22: Benz | E22: -Koller | F22: Steigstrasse 71 | G22: 9055 | H22: Bühler | I22: e Frau | J22: =Perimeter!AB57 -> 2.0193347 | K22: =ROUND(IF(J22*$L$2<$L$3,$L$3,J22*$L$2),1) -> 20 | L22: =Perimeter!AO57 -> 1.9674365 | M22: =ROUND(IF(L22*$N$2<$N$3,$N$3,L22*$N$2),1) -> 196.7 | N22: 218, 264, 596
A23: 18 | B23: Herr | C23: Willi | D23: Staub | F23: Trogenerstrasse 61 | G23: 9055 | H23: Bühler | I23: er Herr | J23: =Perimeter!AB63 -> 3.3876468 | K23: =ROUND(IF(J23*$L$2<$L$3,$L$3,J23*$L$2),1) -> 20 | L23: =Perimeter!AO63 -> 2.3805085 | M23: =ROUND(IF(L23*$N$2<$N$3,$N$3,L23*$N$2),1) -> 238.1 | N23: 221
A24: 19 | B24: Herr und Frau | C24: Edwin und Irene | D24: Manetsch | E24: -Kessler | F24: Steigstrasse 56 | G24: 9055 | H24: Bühler | I24: e Herr und Frau | J24: =Perimeter!AB65 -> 2.5746116 | K24: =ROUND(IF(J24*$L$2<$L$3,$L$3,J24*$L$2),1) -> 20 | L24: =Perimeter!AO65 -> 1.8091865 | M24: =ROUND(IF(L24*$N$2<$N$3,$N$3,L24*$N$2),1) -> 180.9 | N24: 222
A25: 20 | B25: Frau | C25: Margrith | D25: Nicolet | E25: -Zuberbühler | F25: Chemin de Vert-Pré 8 | G25: 1213 | H25: Petit-Lancy | I25: e Frau | J25: =Perimeter!AB67 -> 0.44018179 | K25: =ROUND(IF(J25*$L$2<$L$3,$L$3,J25*$L$2),1) -> 20 | L25: =Perimeter!AO67 -> 0.30931693 | M25: =ROUND(IF(L25*$N$2<$N$3,$N$3,L25*$N$2),1) -> 30.9 | N25: 259, 262, 664, 665
A26: 21 | B26: Frau | C26: Claudia | D26: Graber | F26: Am Rähn 31 | G26: 9055 | H26: Bühler | I26: e Frau | J26: =Perimeter!AB70 -> 0.83995573 | K26: =ROUND(IF(J26*$L$2<$L$3,$L$3,J26*$L$2),1) -> 20 | L26: =Perimeter!AO70 -> 0.59023916 | M26: =ROUND(IF(L26*$N$2<$N$3,$N$3,L26*$N$2),1) -> 59 | N26: 260; 674
A27: 22 | B27: Herr und Frau | C27: Viktor und Andrea | D27: Meier | E27: -Mittelholzer | F27: Steigstrasse 51 | G27: 9055 | H27: Bühler | I27: e Herr und Frau | J27: =Perimeter!AB73 -> 0.67752936 | K27: =ROUND(IF(J27*$L$2<$L$3,$L$3,J27*$L$2),1) -> 20 | L27: =Perimeter!AO73 -> 0.47610171 | M27: =ROUND(IF(L27*$N$2<$N$3,$N$3,L27*$N$2),1) -> 47.6 | N27: 378 | O27: meier-steig@bluewin.ch
A28: 23 | B28: Herr | C28: Johannes | D28: Koller | F28: Walchestrasse 27 | G28: 8006 | H28: Zürich | I28: er Herr | J28: =Perimeter!AB79 -> 0.67752936 | K28: =ROUND(IF(J28*$L$2<$L$3,$L$3,J28*$L$2),1) -> 20 | L28: =Perimeter!AO79 -> 0.47610171 | M28: =ROUND(IF(L28*$N$2<$N$3,$N$3,L28*$N$2),1) -> 47.6 | N28: 381 | O28: jokoller@netsurfer.ch
A29: 24 | B29: Herr und Frau | C29: Albert und Klara | D29: Zimmermann | E29: -Ulmann | F29: Steigstrasse 45 | G29: 9055 | H29: Bühler | I29: e Herr und Frau | J29: =Perimeter!AB75 -> 0.67752936 | K29: =ROUND(IF(J29*$L$2<$L$3,$L$3,J29*$L$2),1) -> 20 | L29: =Perimeter!AO75 -> 0.47610171 | M29: =ROUND(IF(L29*$N$2<$N$3,$N$3,L29*$N$2),1) -> 47.6 | N29: 383
A30: 25 | B30: Herr | C30: Johann | D30: Isenring | F30: Steigstrasse 47 | G30: 9055 | H30: Bühler | I30: er Herr | J30: =Perimeter!AB77 -> 0.67752936 | K30: =ROUND(IF(J30*$L$2<$L$3,$L$3,J30*$L$2),1) -> 20 | L30: =Perimeter!AO77 -> 0.47610171 | M30: =ROUND(IF(L30*$N$2<$N$3,$N$3,L30*$N$2),1) -> 47.6 | N30: 384
A31: 26 | B31: Herr und Frau | C31: Ernst und Emilia | D31: Schefer | E31: -Koller | F31: Oberer Mempfel 14 | G31: 9055 | H31: Bühler | I31: e Herr und Frau | J31: =Perimeter!AB81 -> 0.67752936 | K31: =ROUND(IF(J31*$L$2<$L$3,$L$3,J31*$L$2),1) -> 20 | L31: =Perimeter!AO81 -> 2.6923883 | M31: =ROUND(IF(L31*$N$2<$N$3,$N$3,L31*$N$2),1) -> 269.2 | N31: 388
A32: 27 | B32: Herr Bernhard Fürer | C32: Herr Karl Fürer | F32: Hochbühlstrasse 24 | G32: 9532 | H32: Rickenbach b. Will | I32: er Herr | J32: =Perimeter!AB84 -> 8.5368699 | K32: =ROUND(IF(J32*$L$2<$L$3,$L$3,J32*$L$2),1) -> 20 | L32: =Perimeter!AO84 -> 5.9988815 | M32: =ROUND(IF(L32*$N$2<$N$3,$N$3,L32*$N$2),1) -> 599.9 | N32: 421
A33: 28 | B33: Frau | C33: Sonja | D33: Di Bella | E33: -Knecht | F33: Böhlstrasse 16 | G33: 9055 | H33: Bühler | I33: e Frau | J33: =Perimeter!AB86 -> 6.5042818 | K33: =ROUND(IF(J33*$L$2<$L$3,$L$3,J33*$L$2),1) -> 20 | L33: =Perimeter!AO86 -> 6.8228287 | M33: =ROUND(IF(L33*$N$2<$N$3,$N$3,L33*$N$2),1) -> 682.3 | N33: 403, 429
A34: 29 | B34: Herr | C34: Markus | D34: Hansmann | F34: Böhlstrasse 26 | G34: 9055 | H34: Bühler | I34: er Herr | J34: =Perimeter!AB91 -> 1.3550587 | K34: =ROUND(IF(J34*$L$2<$L$3,$L$3,J34*$L$2),1) -> 20 | L34: =Perimeter!AO91 -> 0.95220342 | M34: =ROUND(IF(L34*$N$2<$N$3,$N$3,L34*$N$2),1) -> 95.2 | N34: 404
A35: 30 | B35: Personalfürsorgestiftung | C35: TISCA/TIARA-Gruppe | F35: Schwägalpstrasse 111 | G35: 9107 | H35: Urnäsch | I35: e Damen und Herren | J35: =Perimeter!AB93 -> 5.6912466 | K35: =ROUND(IF(J35*$L$2<$L$3,$L$3,J35*$L$2),1) -> 20 | L35: =Perimeter!AO93 -> 7.7530081 | M35: =ROUND(IF(L35*$N$2<$N$3,$N$3,L35*$N$2),1) -> 775.3 | N35: 407, 430
A36: 31 | B36: Herr und Frau | C36: Philip und Seraina | D36: Pradella | F36: Steigstrasse 62 | G36: 9055 | H36: Bühler | I36: e Herr und Frau | J36: =Perimeter!AB98 -> 0.67752936 | K36: =ROUND(IF(J36*$L$2<$L$3,$L$3,J36*$L$2),1) -> 20 | L36: =Perimeter!AO98 -> 0.47610171 | M36: =ROUND(IF(L36*$N$2<$N$3,$N$3,L36*$N$2),1) -> 47.6 | N36: 418
A37: 32 | B37: Herr und Frau | C37: Remo & Nadine | D37: Knechtle | F37: Steigwaldstrasse 29 | G37: 9055 | H37: Bühler | I37: e Herr und Frau | J37: =Perimeter!AB100 -> 0.67752936 | K37: =ROUND(IF(J37*$L$2<$L$3,$L$3,J37*$L$2),1) -> 20 | L37: =Perimeter!AO100 -> 0.47610171 | M37: =ROUND(IF(L37*$N$2<$N$3,$N$3,L37*$N$2),1) -> 47.6 | N37: 427 | P37: von E. Kunz übernommen
A38: 33 | B38: Herr Zollinger Andrin | C38: Frau Pfändler Leandra | F38: Steigstrasse 24 | G38: 9055 | H38: Bühler | I38: e Herr und Frau | J38: =Perimeter!AB102 -> 0.67752936 | K38: =ROUND(IF(J38*$L$2<$L$3,$L$3,J38*$L$2),1) -> 20 | L38: =Perimeter!AO102 -> 0.47610171 | M38: =ROUND(IF(L38*$N$2<$N$3,$N$3,L38*$N$2),1) -> 47.6 | N38: 428
A39: 34 | B39: Herr und Frau | C39: Walter + Verena | D39: Kürsteiner | E39: -Küffer | F39: Oberer Mempfel 10 | G39: 9055 | H39: Bühler | I39: e Herr und Frau | J39: =Perimeter!AB104 -> 0.67752936 | K39: =ROUND(IF(J39*$L$2<$L$3,$L$3,J39*$L$2),1) -> 20 | L39: =Perimeter!AO104 -> 2.6923883 | M39: =ROUND(IF(L39*$N$2<$N$3,$N$3,L39*$N$2),1) -> 269.2 | N39: 434 | O39: wkuersteiner@bluewin.ch
A40: 35 | B40: Herr | C40: Albert | D40: Brühlmann | F40: Oberer Mempfel 12 | G40: 9055 | H40: Bühler | I40: er Herr | J40: =Perimeter!AB107 -> 0.67752936 | K40: =ROUND(IF(J40*$L$2<$L$3,$L$3,J40*$L$2),1) -> 20 | L40: =Perimeter!AO107 -> 2.6923883 | M40: =ROUND(IF(L40*$N$2<$N$3,$N$3,L40*$N$2),1) -> 269.2 | N40: 435
A41: 36 | B41: Frau | C41: Monika | D41: Heeb | E41: -Neff | F41: Spitalstrasse 7 | G41: 9652 | H41: Neu St. Johann | I41: e Frau | J41: =Perimeter!AB110 -> 2.4391057 | K41: =ROUND(IF(J41*$L$2<$L$3,$L$3,J41*$L$2),1) -> 20 | L41: =Perimeter!AO110 -> 1.7139662 | M41: =ROUND(IF(L41*$N$2<$N$3,$N$3,L41*$N$2),1) -> 171.4 | N41: 444 | P41: von Eltern übernommen
...

Sheet HV Präsenzliste
B1: Präsenzliste HV 27.03.2023
A3: Mitglied-nr | B3: Name1 | C3: Name2 | D3: Vorname | E3: GB-Nr. | F3: Visum | G3: Spalte1
A4: =Adressen!A6 -> 1 | B4: =Adressen!D6 -> Freund | C4: =Adressen!E6 -> -Fuster | D4: =Adressen!C6 -> Urs und Heidi | E4: =Adressen!N6 -> 85
A5: =Adressen!A7 -> 2 | B5: =Adressen!D7 -> Egli | C5: =Adressen!E7 | D5: =Adressen!C7 -> Martina | E5: =Adressen!N7 -> 87, 325
A6: =Adressen!A8 -> 3 | B6: =Adressen!D8 | C6: =Adressen!E8 | D6: =Adressen!C8 -> Einwohnergemeinde Bühler | E6: =Adressen!N8 -> 220, 268, 270 | F6: Vertretung Sepp Neff
A7: =Adressen!A9 -> 4 | B7: =Adressen!D9 -> Sporn | C7: =Adressen!E9 -> Trochsler | D7: =Adressen!C9 -> Robert + Maya | E7: =Adressen!N9 -> 190
A8: =Adressen!A10 -> 5 | B8: =Adressen!D10 -> Jent | C8: =Adressen!E10 -> -Sörensen | D8: =Adressen!C10 -> Dr. Ingrid | E8: =Adressen!N10 -> 191, 192
A9: =Adressen!A11 -> 6 | B9: =Adressen!D11 -> Hörler | C9: =Adressen!E11 | D9: =Adressen!C11 -> Yvonne | E9: =Adressen!N11 -> 194 | F9: Vertretung Fürer
A10: =Adressen!A12 -> 7 | B10: =Adressen!D12 -> 0 | C10: =Adressen!E12 | D10: =Adressen!C12 -> Freequenc AG | E10: =Adressen!N12 -> 195
A11: =Adressen!A13 -> 8 | B11: =Adressen!D13 -> Suhner | C11: =Adressen!E13 -> -Eisenhut | D11: =Adressen!C13 -> Willi und Katharina | E11: =Adressen!N13 -> 196
A12: =Adressen!A14 -> 9 | B12: =Adressen!D14 -> Manetsch | C12: =Adressen!E14 | D12: =Adressen!C14 -> Michael | E12: =Adressen!N14 -> 199
A13: =Adressen!A15 -> 10 | B13: =Adressen!D15 | C13: =Adressen!E15 | D13: =Adressen!C15 -> Herr Peter Schiess | E13: =Adressen!N15 -> 200
A14: =Adressen!A16 -> 11 | B14: =Adressen!D16 -> Ulmann | C14: =Adressen!E16 -> -Manser | D14: =Adressen!C16 -> Roland | E14: =Adressen!N16 -> 201
A15: =Adressen!A17 -> 12 | B15: =Adressen!D17 -> Joller | C15: =Adressen!E17 -> -Inhelder | D15: =Adressen!C17 -> Lukas und Susanne | E15: =Adressen!N17 -> 101, 202 | G15: lukas.joller@sep.ch
A16: =Adressen!A18 -> 13 | B16: =Adressen!D18 -> 0 | C16: =Adressen!E18 | D16: =Adressen!C18 -> Frau Harlis Schweizer | E16: =Adressen!N18 -> 203
A17: =Adressen!A19 -> 14 | B17: =Adressen!D19 -> Schobel | C17: =Adressen!E19 | D17: =Adressen!C19 -> Klaus + Brigitte | E17: =Adressen!N19 -> 204
A18: =Adressen!A20 -> 15 | B18: =Adressen!D20 -> Schneider | C18: =Adressen!E20 | D18: =Adressen!C20 -> Ernst | E18: =Adressen!N20 -> 206, 263, 641, 658
A19: =Adressen!A21 -> 16 | B19: =Adressen!D21 -> Inauen | C19: =Adressen!E21 -> -Fässler | D19: =Adressen!C21 -> Hans | E19: =Adressen!N21 -> 217, 219
A20: =Adressen!A22 -> 17 | B20: =Adressen!D22 -> Benz | C20: =Adressen!E22 -> -Koller | D20: =Adressen!C22 -> Rebekka | E20: =Adressen!N22 -> 218, 264, 596
A21: =Adressen!A23 -> 18 | B21: =Adressen!D23 -> Staub | C21: =Adressen!E23 | D21: =Adressen!C23 -> Willi | E21: =Adressen!N23 -> 221
A22: =Adressen!A24 -> 19 | B22: =Adressen!D24 -> Manetsch | C22: =Adressen!E24 -> -Kessler | D22: =Adressen!C24 -> Edwin und Irene | E22: =Adressen!N24 -> 222
A23: =Adressen!A25 -> 20 | B23: =Adressen!D25 -> Nicolet | C23: =Adressen!E25 -> -Zuberbühler | D23: =Adressen!C25 -> Margrith | E23: =Adressen!N25 -> 259, 262, 664, 665
A24: =Adressen!A26 -> 21 | B24: =Adressen!D26 -> Graber | C24: =Adressen!E26 | D24: =Adressen!C26 -> Claudia | E24: =Adressen!N26 -> 260; 674
A25: =Adressen!A27 -> 22 | B25: =Adressen!D27 -> Meier | C25: =Adressen!E27 -> -Mittelholzer | D25: =Adressen!C27 -> Viktor und Andrea | E25: =Adressen!N27 -> 378
A26: =Adressen!A28 -> 23 | B26: =Adressen!D28 -> Koller | C26: =Adressen!E28 | D26: =Adressen!C28 -> Johannes | E26: =Adressen!N28 -> 381
A27: =Adressen!A29 -> 24 | B27: =Adressen!D29 -> Zimmermann | C27: =Adressen!E29 -> -Ulmann | D27: =Adressen!C29 -> Albert und Klara | E27: =Adressen!N29 -> 383
... A30: =Adressen!A32 -> 27 | B30: =Adressen!D32 -> 0 | C30: =Adressen!E32 -> 0 | D30: =Adressen!C32 -> Herr Karl Fürer | E30: =Adressen!N32 -> 421
A31: =Adressen!A33 -> 28 | B31: =Adressen!D33 -> Di Bella | C31: =Adressen!E33 -> -Knecht | D31: =Adressen!C33 -> Sonja | E31: =Adressen!N33 -> 403, 429 | G31: dibella.sonja@bluewin.ch
A32: =Adressen!A34 -> 29 | B32: =Adressen!D34 -> Hansmann | C32: =Adressen!E34 | D32: =Adressen!C34 -> Markus | E32: =Adressen!N34 -> 404
A33: =Adressen!A35 -> 30 | B33: =Adressen!D35 | C33: =Adressen!E35 | D33: =Adressen!C35 -> TISCA/TIARA-Gruppe | E33: =Adressen!N35 -> 407, 430
A34: =Adressen!A36 -> 31 | B34: =Adressen!D36 -> Pradella | C34: =Adressen!E36 -> 0 | D34: =Adressen!C36 -> Philip und Seraina | E34: =Adressen!N36 -> 418
A35: =Adressen!A37 -> 32 | B35: =Adressen!D37 -> Knechtle | C35: =Adressen!E37 | D35: =Adressen!C37 -> Remo & Nadine | E35: =Adressen!N37 -> 427
A36: =Adressen!A38 -> 33 | B36: =Adressen!D38 -> 0 | C36: =Adressen!E38 | D36: =Adressen!C38 -> Frau Pfändler Leandra | E36: =Adressen!N38 -> 428
A37: =Adressen!A39 -> 34 | B37: =Adressen!D39 -> Kürsteiner | C37: =Adressen!E39 -> -Küffer | D37: =Adressen!C39 -> Walter + Verena | E37: =Adressen!N39 -> 434
A38: =Adressen!A40 -> 35 | B38: =Adressen!D40 -> Brühlmann | C38: =Adressen!E40 | D38: =Adressen!C40 -> Albert | E38: =Adressen!N40 -> 435
A39: =Adressen!A41 -> 36 | B39: =Adressen!D41 -> Heeb | C39: =Adressen!E41 -> -Neff | D39: =Adressen!C41 -> Monika | E39: =Adressen!N41 -> 444
A40: =Adressen!A42 -> 37 | B40: =Adressen!D42 -> Pfander | C40: =Adressen!E42 | D40: =Adressen!C42 -> Ruth | E40: =Adressen!N42 -> 458
A41: =Adressen!A43 -> 38 | B41: =Adressen!D43 -> Wild | C41: =Adressen!E43 -> -Enderlin | D41: =Adressen!C43 -> Ursina | E41: =Adressen!N43 -> 710
A42: =Adressen!A44 -> 39 | B42: =Adressen!D44 -> Manser | C42: =Adressen!E44 | D42: =Adressen!C44 -> Reto und Angelina | E42: =Adressen!N44 -> 463
A43: =Adressen!A45 -> 40 | B43: =Adressen!D45 -> Kochgruber | C43: =Adressen!E45 | D43: =Adressen!C45 -> Robert | E43: =Adressen!N45 -> 464
...

Sheet HV Präsenz sortiert
A5: Mitglied-nr | B5: Name1 | C5: Name2 | D5: Vorname | E5: GB-Nr. | F5: Visum
A6: 55 | D6: Amt für Immobilien | E6: 223
A7: 3 | D7: Einwohnergemeinde Bühler | E7: 220, 268, 270 | F7: Vertretung Sepp Neff
A8: 62 | D8: Frau Liselotte Zobrist | E8: 271
A9: 58 | D9: Herr Albert von Däniken | E9: 265, 266
A10: 66 | D10: Herr Florinan Studach | E10: 0
A11: 10 | D11: Herr Peter Schiess | E11: 200
A12: 65 | D12: Herr Ueli Tanner | E12: 0
A13: 30 | D13: TISCA/TIARA-Gruppe | E13: 407, 430
A14: 13 | D14: Frau Harlis Schweizer | E14: 203
A15: 51 | B15: Aemisegger | C15: - Kriech | D15: Peter und Jutta | E15: 595
A16: 83 | B16: Amidi | C16: -Osmani | D16: Naim und Semeate | E16: 462, 623
A17: 41 | B17: Kunzmann | D17: STWEG Steigstrasse 39/41 c/o ARO-Knechtle AG | E17: 488
A18: 46 | B18: Ballarda | C18: -Hagenbuch | D18: Monika | E18: 540
A19: 44 | B19: Balsiger | C19: -Egli | D19: Christoph und Anna | E19: 502
A20: 17 | B20: Benz | C20: -Koller | D20: Rebekka | E20: 218, 264, 596
A21: 35 | B21: Brühlmann | D21: Albert | E21: 435
A22: 68 | B22: Caliandro | C22: -Soro | D22: Cataldo und Ana Maria | E22: 647
A23: 72 | B23: D'Agostino-Büchler | D23: Marlies | E23: 651
A24: 28 | B24: Di Bella | C24: -Knecht | D24: Sonja | E24: 403, 429
A25: 69 | B25: Dönmez | C25: -Eugster | D25: Ismail und Agnes | E25: 648
A26: 81 | B26: Eigenmann | D26: Daniel und Carmen | E26: 644
A27: 84 | B27: Enderlin | C27: -Rechsteiner | D27: Andreas | E27: 685
A28: 2 | B28: Enderlin | D28: Hanspeter | E28: 87, 325
A29: 7 | B29: Freequen C AG | E29: 195
A30: 77 | B30: Freund | D30: Hans Jörg | E30: 657
A31: 76 | B31: Freund | C31: -Schefer | D31: Peter und Marianne | E31: 656
A32: 1 | B32: Freund | C32: -Fuster | D32: Urs und Heidi | E32: 85
A33: 43 | B33: Fuchs | D33: Matthias | E33: 492
A34: 27 | B34: Fürer | C34: -Truniger | D34: Louise | E34: 421
A35: 21 | B35: Graber | D35: Claudia | E35: 260; 674
A36: 71 | B36: Gründler | C36: -Gubser | D36: Albert und Cornelia | E36: 650
A37: 29 | B37: Hansmann | D37: Markus | E37: 404
A38: 36 | B38: Heeb | C38: -Neff | D38: Monika | E38: 444
A39: 31 | B39: Heimburger | D39: Erika | E39: 418
A40: 45 | B40: Hofmann | D40: Erich | E40: 536
A41: 80 | B41: Hofstetter | C41: -Jeker | D41: Christoph und Christine | E41: 645
A42: 59 | B42: Höhener | C42: -Gebert | D42: Max und Béatrice | E42: 267, 272
A43: 6 | B43: Hörler | D43: Yvonne | E43: 194 | F43: Vertretung Führer
A44: 16 | B44: Inauen | C44: -Fässler | D44: Hans | E44: 217, 219
...

Sheet Briefadressen
A1: =Adressen!$A$5 -> Mitglied-nr | B1: =Adressen!$B$5 -> M_F | C1: =Adressen!$C$5 -> Vorname | D1: =Adressen!$D$5 -> Name1 | E1: =Adressen!$E$5 -> Name2 | F1: =Adressen!$F$5 -> Adresse | G1: =Adressen!$G$5 -> PLZ | H1: =Adressen!$H$5 -> Wohnort | I1: =Adressen!$I$5 -> Anrede | J1: =Adressen!$J$5 -> Anteil T1 | K1: =Adressen!$K$5 -> Kosten T1 | L1: =Adressen!$L$5 -> Anteil | M1: =Adressen!$M$5 -> Kosten | N1: =Adressen!$N$5 -> GB-Nr. | O1: =Adressen!$O$5 -> Email | P1: =Adressen!$P$5 -> Bemerkungen | Q1: =Adressen!$Q$5 -> abmeldugn HV | S1: EZ
A2: =Adressen!A6 -> 1 | B2: =Adressen!B6 -> Herr und Frau | C2: =Adressen!C6 -> Urs und Heidi | D2: =Adressen!D6 -> Freund | E2: =Adressen!E6 -> -Fuster | F2: =Adressen!F6 -> Steigstrasse 3 | G2: =Adressen!G6 -> 9055 | H2: =Adressen!H6 -> Bühler | ... Q2: =Adressen!Q6 -> 0
A3: =Adressen!A7 -> 2 | B3: =Adressen!B7 -> Frau | C3: =Adressen!C7 -> Martina | D3: =Adressen!D7 -> Egli | E3: =Adressen!E7 | F3: =Adressen!F7 -> Gern 27 | G3: =Adressen!G7 -> 9055 | H3: =Adressen!H7 -> Bühler | ... Q3: =Adressen!Q7 -> 0
A4: =Adressen!A8 -> 3 | B4: =Adressen!B8 -> An die | C4: =Adressen!C8 -> Einwohnergemeinde Bühler | D4: =Adressen!D8 | E4: =Adressen!E8 | F4: =Adressen!F8 -> Dorfstrasse 42 | G4: =Adressen!G8 -> 9055 | H4: =Adressen!H8 -> Bühler | ... Q4: =Adressen!Q8 -> 0
A5: =Adressen!A9 -> 4 | B5: =Adressen!B9 -> Herr | C5: =Adressen!C9 -> Robert + Maya | D5: =Adressen!D9 -> Sporn | F5: =Adressen!F9 -> Steigstrasse 12 | G5: =Adressen!G9 -> 9055 | H5: =Adressen!H9 -> Bühler | I5: =Adressen!I9 -> e Herr und Frau | J5: =Adressen!J9 -> 0.67752936 | K5: =Adressen!K9 -> 20 | L5: =Adressen!L9 -> 0.47610171 | M5: =Adressen!M9 -> 47.6 | ... Q5: =Adressen!Q9 -> 0
A6: =Adressen!A10 -> 5 | B6: =Adressen!B10 -> Frau | C6: =Adressen!C10 -> Dr. Ingrid | D6: =Adressen!D10 -> Jent | E6: =Adressen!E10 -> -Sörensen | F6: =Adressen!F10 -> Alte Landstrasse 84 | G6: =Adressen!G10 -> 8700 | H6: =Adressen!H10 -> Küsnacht | ... Q6: =Adressen!Q10 -> 0
A7: =Adressen!A11 -> 6 | B7: =Adressen!B11 -> Frau | C7: =Adressen!C11 -> Yvonne | D7: =Adressen!D11 -> Hörler | E7: =Adressen!E11 | F7: =Adressen!F11 -> Lüdenstrasse 25 | G7: =Adressen!G11 -> 8500 | H7: =Adressen!H11 -> Frauenfeld | ... Q7: =Adressen!Q11 -> 0
A8: =Adressen!A12 -> 7 | B8: =Adressen!B12 -> Geschätzte | C8: =Adressen!C12 -> Freequenc AG | D8: =Adressen!D12 -> 0 | E8: =Adressen!E12 | F8: =Adressen!F12 -> Greifenstrasse 8 | G8: =Adressen!G12 -> 9000 | H8: =Adressen!H12 -> St. Gallen | ... Q8: =Adressen!Q12 -> 0
A9: =Adressen!A13 -> 8 | B9: =Adressen!B13 -> Herr und Frau | C9: =Adressen!C13 -> Willi und Katharina | D9: =Adressen!D13 -> Suhner | E9: =Adressen!E13 -> -Eisenhut | F9: =Adressen!F13 -> Steigstrasse 21 | G9: =Adressen!G13 -> 9055 | H9: =Adressen!H13 -> Bühler | ... Q9: =Adressen!Q13 -> 0
A10: =Adressen!A14 -> 9 | B10: =Adressen!B14 -> Herr | C10: =Adressen!C14 -> Michael | D10: =Adressen!D14 -> Manetsch | E10: =Adressen!E14 | F10: =Adressen!F14 -> Churfirstenblick 10 | G10: =Adressen!G14 -> 8758 | H10: =Adressen!H14 -> Obstalden | ... Q10: =Adressen!Q14 -> 0
A11: =Adressen!A15 -> 10 | B11: Herr | C11: Heinz | D11: Schiess | E11: =Adressen!E15 | F11: =Adressen!F15 -> Wässerwiesenstrasse 91 | G11: =Adressen!G15 -> 8408 | H11: =Adressen!H15 -> Winterthur | I11: =Adressen!I15 -> e Herren | J11: =Adressen!J15 -> 1.2431309 | K11: =Adressen!K15 -> 20 | L11: =Adressen!L15 -> 0.87355142 | ... Q11: =Adressen!Q15 -> 0
A12: =Adressen!A16 -> 11 | B12: =Adressen!B16 -> Herr | C12: =Adressen!C16 -> Roland | D12: =Adressen!D16 -> Ulmann | E12: =Adressen!E16 -> -Manser | F12: =Adressen!F16 -> Steigstrasse 43 | G12: =Adressen!G16 -> 9055 | H12: =Adressen!H16 -> Bühler | ... Q12: =Adressen!Q16 -> 0
A13: =Adressen!A17 -> 12 | B13: =Adressen!B17 -> Herr und Frau | C13: =Adressen!C17 -> Lukas und Susanne | D13: =Adressen!D17 -> Joller | E13: =Adressen!E17 -> -Inhelder | F13: =Adressen!F17 -> Steigstrasse 42 | G13: =Adressen!G17 -> 9055 | H13: =Adressen!H17 -> Bühler | ... Q13: =Adressen!Q17 -> 0
A14: =Adressen!A18 -> 13 | B14: =Adressen!B18 -> Herr Smail Hadjidj | C14: =Adressen!C18 -> Frau Harlis Schweizer | D14: =Adressen!D18 -> 0 | E14: =Adressen!E18 | F14: =Adressen!F18 -> Steigstrasse 36 | G14: =Adressen!G18 -> 9055 | H14: =Adressen!H18 -> Bühler | ... Q14: =Adressen!Q18 -> 0
A15: =Adressen!A19 -> 14 | B15: =Adressen!B19 -> Herr und Frau | C15: =Adressen!C19 -> Klaus + Brigitte | D15: =Adressen!D19 -> Schobel | E15: =Adressen!E19 | F15: =Adressen!F19 -> Steigstrasse 32 | G15: =Adressen!G19 -> 9055 | H15: =Adressen!H19 -> Bühler | I15: e Herr und Frau | J15: =Adressen!J19 -> 0.67752936 | K15: =Adressen!K19 -> 20 | L15: =Adressen!L19 -> 0.47610171 | M15: =Adressen!M19 -> 47.6 | N15: =Adressen!N19 -> 204 | O15: =Adressen!O19 -> 0 | P15: =Adressen!P19 -> 0 | Q15: =Adressen!Q19 -> 0
A16: =Adressen!A20 -> 15 | B16: =Adressen!B20 -> Herr | C16: =Adressen!C20 -> Ernst | D16: =Adressen!D20 -> Schneider | E16: =Adressen!E20 | F16: =Adressen!F20 -> Krans-Lachenstr. 45 | G16: =Adressen!G20 -> 9450 | H16: =Adressen!H20 -> Altstätten | ... Q16: =Adressen!Q20 -> 0
A17: =Adressen!A21 -> 16 | B17: =Adressen!B21 -> Herr | C17: =Adressen!C21 -> Hans | D17: =Adressen!D21 -> Inauen | E17: =Adressen!E21 -> -Fässler | F17: =Adressen!F21 -> Steigbach 80 | G17: =Adressen!G21 -> 9055 | H17: =Adressen!H21 -> Bühler | ... Q17: =Adressen!Q21 -> 0
A18: =Adressen!A22 -> 17 | B18: =Adressen!B22 -> Frau | C18: =Adressen!C22 -> Rebekka | D18: =Adressen!D22 -> Benz | E18: =Adressen!E22 -> -Koller | F18: =Adressen!F22 -> Steigstrasse 71 | G18: =Adressen!G22 -> 9055 | H18: =Adressen!H22 -> Bühler | ... Q18: =Adressen!Q22 -> 0
A19: =Adressen!A23 -> 18 | B19: =Adressen!B23 -> Herr | C19: =Adressen!C23 -> Willi | D19: =Adressen!D23 -> Staub | E19: =Adressen!E23 | F19: =Adressen!F23 -> Trogenerstrasse 61 | G19: =Adressen!G23 -> 9055 | H19: =Adressen!H23 -> Bühler | ... Q19: =Adressen!Q23 -> 0
A20: =Adressen!A24 -> 19 | B20: =Adressen!B24 -> Herr und Frau | C20: =Adressen!C24 -> Edwin und Irene | D20: =Adressen!D24 -> Manetsch | E20: =Adressen!E24 -> -Kessler | F20: =Adressen!F24 -> Steigstrasse 56 | G20: =Adressen!G24 -> 9055 | H20: =Adressen!H24 -> Bühler | ... Q20: =Adressen!Q24 -> 0
A21: =Adressen!A25 -> 20 | B21: =Adressen!B25 -> Frau | C21: =Adressen!C25 -> Margrith | D21: =Adressen!D25 -> Nicolet | E21: =Adressen!E25 -> -Zuberbühler | F21: =Adressen!F25 -> Chemin de Vert-Pré 8 | G21: =Adressen!G25 -> 1213 | H21: =Adressen!H25 -> Petit-Lancy | ... Q21: =Adressen!Q25 -> 0
A22: =Adressen!A26 -> 21 | B22: =Adressen!B26 -> Frau | C22: =Adressen!C26 -> Claudia | D22: =Adressen!D26 -> Graber | E22: =Adressen!E26 | F22: =Adressen!F26 -> Am Rähn 31 | G22: =Adressen!G26 -> 9055 | H22: =Adressen!H26 -> Bühler | ... Q22: =Adressen!Q26 -> 0
A23: =Adressen!A27 -> 22 | B23: =Adressen!B27 -> Herr und Frau | C23: =Adressen!C27 -> Viktor und Andrea | D23: =Adressen!D27 -> Meier | E23: =Adressen!E27 -> -Mittelholzer | F23: =Adressen!F27 -> Steigstrasse 51 | G23: =Adressen!G27 -> 9055 | H23: =Adressen!H27 -> Bühler | ... Q23: =Adressen!Q27 -> 0
A24: =Adressen!A28 -> 23 | B24: =Adressen!B28 -> Herr | C24: =Adressen!C28 -> Johannes | D24: =Adressen!D28 -> Koller | E24: =Adressen!E28 | F24: =Adressen!F28 -> Walchestrasse 27 | G24: =Adressen!G28 -> 8006 | H24: =Adressen!H28 -> Zürich | ... Q24: =Adressen!Q28 -> 0
A25: =Adressen!A29 -> 24 | B25: =Adressen!B29 -> Herr und Frau | C25: =Adressen!C29 -> Albert und Klara | D25: =Adressen!D29 -> Zimmermann | E25: =Adressen!E29 -> -Ulmann | F25: =Adressen!F29 -> Steigstrasse 45 | G25: =Adressen!G29 -> 9055 | H25: =Adressen!H29 -> Bühler | ... Q25: =Adressen!Q29 -> 0
A26: =Adressen!A30 -> 25 | B26: =Adressen!B30 -> Herr | C26: =Adressen!C30 -> Johann | D26: =Adressen!D30 -> Isenring | E26: =Adressen!E30 | F26: =Adressen!F30 -> Steigstrasse 47 | G26: =Adressen!G30 -> 9055 | H26: =Adressen!H30 -> Bühler | ... Q26: =Adressen!Q30 -> 0
A27: =Adressen!A31 -> 26 | B27: =Adressen!B31 -> Herr und Frau | C27: =Adressen!C31 -> Ernst und Emilia | D27: =Adressen!D31 -> Schefer | E27: =Adressen!E31 -> -Koller | F27: =Adressen!F31 -> Oberer Mempfel 14 | G27: =Adressen!G31 -> 9055 | H27: =Adressen!H31 -> Bühler | ... Q27: =Adressen!Q31 -> 0
A28: =Adressen!A32 -> 27 | B28: =Adressen!B32 -> Herr Bernhard Fürer | C28: =Adressen!C32 -> Herr Karl Fürer | D28: =Adressen!D32 -> 0 | E28: =Adressen!E32 -> 0 | F28: =Adressen!F32 -> Hochbühlstrasse 24 | G28: =Adressen!G32 -> 9532 | H28: Rickenbach bei Will | I28: =Adressen!I32 -> er Herr | J28: =Adressen!J32 -> 8.5368699 | K28: =Adressen!K32 -> 20 | L28: =Adressen!L32 -> 5.9988815 | M28: =Adressen!M32 -> 599.9 | N28: =Adressen!N32 -> 421 | O28: =Adressen!O32 -> 0 | P28: =Adressen!P32 -> 0 | Q28: =Adressen!Q32 -> 0
A29: =Adressen!A33 -> 28 | B29: =Adressen!B33 -> Frau | C29: =Adressen!C33 -> Sonja | D29: =Adressen!D33 -> Di Bella | E29: =Adressen!E33 -> -Knecht | F29: =Adressen!F33 -> Böhlstrasse 16 | G29: =Adressen!G33 -> 9055 | H29: =Adressen!H33 -> Bühler | ... Q29: =Adressen!Q33 -> 0
A30: =Adressen!A34 -> 29 | B30: =Adressen!B34 -> Herr | C30: =Adressen!C34 -> Markus | D30: =Adressen!D34 -> Hansmann | E30: =Adressen!E34 | F30: =Adressen!F34 -> Böhlstrasse 26 | G30: =Adressen!G34 -> 9055 | H30: =Adressen!H34 -> Bühler | ... Q30: =Adressen!Q34 -> 0
A31: =Adressen!A35 -> 30 | B31: =Adressen!B35 -> Personalfürsorgestiftung | C31: =Adressen!C35 -> TISCA/TIARA-Gruppe | D31: =Adressen!D35 | E31: =Adressen!E35 | F31: =Adressen!F35 -> Schwägalpstrasse 111 | G31: =Adressen!G35 -> 9107 | H31: =Adressen!H35 -> Urnäsch | ... Q31: =Adressen!Q35 -> 0
A32: =Adressen!A36 -> 31 | B32: =Adressen!B36 -> Herr und Frau | C32: =Adressen!C36 -> Philip und Seraina | D32: =Adressen!D36 -> Pradella | E32: =Adressen!E36 -> 0 | F32: =Adressen!F36 -> Steigstrasse 62 | G32: =Adressen!G36 -> 9055 | H32: =Adressen!H36 -> Bühler | ... Q32: =Adressen!Q36 -> 0
A33: =Adressen!A37 -> 32 | B33: =Adressen!B37 -> Herr und Frau | C33: =Adressen!C37 -> Remo & Nadine | D33: =Adressen!D37 -> Knechtle | E33: =Adressen!E37 | F33: =Adressen!F37 -> Steigwaldstrasse 29 | G33: =Adressen!G37 -> 9055 | H33: =Adressen!H37 -> Bühler | ... Q33: =Adressen!Q37 -> 0
A34: =Adressen!A38 -> 33 | B34: =Adressen!B38 -> Herr Zollinger Andrin | C34: =Adressen!C38 -> Frau Pfändler Leandra | D34: =Adressen!D38 -> 0 | E34: =Adressen!E38 | F34: =Adressen!F38 -> Steigstrasse 24 | G34: =Adressen!G38 -> 9055 | H34: =Adressen!H38 -> Bühler | ... Q34: =Adressen!Q38
A35: =Adressen!A39 -> 34 | B35: =Adressen!B39 -> Herr und Frau | C35: =Adressen!C39 -> Walter + Verena | D35: =Adressen!D39 -> Kürsteiner | E35: =Adressen!E39 -> -Küffer | F35: =Adressen!F39 -> Oberer Mempfel 10 | G35: =Adressen!G39 -> 9055 | H35: =Adressen!H39 -> Bühler | ... Q35: =Adressen!Q39 -> 0
A36: =Adressen!A40 -> 35 | B36: =Adressen!B40 -> Herr | C36: =Adressen!C40 -> Albert | D36: =Adressen!D40 -> Brühlmann | E36: =Adressen!E40 | F36: =Adressen!F40 -> Oberer Mempfel 12 | G36: =Adressen!G40 -> 9055 | H36: =Adressen!H40 -> Bühler | ... Q36: =Adressen!Q40 -> 0
A37: =Adressen!A41 -> 36 | B37: =Adressen!B41 -> Frau | C37: =Adressen!C41 -> Monika | D37: =Adressen!D41 -> Heeb | E37: =Adressen!E41 -> -Neff | F37: =Adressen!F41 -> Spitalstrasse 7 | G37: =Adressen!G41 -> 9652 | H37: =Adressen!H41 -> Neu St. Johann | I37: e Frau | J37: =Adressen!J41 -> 2.4391057 | K37: =Adressen!K41 -> 20 | L37: =Adressen!L41 -> 1.7139662 | M37: =Adressen!M41 -> 171.4 | N37: =Adressen!N41 -> 444 | O37: =Adressen!O41 -> 0 | P37: =Adressen!P41 -> von Eltern übernommen | Q37: =Adressen!Q41 -> 0
A38: =Adressen!A42 -> 37 | B38: =Adressen!B42 -> Frau | C38: =Adressen!C42 -> Ruth | D38: =Adressen!D42 -> Pfander | E38: =Adressen!E42 | F38: =Adressen!F42 -> Steigstrasse 34 | G38: =Adressen!G42 -> 9055 | H38: =Adressen!H42 -> Bühler | ... Q38: =Adressen!Q42 -> 0
A39: =Adressen!A43 -> 38 | B39: =Adressen!B43 -> Frau | C39: =Adressen!C43 -> Ursina | D39: =Adressen!D43 -> Wild | E39: =Adressen!E43 -> -Enderlin | F39: =Adressen!F43 -> Oberer Mempfel 16 | G39: =Adressen!G43 -> 9055 | H39: =Adressen!H43 -> Bühler | ... Q39: =Adressen!Q43 -> 0
A40: =Adressen!A44 -> 39 | B40: =Adressen!B44 -> Herr und Frau | C40: =Adressen!C44 -> Reto und Angelina | D40: =Adressen!D44 -> Manser | E40: =Adressen!E44 | F40: =Adressen!F44 -> Böhlstrasse 23 | G40: =Adressen!G44 -> 9055 | H40: =Adressen!H44 -> Bühler | I40: e Herr und Frau | J40: =Adressen!J44 -> 0.67752936 | K40: =Adressen!K44 -> 20 | L40: =Adressen!L44 -> 0.47610171 | M40: =Adressen!M44 -> 47.6 | N40: =Adressen!N44 -> 463 | O40: =Adressen!O44 -> 0 | P40: =Adressen!P44 -> 0 | Q40: =Adressen!Q44 -> 0
...
