Workbook
Name _Zu1: Perimeter_15.03.2008!#REF!
Name _Zu2: Perimeter_15.03.2008!#REF!
Name B: Perimeter_15.03.2008!#REF!
Name Total: Perimeter_15.03.2008!#REF!
Name ZU: Perimeter_15.03.2008!#REF!

Sheet Perimeter_15.03.2008
A1: Unterhaltskostenverteiler Flurgenossenschaft Steig-Steigbach mit Teilstücken | AM1: Landwirtschaftsamt AR, Herisau
A3: Nr. | B3: Grundeigentümer | C3: GB Nr. | D3: G r u n d b u c h d a t e n | N3: Nr. | Y3: Kostenverteiler | AB3: Kostenverteiler | AE3: Kostenverteiler | AH3: Kostenverteiler | AK3: Gesamtko- | AL3: B e m e r k u n g e n
D4: Wiese, | E4: Wald | F4: Wohnungen | H4: Gewerbe | I4: 1. Teilstk. | J4: 2. Teilstk. | K4: 3. Teilstk. | L4: 4. Teilstk. | M4: ange- | O4: Teil- | P4: ä u s s e r e B e z i e h u n g | Y4: Teilstück 1 1170 m | AB4: Teilstück 2 215 m | AE4: Teilstück 3 105 m | AH4: Teilstück 4 100 m | AK4: stenverteiler | AL4: Teilstk. 1 | AM4: 1170 m
D5: Weide | M5: rechnete | O5: stück | P5: Wiese, Weide | R5: W a l d | T5: Wohnung | V5: Gewerbe | Z5: Einzel- | AA5: Ihr | AC5: Einzel- | AD5: Ihr | AF5: Einzel- | AG5: Ihr | AI5: Einzel- | AJ5: Ihr | AK5: Ihr | AL5: Teilstk. 2 | AM5: 215 m
M6: Länge | X6: Total | Y6: Total | Z6: anteil | AA6: Anteil | AB6: Total | AC6: anteil | AD6: Anteil | AE6: Total | AF6: anteil | AG6: Anteil | AH6: Total | AI6: anteil | AJ6: Anteil | AK6: Anteil | AL6: Teilstk. 3 | AM6: 105 m
G7: Anzahl | Z7: 73.58 | AC7: 13.52 | AF7: 6.6 | AI7: 6.3 | AK7: 100 | AL7: Teilstk. 4 | AM7: 100 m
D9: (ha) | E9: (ha) | F9: Anzahl | G9: Punkte | I9: (m) | J9: (m) | K9: (m) | L9: (m) | M9: (m) | P9: p | Q9: m | R9: p | S9: m | T9: p | U9: m | X9: Punkte | Y9: Punkte | Z9: % | AA9: % | AB9: Punkte | AC9: % | AD9: % | AE9: Punkte | AF9: % | AG9: % | AH9: Punkte | AI9: % | AJ9: % | AK9: % | AL9: Totale Länge: | AM9: 1590 m
A12: 1 | B12: Freund-Fuster, Urs + Heidi | C12: 85 | D12: 2.69 | E12: 1.92 | I12: 229 | M12: =SUM(I12:L12) -> 229 | N12: =A12 -> 1 | O12: 1 | P12: =D12 -> 2.69 | Q12: =IF((D12)>0,M12,) -> 229 | R12: =E12*0.5*2/3 -> 0.64 | S12: =IF((E12)>0,M12,) -> 229 | T12: =G12 -> 0 | U12: =IF((F12)>0,M12,) -> 0 | X12: =P12*Q12+R12*S12+T12*U12 -> 762.57 | Y12: =X12+X13 -> 11292.57 | Z12: =Y12/$Y$205% -> 1.3846449 | AA12: =Z12 -> 1.3846449 | AB12: =X14 -> 322.5 | AC12: =AB12/$AB$205% -> 6.1433447 | AD12: =AC12 -> 6.1433447 | AF12: =AE12/$AE$205% -> 0 | AG12: =AF12 -> 0 | AI12: =AH12/$AH$205% -> 0 | AJ12: =AI12 -> 0 | AK12: =AA12*0.7358+AD12*0.1352+AG12*0.066+AJ12*0.063 -> 1.8494019 | AL12: 1/3 Brennholz
F13: 2 | G13: 9 | I13: 1170 | M13: =SUM(I13:L13) -> 1170 | O13: 1 | T13: =G13 -> 9 | U13: =IF((F13)>0,M13,) -> 1170 | X13: =P13*Q13+R13*S13+T13*U13 -> 10530 | AI13: =AH13/$AH$205% -> 0 | AJ13: =AI13 -> 0 | AK13: =AA13*0.7358+AD13*0.1352+AG13*0.066+AJ13*0.063 -> 0
D14: 1.5 | E14: 1.92 | J14: 215 | M14: =SUM(I14:L14) -> 215 | O14: 2 | P14: =D14 -> 1.5 | Q14: =IF((D14)>0,M14,) -> 215 | R14: =E14*0.5*2/3 -> 0.64 | T14: =G14 -> 0 | U14: =IF((F14)>0,M14,) -> 0 | X14: =P14*Q14+R14*S14+T14*U14 -> 322.5 | Z14: =Y14/$Y$205% -> 0 | AA14: =Z14 -> 0 | AC14: =AB14/$AB$205% -> 0 | AD14: =AC14 -> 0 | AF14: =AE14/$AE$205% -> 0 | AG14: =AF14 -> 0 | AI14: =AH14/$AH$205% -> 0 | AJ14: =AI14 -> 0 | AK14: =AA14*0.7358+AD14*0.1352+AG14*0.066+AJ14*0.063 -> 0 | AL14: 1/3 Brennholz
M15: =SUM(I15:L15) -> 0 | T15: =G15 -> 0 | U15: =IF((F15)>0,M15,) -> 0 | AC15: =AB15/$AB$205% -> 0 | AD15: =AC15 -> 0 | AF15: =AE15/$AE$205% -> 0 | AG15: =AF15 -> 0 | AI15: =AH15/$AH$205% -> 0 | AJ15: =AI15 -> 0 | AK15: =AA15*0.7358+AD15*0.1352+AG15*0.066+AJ15*0.063 -> 0
A16: 2 | B16: Enderlin, Hanspeter + Andreas | C16: 87 | D16: 2.5 | E16: 1.25 | F16: 1 | G16: 5 | I16: 1170 | M16: =SUM(I16:L16) -> 1170 | N16: =A16 -> 2 | O16: 1 | P16: =D16 -> 2.5 | Q16: =IF((D16)>0,M16,) -> 1170 | R16: =E16*0.5*2/3 -> 0.41666667 | S16: =IF((E16)>0,M16,) -> 1170 | T16: =G16 -> 5 | U16: =IF((F16)>0,M16,) -> 1170 | X16: =P16*Q16+R16*S16+T16*U16 -> 9262.5 | Y16: =X16+X18 -> 9921.6 | Z16: =Y16/$Y$205% -> 1.2165426 | AA16: =Z16 -> 1.2165426 | AB16: =X17 -> 1702.0833 | AC16: =AB16/$AB$205% -> 32.423208 | AD16: =AC16 -> 32.423208 | AF16: =AE16/$AE$205% -> 0 | AG16: =AF16 -> 0 | AI16: =AH16/$AH$205% -> 0 | AJ16: =AI16 -> 0 | AK16: =AA16*0.7358+AD16*0.1352+AG16*0.066+AJ16*0.063 -> 5.2787498 | AL16: 1/3 Brennholz
D17: 2.5 | E17: 1.25 | F17: 1 | G17: 5 | J17: 215 | M17: =SUM(I17:L17) -> 215 | O17: 2 | P17: =D17 -> 2.5 | Q17: =IF((D17)>0,M17,) -> 215 | R17: =E17*0.5*2/3 -> 0.41666667 | S17: =IF((E17)>0,M17,) -> 215 | T17: =G17 -> 5 | U17: =IF((F17)>0,M17,) -> 215 | X17: =P17*Q17+R17*S17+T17*U17 -> 1702.0833 | Z17: =Y17/$Y$205% -> 0 | AA17: =Z17 -> 0 | AC17: =AB17/$AB$205% -> 0 | AD17: =AC17 -> 0 | AF17: =AE17/$AE$205% -> 0 | AG17: =AF17 -> 0 | AI17: =AH17/$AH$205% -> 0 | AJ17: =AI17 -> 0 | AK17: =AA17*0.7358+AD17*0.1352+AG17*0.066+AJ17*0.063 -> 0 | AL17: 1/3 Brennholz
C18: 325 | E18: 1.69 | I18: 1170 | M18: =SUM(I18:L18) -> 1170 | N18: =A18 -> 0 | O18: 1 | P18: =D18 -> 0 | Q18: =IF((D18)>0,M18,) -> 0 | R18: =E18*0.5*2/3 -> 0.56333333 | S18: =IF((E18)>0,M18,) -> 1170 | T18: =G18 -> 0 | U18: =IF((F18)>0,M18,) -> 0 | X18: =P18*Q18+R18*S18+T18*U18 -> 659.1 | Z18: =Y18/$Y$205% -> 0 | AA18: =Z18 -> 0 | AC18: =AB18/$AB$205% -> 0 | AD18: =AC18 -> 0 | AF18: =AE18/$AE$205% -> 0 | AG18: =AF18 -> 0 | AI18: =AH18/$AH$205% -> 0 | AJ18: =AI18 -> 0 | AK18: =AA18*0.7358+AD18*0.1352+AG18*0.066+AJ18*0.063 -> 0 | AL18: 1/3 Brennholz
M19: =SUM(I19:L19) -> 0 | P19: =D19 -> 0 | Q19: =IF((D19)>0,M19,) -> 0 | S19: =IF((E19)>0,M19,) -> 0 | T19: =G19 -> 0 | U19: =IF((F19)>0,M19,) -> 0 | X19: =P19*Q19+R19*S19+T19*U19 -> 0 | AC19: =AB19/$AB$205% -> 0 | AD19: =AC19 -> 0 | AF19: =AE19/$AE$205% -> 0 | AG19: =AF19 -> 0 | AI19: =AH19/$AH$205% -> 0 | AJ19: =AI19 -> 0 | AK19: =AA19*0.7358+AD19*0.1352+AG19*0.066+AJ19*0.063 -> 0
A20: 3 | B20: Einwohnergemeinde Bühler | C20: 187 | F20: 1 | G20: 1 | I20: 10 | M20: =SUM(I20:L20) -> 10 | N20: =A20 -> 3 | O20: 1 | P20: =D20 -> 0 | Q20: =IF((D20)>0,M20,) -> 0 | R20: =E20*0.5*2/3 -> 0 | S20: =IF((E20)>0,M20,) -> 0 | T20: =G20 -> 1 | U20: =IF((F20)>0,M20,) -> 10 | X20: =P20*Q20+R20*S20+T20*U20 -> 10 | Y20: =X20+X22+X23 -> 6298.75 | Z20: =Y20/$Y$205% -> 0.77232481 | AA20: =Z20 -> 0.77232481 | AC20: =AB20/$AB$205% -> 0 | AD20: =AC20 -> 0 | AF20: =AE20/$AE$205% -> 0 | AG20: =AF20 -> 0 | AI20: =AH20/$AH$205% -> 0 | AJ20: =AI20 -> 0 | AK20: =AA20*0.7358+AD20*0.1352+AG20*0.066+AJ20*0.063 -> 0.5682766 | AL20: Feuerweiher
C21: 220 | M21: =SUM(I21:L21) -> 0 | P21: =D21 -> 0 | Q21: =IF((D21)>0,M21,) -> 0 | R21: =R20 -> 0 | S21: =IF((E21)>0,M21,) -> 0 | T21: =G21 -> 0 | U21: =IF((F21)>0,M21,) -> 0 | AC21: =AB21/$AB$205% -> 0 | AD21: =AC21 -> 0 | AF21: =AE21/$AE$205% -> 0 | AG21: =AF21 -> 0 | AI21: =AH21/$AH$205% -> 0 | AJ21: =AI21 -> 0 | AK21: =AA21*0.7358+AD21*0.1352+AG21*0.066+AJ21*0.063 -> 0 | AL21: nur Strasse
C22: 268 | E22: 10.71 | I22: 1170 | M22: =SUM(I22:L22) -> 1170 | N22: =A22 -> 0 | O22: 1 | P22: =D22 -> 0 | Q22: =IF((D22)>0,M22,) -> 0 | R22: =E22*0.5 -> 5.355 | S22: =IF((E22)>0,M22,) -> 1170 | T22: =G22 -> 0 | U22: =IF((F22)>0,M22,) -> 0 | X22: =P22*Q22+R22*S22+T22*U22 -> 6265.35 | Z22: =Y22/$Y$205% -> 0 | AA22: =Z22 -> 0 | AC22: =AB22/$AB$205% -> 0 | AD22: =AC22 -> 0 | AF22: =AE22/$AE$205% -> 0 | AG22: =AF22 -> 0 | AI22: =AH22/$AH$205% -> 0 | AJ22: =AI22 -> 0 | AK22: =AA22*0.7358+AD22*0.1352+AG22*0.066+AJ22*0.063 -> 0
C23: 270 | E23: 0.04 | I23: 1170 | M23: =SUM(I23:L23) -> 1170 | N23: =A23 -> 0 | O23: 1 | P23: =D23 -> 0 | Q23: =IF((D23)>0,M23,) -> 0 | R23: =E23*0.5 -> 0.02 | S23: =IF((E23)>0,M23,) -> 1170 | T23: =G23 -> 0 | U23: =IF((F23)>0,M23,) -> 0 | X23: =P23*Q23+R23*S23+T23*U23 -> 23.4 | Z23: =Y23/$Y$205% -> 0 | AC23: =AB23/$AB$205% -> 0 | AD23: =AC23 -> 0 | AF23: =AE23/$AE$205% -> 0 | AG23: =AF23 -> 0 | AI23: =AH23/$AH$205% -> 0 | AJ23: =AI23 -> 0 | AK23: =AA23*0.7358+AD23*0.1352+AG23*0.066+AJ23*0.063 -> 0
M24: =SUM(I24:L24) -> 0 | P24: =D24 -> 0 | Q24: =IF((D24)>0,M24,) -> 0 | S24: =IF((E24)>0,M24,) -> 0 | T24: =G24 -> 0 | U24: =IF((F24)>0,M24,) -> 0 | X24: =P24*Q24+R24*S24+T24*U24 -> 0 | AC24: =AB24/$AB$205% -> 0 | AD24: =AC24 -> 0 | AF24: =AE24/$AE$205% -> 0 | AG24: =AF24 -> 0 | AI24: =AH24/$AH$205% -> 0 | AJ24: =AI24 -> 0 | AK24: =AA24*0.7358+AD24*0.1352+AG24*0.066+AJ24*0.063 -> 0
A25: 4 | B25: Grossrieder Hildebrand, Beat + Silivia | C25: 190 | F25: 1 | G25: 5 | I25: 1170 | M25: =SUM(I25:L25) -> 1170 | N25: =A25 -> 4 | O25: 1 | P25: =D25 -> 0 | Q25: =IF((D25)>0,M25,) -> 0 | R25: =E25*0.5*3/3 -> 0 | S25: =IF((E25)>0,M25,) -> 0 | T25: =G25 -> 5 | U25: =IF((F25)>0,M25,) -> 1170 | X25: =P25*Q25+R25*S25+T25*U25 -> 5850 | Y25: =X25 -> 5850 | Z25: =Y25/$Y$205% -> 0.71730108 | AA25: =Z25 -> 0.71730108 | AC25: =AB25/$AB$205% -> 0 | AD25: =AC25 -> 0 | AF25: =AE25/$AE$205% -> 0 | AG25: =AF25 -> 0 | AI25: =AH25/$AH$205% -> 0 | AJ25: =AI25 -> 0 | AK25: =AA25*0.7358+AD25*0.1352+AG25*0.066+AJ25*0.063 -> 0.52779013
P26: =D26 -> 0 | Q26: =IF((D26)>0,M26,) -> 0 | S26: =IF((E26)>0,M26,) -> 0 | T26: =G26 -> 0 | U26: =IF((F26)>0,M26,) -> 0 | X26: =P26*Q26+R26*S26+T26*U26 -> 0 | Y26: =X26 -> 0 | Z26: =Y26/$Y$205% -> 0 | AC26: =AB26/$AB$205% -> 0 | AD26: =AC26 -> 0 | AF26: =AE26/$AE$205% -> 0 | AG26: =AF26 -> 0 | AI26: =AH26/$AH$205% -> 0 | AJ26: =AI26 -> 0 | AK26: =AA26*0.7358+AD26*0.1352+AG26*0.066+AJ26*0.063 -> 0
A27: 5 | B27: Jent-Sörensen Ingrid | C27: 191 | D27: 0.98 | F27: 1 | G27: 5 | I27: 1170 | M27: =SUM(I27:L27) -> 1170 | N27: =A27 -> 5 | O27: 1 | P27: =D27 -> 0.98 | Q27: =IF((D27)>0,M27,) -> 1170 | R27: =E27*0.5*3/3 -> 0 | S27: =IF((E27)>0,M27,) -> 0 | T27: =G27 -> 5 | U27: =IF((F27)>0,M27,) -> 1170 | X27: =P27*Q27+R27*S27+T27*U27 -> 6996.6 | Y27: =X27+X28 -> 7819.5 | Z27: =Y27/$Y$205% -> 0.95879244 | AA27: =Z27 -> 0.95879244 | AC27: =AB27/$AB$205% -> 0 | AD27: =AC27 -> 0 | AF27: =AE27/$AE$205% -> 0 | AG27: =AF27 -> 0 | AI27: =AH27/$AH$205% -> 0 | AJ27: =AI27 -> 0 | AK27: =AA27*0.7358+AD27*0.1352+AG27*0.066+AJ27*0.063 -> 0.70547948
C28: 192 | D28: 0.37 | E28: 1 | I28: 1170 | M28: =SUM(I28:L28) -> 1170 | N28: =A28 -> 0 | O28: 1 | P28: =D28 -> 0.37 | Q28: =IF((D28)>0,M28,) -> 1170 | R28: =E28*0.5*2/3 -> 0.33333333 | S28: =IF((E28)>0,M28,) -> 1170 | T28: =G28 -> 0 | U28: =IF((F28)>0,M28,) -> 0 | V28: =H28*10 -> 0 | X28: =P28*Q28+R28*S28+T28*U28+V28*W28 -> 822.9 | Z28: =Y28/$Y$205% -> 0 | AA28: =Z28 -> 0 | AC28: =AB28/$AB$205% -> 0 | AD28: =AC28 -> 0 | AF28: =AE28/$AE$205% -> 0 | AG28: =AF28 -> 0 | AI28: =AH28/$AH$205% -> 0 | AJ28: =AI28 -> 0 | AK28: =AA28*0.7358+AD28*0.1352+AG28*0.066+AJ28*0.063 -> 0 | AL28: 1/3 Brennholz
M29: =SUM(I29:L29) -> 0 | P29: =D29 -> 0 | Q29: =IF((D29)>0,M29,) -> 0 | S29: =IF((E29)>0,M29,) -> 0 | T29: =G29 -> 0 | U29: =IF((F29)>0,M29,) -> 0 | X29: =P29*Q29+R29*S29+T29*U29 -> 0 | Y29: =X29 -> 0 | Z29: =Y29/$Y$205% -> 0 | AC29: =AB29/$AB$205% -> 0 | AD29: =AC29 -> 0 | AF29: =AE29/$AE$205% -> 0 | AG29: =AF29 -> 0 | AI29: =AH29/$AH$205% -> 0 | AJ29: =AI29 -> 0 | AK29: =AA29*0.7358+AD29*0.1352+AG29*0.066+AJ29*0.063 -> 0
A30: 6 | B30: Hörler Charlotte, Hörler Yvonne | C30: 194 | D30: 1.3 | F30: 1 | G30: 5 | I30: 1170 | M30: =SUM(I30:L30) -> 1170 | N30: =A30 -> 6 | O30: 1 | P30: =D30 -> 1.3 | Q30: =IF((D30)>0,M30,) -> 1170 | R30: =E30*0.5*2/3 -> 0 | S30: =IF((E30)>0,M30,) -> 0 | T30: =G30 -> 5 | U30: =IF((F30)>0,M30,) -> 1170 | X30: =P30*Q30+R30*S30+T30*U30 -> 7371 | Y30: =X30 -> 7371 | Z30: =Y30/$Y$205% -> 0.90379936 | AA30: =Z30 -> 0.90379936 | AC30: =AB30/$AB$205% -> 0 | AD30: =AC30 -> 0 | AF30: =AE30/$AE$205% -> 0 | AG30: =AF30 -> 0 | AI30: =AH30/$AH$205% -> 0 | AJ30: =AI30 -> 0 | AK30: =AA30*0.7358+AD30*0.1352+AG30*0.066+AJ30*0.063 -> 0.66501557
B31: Hörler Urs | M31: =SUM(I31:L31) -> 0 | N31: =A31 -> 0 | P31: =D31 -> 0 | Q31: =IF((D31)>0,M31,) -> 0 | R31: =E31*0.5*2/3 -> 0 | S31: =IF((E31)>0,M31,) -> 0 | T31: =G31 -> 0 | U31: =IF((F31)>0,M31,) -> 0 | X31: =P31*Q31+R31*S31+T31*U31 -> 0 | Y31: =X31 -> 0 | Z31: =Y31/$Y$205% -> 0 | AC31: =AB31/$AB$205% -> 0 | AD31: =AC31 -> 0 | AF31: =AE31/$AE$205% -> 0 | AG31: =AF31 -> 0 | AI31: =AH31/$AH$205% -> 0 | AJ31: =AI31 -> 0 | AK31: =AA31*0.7358+AD31*0.1352+AG31*0.066+AJ31*0.063 -> 0
M32: =SUM(I32:L32) -> 0 | N32: =A32 -> 0 | P32: =D32 -> 0 | Q32: =IF((D32)>0,M32,) -> 0 | R32: =E32*0.5*2/3 -> 0 | S32: =IF((E32)>0,M32,) -> 0 | T32: =G32 -> 0 | U32: =IF((F32)>0,M32,) -> 0 | X32: =P32*Q32+R32*S32+T32*U32 -> 0 | Y32: =X32 -> 0 | Z32: =Y32/$Y$205% -> 0 | AC32: =AB32/$AB$205% -> 0 | AD32: =AC32 -> 0 | AF32: =AE32/$AE$205% -> 0 | AG32: =AF32 -> 0 | AI32: =AH32/$AH$205% -> 0 | AJ32: =AI32 -> 0 | AK32: =AA32*0.7358+AD32*0.1352+AG32*0.066+AJ32*0.063 -> 0
A33: 7 | B33: Fässler-Weber Charles | C33: 195 | F33: 2 | G33: 9 | H33: 1 | I33: 1170 | M33: =SUM(I33:L33) -> 1170 | N33: =A33 -> 7 | O33: 1 | P33: =D33 -> 0 | Q33: =IF((D33)>0,M33,) -> 0 | R33: =E33*0.5*2/3 -> 0 | S33: =IF((E33)>0,M33,) -> 0 | T33: =G33 -> 9 | U33: =IF((F33)>0,M33,) -> 1170 | V33: =H33*10*0.5 -> 5 | W33: =M33 -> 1170 | X33: =P33*Q33+R33*S33+T33*U33+V33*W33 -> 16380 | Y33: =X33 -> 16380 | Z33: =Y33/$Y$205% -> 2.008443 | AA33: =Z33 -> 2.008443 | AC33: =AB33/$AB$205% -> 0 | AD33: =AC33 -> 0 | AF33: =AE33/$AE$205% -> 0 | AG33: =AF33 -> 0 | AI33: =AH33/$AH$205% -> 0 | AJ33: =AI33 -> 0 | AK33: =AA33*0.7358+AD33*0.1352+AG33*0.066+AJ33*0.063 -> 1.4778124 | AL33: 1/2 Gewerbe
P34: =D34 -> 0 | Q34: =IF((D34)>0,M34,) -> 0 | S34: =IF((E34)>0,M34,) -> 0 | T34: =G34 -> 0 | U34: =IF((F34)>0,M34,) -> 0 | V34: =H34*10 -> 0 | X34: =P34*Q34+R34*S34+T34*U34+V34*W34 -> 0 | Y34: =X34 -> 0 | Z34: =Y34/$Y$205% -> 0 | AC34: =AB34/$AB$205% -> 0 | AD34: =AC34 -> 0 | AF34: =AE34/$AE$205% -> 0 | AG34: =AF34 -> 0 | AI34: =AH34/$AH$205% -> 0 | AJ34: =AI34 -> 0 | AK34: =AA34*0.7358+AD34*0.1352+AG34*0.066+AJ34*0.063 -> 0
A35: 8 | B35: Suhner-Eisenhut Willi und Katharina | C35: 196 | F35: 1 | G35: 5 | I35: 1170 | M35: =SUM(I35:L35) -> 1170 | N35: =A35 -> 8 | O35: 1 | P35: =D35 -> 0 | Q35: =IF((D35)>0,M35,) -> 0 | R35: =E35*0.5*2/3 -> 0 | S35: =IF((E35)>0,M35,) -> 0 | T35: =G35 -> 5 | U35: =IF((F35)>0,M35,) -> 1170 | V35: =H35*10 -> 0 | X35: =P35*Q35+R35*S35+T35*U35+V35*W35 -> 5850 | Y35: =X35 -> 5850 | Z35: =Y35/$Y$205% -> 0.71730108 | AA35: =Z35 -> 0.71730108 | AC35: =AB35/$AB$205% -> 0 | AD35: =AC35 -> 0 | AF35: =AE35/$AE$205% -> 0 | AG35: =AF35 -> 0 | AI35: =AH35/$AH$205% -> 0 | AJ35: =AI35 -> 0 | AK35: =AA35*0.7358+AD35*0.1352+AG35*0.066+AJ35*0.063 -> 0.52779013
M36: =SUM(I36:L36) -> 0 | N36: =A36 -> 0 | P36: =D36 -> 0 | Q36: =IF((D36)>0,M36,) -> 0 | R36: =E36*0.5*2/3 -> 0 | S36: =IF((E36)>0,M36,) -> 0 | T36: =G36 -> 0 | U36: =IF((F36)>0,M36,) -> 0 | V36: =H36*10 -> 0 | X36: =P36*Q36+R36*S36+T36*U36+V36*W36 -> 0 | Y36: =X36 -> 0 | Z36: =Y36/$Y$205% -> 0 | AA36: =Z36 -> 0 | AC36: =AB36/$AB$205% -> 0 | AD36: =AC36 -> 0 | AF36: =AE36/$AE$205% -> 0 | AG36: =AF36 -> 0 | AI36: =AH36/$AH$205% -> 0 | AJ36: =AI36 -> 0 | AK36: =AA36*0.7358+AD36*0.1352+AG36*0.066+AJ36*0.063 -> 0
A37: 9 | B37: Stark Johann Josef | C37: 199 | F37: 2 | G37: 9 | I37: 1170 | M37: =SUM(I37:L37) -> 1170 | N37: =A37 -> 9 | O37: 1 | P37: =D37 -> 0 | Q37: =IF((D37)>0,M37,) -> 0 | S37: =IF((E37)>0,M37,) -> 0 | T37: =G37 -> 9 | U37: =IF((F37)>0,M37,) -> 1170 | V37: =H37*10 -> 0 | X37: =P37*Q37+R37*S37+T37*U37+V37*W37 -> 10530 | Y37: =X37 -> 10530 | Z37: =Y37/$Y$205% -> 1.2911419 | AA37: =Z37 -> 1.2911419 | AC37: =AB37/$AB$205% -> 0 | AD37: =AC37 -> 0 | AF37: =AE37/$AE$205% -> 0 | AG37: =AF37 -> 0 | AI37: =AH37/$AH$205% -> 0 | AJ37: =AI37 -> 0 | AK37: =AA37*0.7358+AD37*0.1352+AG37*0.066+AJ37*0.063 -> 0.95002224
M38: =SUM(I38:L38) -> 0 | N38: =A38 -> 0 | P38: =D38 -> 0 | Q38: =IF((D38)>0,M38,) -> 0 | R38: =E38*0.5*2/3 -> 0 | S38: =IF((E38)>0,M38,) -> 0 | T38: =G38 -> 0 | U38: =IF((F38)>0,M38,) -> 0 | V38: =H38*10 -> 0 | X38: =P38*Q38+R38*S38+T38*U38+V38*W38 -> 0 | Y38: =X38 -> 0 | Z38: =Y38/$Y$205% -> 0 | AA38: =Z38 -> 0 | AC38: =AB38/$AB$205% -> 0 | AD38: =AC38 -> 0 | AF38: =AE38/$AE$205% -> 0 | AG38: =AF38 -> 0 | AI38: =AH38/$AH$205% -> 0 | AJ38: =AI38 -> 0 | AK38: =AA38*0.7358+AD38*0.1352+AG38*0.066+AJ38*0.063 -> 0
A39: 10 | B39: Schiess Peter, Schiess Heinz | C39: 200 | D39: 0.22 | F39: 2 | G39: 9 | I39: 1170 | M39: =SUM(I39:L39) -> 1170 | N39: =A39 -> 10 | O39: 1 | P39: =D39 -> 0.22 | Q39: =IF((D39)>0,M39,) -> 1170 | S39: =IF((E39)>0,M39,) -> 0 | T39: =G39 -> 9 | U39: =IF((F39)>0,M39,) -> 1170 | V39: =H39*10 -> 0 | X39: =P39*Q39+R39*S39+T39*U39+V39*W39 -> 10787.4 | Y39: =X39 -> 10787.4 | Z39: =Y39/$Y$205% -> 1.3227032 | AA39: =Z39 -> 1.3227032 | AC39: =AB39/$AB$205% -> 0 | AD39: =AC39 -> 0 | AF39: =AE39/$AE$205% -> 0 | AG39: =AF39 -> 0 | AI39: =AH39/$AH$205% -> 0 | AJ39: =AI39 -> 0 | AK39: =AA39*0.7358+AD39*0.1352+AG39*0.066+AJ39*0.063 -> 0.973245
M40: =SUM(I40:L40) -> 0 | N40: =A40 -> 0 | P40: =D40 -> 0 | Q40: =IF((D40)>0,M40,) -> 0 | R40: =E40*0.5*3/3 -> 0 | S40: =IF((E40)>0,M40,) -> 0 | T40: =G40 -> 0 | U40: =IF((F40)>0,M40,) -> 0 | V40: =H40*10 -> 0 | X40: =P40*Q40+R40*S40+T40*U40+V40*W40 -> 0 | Y40: =X40 -> 0 | Z40: =Y40/$Y$205% -> 0 | AA40: =Z40 -> 0 | AC40: =AB40/$AB$205% -> 0 | AD40: =AC40 -> 0 | AF40: =AE40/$AE$205% -> 0 | AG40: =AF40 -> 0 | AI40: =AH40/$AH$205% -> 0 | AJ40: =AI40 -> 0 | AK40: =AA40*0.7358+AD40*0.1352+AG40*0.066+AJ40*0.063 -> 0
A41: 11 | B41: Ulmann-Manser Roland | C41: 201 | F41: 1 | G41: 5 | I41: 1170 | M41: =SUM(I41:L41) -> 1170 | N41: =A41 -> 11 | O41: 1 | P41: =D41 -> 0 | Q41: =IF((D41)>0,M41,) -> 0 | R41: =E41*0.5*2/3 -> 0 | S41: =IF((E41)>0,M41,) -> 0 | T41: =G41 -> 5 | U41: =IF((F41)>0,M41,) -> 1170 | V41: =H41*10 -> 0 | X41: =P41*Q41+R41*S41+T41*U41+V41*W41 -> 5850 | Y41: =X41 -> 5850 | Z41: =Y41/$Y$205% -> 0.71730108 | AA41: =Z41 -> 0.71730108 | AC41: =AB41/$AB$205% -> 0 | AD41: =AC41 -> 0 | AF41: =AE41/$AE$205% -> 0 | AG41: =AF41 -> 0 | AI41: =AH41/$AH$205% -> 0 | AJ41: =AI41 -> 0 | AK41: =AA41*0.7358+AD41*0.1352+AG41*0.066+AJ41*0.063 -> 0.52779013
M42: =SUM(I42:L42) -> 0 | N42: =A42 -> 0 | P42: =D42 -> 0 | Q42: =IF((D42)>0,M42,) -> 0 | R42: =E42*0.5*2/3 -> 0 | S42: =IF((E42)>0,M42,) -> 0 | T42: =G42 -> 0 | U42: =IF((F42)>0,M42,) -> 0 | V42: =H42*10 -> 0 | X42: =P42*Q42+R42*S42+T42*U42+V42*W42 -> 0 | Y42: =X42 -> 0 | Z42: =Y42/$Y$205% -> 0 | AA42: =Z42 -> 0 | AC42: =AB42/$AB$205% -> 0 | AD42: =AC42 -> 0 | AF42: =AE42/$AE$205% -> 0 | AG42: =AF42 -> 0 | AI42: =AH42/$AH$205% -> 0 | AJ42: =AI42 -> 0 | AK42: =AA42*0.7358+AD42*0.1352+AG42*0.066+AJ42*0.063 -> 0
A43: 12 | B43: Joller-Inhelder Susanne und Lukas | C43: 202 | D43: 0.75 | F43: 2 | G43: 9 | I43: 1170 | M43: =SUM(I43:L43) -> 1170 | N43: =A43 -> 12 | O43: 1 | P43: =D43 -> 0.75 | Q43: =IF((D43)>0,M43,) -> 1170 | R43: =E43*0.5*2/3 -> 0 | S43: =IF((E43)>0,M43,) -> 0 | T43: =G43 -> 9 | U43: =IF((F43)>0,M43,) -> 1170 | V43: =H43*10 -> 0 | X43: =P43*Q43+R43*S43+T43*U43+V43*W43 -> 11407.5 | Y43: =X43+X44 -> 11895 | Z43: =Y43/$Y$205% -> 1.4585122 | AA43: =Z43 -> 1.4585122 | AC43: =AB43/$AB$205% -> 0 | AD43: =AC43 -> 0 | AF43: =AE43/$AE$205% -> 0 | AG43: =AF43 -> 0 | AI43: =AH43/$AH$205% -> 0 | AJ43: =AI43 -> 0 | AK43: =AA43*0.7358+AD43*0.1352+AG43*0.066+AJ43*0.063 -> 1.0731733
C44: 101 | E44: 1.25 | I44: 1170 | M44: =SUM(I44:L44) -> 1170 | N44: =A44 -> 0 | O44: 1 | P44: =D44 -> 0 | Q44: =IF((D44)>0,M44,) -> 0 | R44: =E44*0.5*2/3 -> 0.41666667 | S44: =IF((E44)>0,M44,) -> 1170 | T44: =G44 -> 0 | U44: =IF((F44)>0,M44,) -> 0 | V44: =H44*10 -> 0 | X44: =P44*Q44+R44*S44+T44*U44+V44*W44 -> 487.5 | Z44: =Y44/$Y$205% -> 0 | AA44: =Z44 -> 0 | AC44: =AB44/$AB$205% -> 0 | AD44: =AC44 -> 0 | AF44: =AE44/$AE$205% -> 0 | AG44: =AF44 -> 0 | AI44: =AH44/$AH$205% -> 0 | AJ44: =AI44 -> 0 | AK44: =AA44*0.7358+AD44*0.1352+AG44*0.066+AJ44*0.063 -> 0 | AL44: 1/3 Brennholz
M45: =SUM(I45:L45) -> 0 | N45: =A45 -> 0 | P45: =D45 -> 0 | Q45: =IF((D45)>0,M45,) -> 0 | R45: =E45*0.5*2/3 -> 0 | S45: =IF((E45)>0,M45,) -> 0 | T45: =G45 -> 0 | U45: =IF((F45)>0,M45,) -> 0 | V45: =H45*10 -> 0 | X45: =P45*Q45+R45*S45+T45*U45+V45*W45 -> 0 | Y45: =X45 -> 0 | Z45: =Y45/$Y$205% -> 0 | AA45: =Z45 -> 0 | AC45: =AB45/$AB$205% -> 0 | AD45: =AC45 -> 0 | AF45: =AE45/$AE$205% -> 0 | AG45: =AF45 -> 0 | AI45: =AH45/$AH$205% -> 0 | AJ45: =AI45 -> 0 | AK45: =AA45*0.7358+AD45*0.1352+AG45*0.066+AJ45*0.063 -> 0
A46: 13 | B46: Bachmann-Finzel Walter sel. Erben | C46: 203 | F46: 1 | G46: 5 | I46: 1170 | M46: =SUM(I46:L46) -> 1170 | N46: =A46 -> 13 | O46: 1 | P46: =D46 -> 0 | Q46: =IF((D46)>0,M46,) -> 0 | R46: =E46*0.5*2/3 -> 0 | S46: =IF((E46)>0,M46,) -> 0 | T46: =G46 -> 5 | U46: =IF((F46)>0,M46,) -> 1170 | V46: =H46*10 -> 0 | X46: =P46*Q46+R46*S46+T46*U46+V46*W46 -> 5850 | Y46: =X46 -> 5850 | Z46: =Y46/$Y$205% -> 0.71730108 | AA46: =Z46 -> 0.71730108 | AC46: =AB46/$AB$205% -> 0 | AD46: =AC46 -> 0 | AF46: =AE46/$AE$205% -> 0 | AG46: =AF46 -> 0 | AI46: =AH46/$AH$205% -> 0 | AJ46: =AI46 -> 0 | AK46: =AA46*0.7358+AD46*0.1352+AG46*0.066+AJ46*0.063 -> 0.52779013
M47: =SUM(I47:L47) -> 0 | N47: =A47 -> 0 | P47: =D47 -> 0 | Q47: =IF((D47)>0,M47,) -> 0 | R47: =E47*0.5*2/3 -> 0 | S47: =IF((E47)>0,M47,) -> 0 | T47: =G47 -> 0 | U47: =IF((F47)>0,M47,) -> 0 | V47: =H47*10 -> 0 | X47: =P47*Q47+R47*S47+T47*U47+V47*W47 -> 0 | Y47: =X47 -> 0 | Z47: =Y47/$Y$205% -> 0 | AA47: =Z47 -> 0 | AC47: =AB47/$AB$205% -> 0 | AD47: =AC47 -> 0 | AF47: =AE47/$AE$205% -> 0 | AG47: =AF47 -> 0 | AI47: =AH47/$AH$205% -> 0 | AJ47: =AI47 -> 0 | AK47: =AA47*0.7358+AD47*0.1352+AG47*0.066+AJ47*0.063 -> 0
A48: 14 | B48: Huber-Alder Dora | C48: 204 | F48: 1 | G48: 5 | I48: 1170 | M48: =SUM(I48:L48) -> 1170 | N48: =A48 -> 14 | O48: 1 | P48: =D48 -> 0 | Q48: =IF((D48)>0,M48,) -> 0 | R48: =E48*0.5*2/3 -> 0 | S48: =IF((E48)>0,M48,) -> 0 | T48: =G48 -> 5 | U48: =IF((F48)>0,M48,) -> 1170 | V48: =H48*10 -> 0 | X48: =P48*Q48+R48*S48+T48*U48+V48*W48 -> 5850 | Y48: =X48 -> 5850 | Z48: =Y48/$Y$205% -> 0.71730108 | AA48: =Z48 -> 0.71730108 | AC48: =AB48/$AB$205% -> 0 | AD48: =AC48 -> 0 | AF48: =AE48/$AE$205% -> 0 | AG48: =AF48 -> 0 | AI48: =AH48/$AH$205% -> 0 | AJ48: =AI48 -> 0 | AK48: =AA48*0.7358+AD48*0.1352+AG48*0.066+AJ48*0.063 -> 0.52779013
M49: =SUM(I49:L49) -> 0 | N49: =A49 -> 0 | P49: =D49 -> 0 | Q49: =IF((D49)>0,M49,) -> 0 | R49: =E49*0.5*2/3 -> 0 | S49: =IF((E49)>0,M49,) -> 0 | T49: =G49 -> 0 | U49: =IF((F49)>0,M49,) -> 0 | V49: =H49*10 -> 0 | X49: =P49*Q49+R49*S49+T49*U49+V49*W49 -> 0 | Y49: =X49 -> 0 | Z49: =Y49/$Y$205% -> 0 | AA49: =Z49 -> 0 | AC49: =AB49/$AB$205% -> 0 | AD49: =AC49 -> 0 | AF49: =AE49/$AE$205% -> 0 | AG49: =AF49 -> 0 | AI49: =AH49/$AH$205% -> 0 | AJ49: =AI49 -> 0 | AK49: =AA49*0.7358+AD49*0.1352+AG49*0.066+AJ49*0.063 -> 0
A50: 15 | B50: Schneider-Frei Ernst, Balgach | C50: 206 | D50: 1.52 | F50: 1 | G50: 5 | I50: 1170 | M50: =SUM(I50:L50) -> 1170 | N50: =A50 -> 15 | O50: 1 | P50: =D50 -> 1.52 | Q50: =IF((D50)>0,M50,) -> 1170 | R50: =E50*0.5*2/3 -> 0 | S50: =IF((E50)>0,M50,) -> 0 | T50: =G50 -> 5 | U50: =IF((F50)>0,M50,) -> 1170 | V50: =H50*10 -> 0 | X50: =P50*Q50+R50*S50+T50*U50+V50*W50 -> 7628.4 | Y50: =X50+X51+X52 -> 8205.6 | Z50: =Y50/$Y$205% -> 1.0061343 | AA50: =Z50 -> 1.0061343 | AC50: =AB50/$AB$205% -> 0 | AD50: =AC50 -> 0 | AF50: =AE50/$AE$205% -> 0 | AG50: =AF50 -> 0 | AI50: =AH50/$AH$205% -> 0 | AJ50: =AI50 -> 0 | AK50: =AA50*0.7358+AD50*0.1352+AG50*0.066+AJ50*0.063 -> 0.74031363
C51: 623 | D51: 0.43 | I51: 1170 | M51: =SUM(I51:L51) -> 1170 | N51: =A51 -> 0 | O51: 1 | P51: =D51 -> 0.43 | Q51: =IF((D51)>0,M51,) -> 1170 | R51: =E51*0.5*2/3 -> 0 | S51: =IF((E51)>0,M51,) -> 0 | T51: =G51 -> 0 | U51: =IF((F51)>0,M51,) -> 0 | V51: =H51*10 -> 0 | X51: =P51*Q51+R51*S51+T51*U51+V51*W51 -> 503.1 | Z51: =Y51/$Y$205% -> 0 | AA51: =Z51 -> 0 | AC51: =AB51/$AB$205% -> 0 | AD51: =AC51 -> 0 | AF51: =AE51/$AE$205% -> 0 | AG51: =AF51 -> 0 | AI51: =AH51/$AH$205% -> 0 | AJ51: =AI51 -> 0 | AK51: =AA51*0.7358+AD51*0.1352+AG51*0.066+AJ51*0.063 -> 0
C52: 263 | E52: 0.19 | I52: 1170 | M52: =SUM(I52:L52) -> 1170 | O52: 1 | P52: =D52 -> 0 | Q52: =IF((D52)>0,M52,) -> 0 | R52: =E52*0.5*2/3 -> 0.063333333 | S52: =IF((E52)>0,M52,) -> 1170 | T52: =G52 -> 0 | U52: =IF((F52)>0,M52,) -> 0 | V52: =H52*10 -> 0 | X52: =P52*Q52+R52*S52+T52*U52+V52*W52 -> 74.1 | Z52: =Y52/$Y$205% -> 0 | AA52: =Z52 -> 0 | AL52: 1/3 Brennholz
M53: =SUM(I53:L53) -> 0 | N53: =A53 -> 0 | P53: =D53 -> 0 | Q53: =IF((D53)>0,M53,) -> 0 | R53: =E53*0.5*2/3 -> 0 | S53: =IF((E53)>0,M53,) -> 0 | T53: =G53 -> 0 | U53: =IF((F53)>0,M53,) -> 0 | V53: =H53*10 -> 0 | X53: =P53*Q53+R53*S53+T53*U53+V53*W53 -> 0 | Y53: =X53 -> 0 | Z53: =Y53/$Y$205% -> 0 | AA53: =Z53 -> 0 | AC53: =AB53/$AB$205% -> 0 | AD53: =AC53 -> 0 | AF53: =AE53/$AE$205% -> 0 | AG53: =AF53 -> 0 | AI53: =AH53/$AH$205% -> 0 | AJ53: =AI53 -> 0 | AK53: =AA53*0.7358+AD53*0.1352+AG53*0.066+AJ53*0.063 -> 0
A54: 16 | B54: Inauen-Fässler Hans | C54: 217 | D54: 1.98 | E54: 0.31 | I54: 180 | M54: =SUM(I54:L54) -> 180 | N54: =A54 -> 16 | O54: 1 | P54: =D54 -> 1.98 | Q54: =IF((D54)>0,M54,) -> 180 | R54: =E54*0.5*2/3 -> 0.10333333 | S54: =IF((E54)>0,M54,) -> 180 | T54: =G54 -> 0 | U54: =IF((F54)>0,M54,) -> 0 | V54: =H54*10 -> 0 | W54: =M54 -> 180 | X54: =P54*Q54+R54*S54+T54*U54+V54*W54 -> 375 | Y54: =X54+X55 -> 22605 | Z54: =Y54/$Y$205% -> 2.7717249 | AA54: =Z54 -> 2.7717249 | AC54: =AB54/$AB$205% -> 0 | AD54: =AC54 -> 0 | AF54: =AE54/$AE$205% -> 0 | AG54: =AF54 -> 0 | AI54: =AH54/$AH$205% -> 0 | AJ54: =AI54 -> 0 | AK54: =AA54*0.7358+AD54*0.1352+AG54*0.066+AJ54*0.063 -> 2.0394352 | AL54: 1/3 Brennholz
F55: 2 | G55: 9 | H55: 1 | I55: 1170 | M55: =SUM(I55:L55) -> 1170 | O55: 1 | T55: =G55 -> 9 | U55: =IF((F55)>0,M55,) -> 1170 | V55: 10 | W55: =M55 -> 1170 | X55: =P55*Q55+R55*S55+T55*U55+V55*W55 -> 22230 | AI55: =AH55/$AH$205% -> 0 | AJ55: =AI55 -> 0 | AK55: =AA55*0.7358+AD55*0.1352+AG55*0.066+AJ55*0.063 -> 0
M56: =SUM(I56:L56) -> 0 | N56: =A56 -> 0 | P56: =D56 -> 0 | Q56: =IF((D56)>0,M56,) -> 0 | R56: =E56*0.5*2/3 -> 0 | S56: =IF((E56)>0,M56,) -> 0 | T56: =G56 -> 0 | U56: =IF((F56)>0,M56,) -> 0 | V56: =H56*10 -> 0 | X56: =P56*Q56+R56*S56+T56*U56+V56*W56 -> 0 | Y56: =X56 -> 0 | Z56: =Y56/$Y$205% -> 0 | AA56: =Z56 -> 0 | AC56: =AB56/$AB$205% -> 0 | AD56: =AC56 -> 0 | AF56: =AE56/$AE$205% -> 0 | AG56: =AF56 -> 0 | AI56: =AH56/$AH$205% -> 0 | AJ56: =AI56 -> 0 | AK56: =AA56*0.7358+AD56*0.1352+AG56*0.066+AJ56*0.063 -> 0
A57: 17 | B57: Koller-Zillig Hans | C57: 218 | D57: 0.55 | F57: 2 | G57: 9 | I57: 1170 | M57: =SUM(I57:L57) -> 1170 | N57: =A57 -> 17 | O57: 1 | P57: =D57 -> 0.55 | Q57: =IF((D57)>0,M57,) -> 1170 | R57: =E57*0.5*2/3 -> 0 | S57: =IF((E57)>0,M57,) -> 0 | T57: =G57 -> 9 | U57: =IF((F57)>0,M57,) -> 1170 | V57: =H57*10 -> 0 | X57: =P57*Q57+R57*S57+T57*U57+V57*W57 -> 11173.5 | Y57: =X57+X58+X60 -> 12107.867 | Z57: =Y57/$Y$205% -> 1.484613 | AA57: =Z57 -> 1.484613 | AC57: =AB57/$AB$205% -> 0 | AD57: =AC57 -> 0 | AE57: =X59 -> 253.4 | AF57: =AE57/$AE$205% -> 9.3733817 | AG57: =AF57 -> 9.3733817 | AI57: =AH57/$AH$205% -> 0 | AJ57: =AI57 -> 0 | AK57: =AA57*0.7358+AD57*0.1352+AG57*0.066+AJ57*0.063 -> 1.7110214
C58: 596 | D58: 2.38 | E58: 0.1 | I58: 350 | M58: =SUM(I58:L58) -> 350 | N58: =A58 -> 0 | O58: 1 | P58: =D58 -> 2.38 | Q58: =IF((D58)>0,M58,) -> 350 | R58: =E58*0.5*2/3 -> 0.033333333 | S58: =IF((E58)>0,M58,) -> 350 | T58: =G58 -> 0 | U58: =IF((F58)>0,M58,) -> 0 | V58: =H58*10 -> 0 | X58: =P58*Q58+R58*S58+T58*U58+V58*W58 -> 844.66667 | Z58: =Y58/$Y$205% -> 0 | AA58: =Z58 -> 0 | AC58: =AB58/$AB$205% -> 0 | AD58: =AC58 -> 0 | AF58: =AE58/$AE$205% -> 0 | AG58: =AF58 -> 0 | AI58: =AH58/$AH$205% -> 0 | AJ58: =AI58 -> 0 | AK58: =AA58*0.7358+AD58*0.1352+AG58*0.066+AJ58*0.063 -> 0 | AL58: 1/3 Brennholz
D59: 2.38 | E59: 0.1 | K59: 105 | M59: =SUM(I59:L59) -> 105 | O59: 3 | P59: =D59 -> 2.38 | Q59: =IF((D59)>0,M59,) -> 105 | R59: =E59*0.5*2/3 -> 0.033333333 | S59: =IF((E59)>0,M59,) -> 105 | T59: =G59 -> 0 | X59: =P59*Q59+R59*S59+T59*U59+V59*W59 -> 253.4 | AI59: =AH59/$AH$205% -> 0 | AJ59: =AI59 -> 0 | AK59: =AA59*0.7358+AD59*0.1352+AG59*0.066+AJ59*0.063 -> 0
C60: 264 | E60: 0.23 | I60: 1170 | M60: =SUM(I60:L60) -> 1170 | N60: =A60 -> 0 | O60: 1 | P60: =D60 -> 0 | Q60: =IF((D60)>0,M60,) -> 0 | R60: =E60*0.5*2/3 -> 0.076666667 | S60: =IF((E60)>0,M60,) -> 1170 | T60: =G60 -> 0 | U60: =IF((F60)>0,M60,) -> 0 | V60: =H60*10 -> 0 | X60: =P60*Q60+R60*S60+T60*U60+V60*W60 -> 89.7 | Z60: =Y60/$Y$205% -> 0 | AA60: =Z60 -> 0 | AC60: =AB60/$AB$205% -> 0 | AD60: =AC60 -> 0 | AF60: =AE60/$AE$205% -> 0 | AG60: =AF60 -> 0 | AI60: =AH60/$AH$205% -> 0 | AJ60: =AI60 -> 0 | AK60: =AA60*0.7358+AD60*0.1352+AG60*0.066+AJ60*0.063 -> 0 | AL60: 1/3 Brennholz
M61: =SUM(I61:L61) -> 0 | N61: =A61 -> 0 | P61: =D61 -> 0 | Q61: =IF((D61)>0,M61,) -> 0 | R61: =E61*0.5*2/3 -> 0 | S61: =IF((E61)>0,M61,) -> 0 | T61: =G61 -> 0 | U61: =IF((F61)>0,M61,) -> 0 | V61: =H61*10 -> 0 | X61: =P61*Q61+R61*S61+T61*U61+V61*W61 -> 0 | Y61: =X61 -> 0 | Z61: =Y61/$Y$205% -> 0 | AA61: =Z61 -> 0 | AC61: =AB61/$AB$205% -> 0 | AD61: =AC61 -> 0 | AF61: =AE61/$AE$205% -> 0 | AG61: =AF61 -> 0 | AI61: =AH61/$AH$205% -> 0 | AJ61: =AI61 -> 0 | AK61: =AA61*0.7358+AD61*0.1352+AG61*0.066+AJ61*0.063 -> 0
A62: 18 | B62: Keller-Müller Annalies und Dieter | C62: 221 | F62: 1 | G62: 5 | H62: 1 | I62: 1170 | M62: =SUM(I62:L62) -> 1170 | N62: =A62 -> 18 | O62: 1 | P62: =D62 -> 0 | Q62: =IF((D62)>0,M62,) -> 0 | R62: =E62*0.5*2/3 -> 0 | S62: =IF((E62)>0,M62,) -> 0 | T62: =G62 -> 5 | U62: =IF((F62)>0,M62,) -> 1170 | V62: =H62*20 -> 20 | W62: 1170 | X62: =P62*Q62+R62*S62+T62*U62+V62*W62 -> 29250 | Y62: =X62 -> 29250 | Z62: =Y62/$Y$205% -> 3.5865054 | AA62: =Z62 -> 3.5865054 | AC62: =AB62/$AB$205% -> 0 | AD62: =AC62 -> 0 | AF62: =AE62/$AE$205% -> 0 | AG62: =AF62 -> 0 | AI62: =AH62/$AH$205% -> 0 | AJ62: =AI62 -> 0 | AK62: =AA62*0.7358+AD62*0.1352+AG62*0.066+AJ62*0.063 -> 2.6389507 | AL62: Restaurant
M63: =SUM(I63:L63) -> 0 | N63: =A63 -> 0 | P63: =D63 -> 0 | Q63: =IF((D63)>0,M63,) -> 0 | R63: =E63*0.5*2/3 -> 0 | S63: =IF((E63)>0,M63,) -> 0 | T63: =G63 -> 0 | U63: =IF((F63)>0,M63,) -> 0 | V63: =H63*10 -> 0 | X63: =P63*Q63+R63*S63+T63*U63+V63*W63 -> 0 | Y63: =X63 -> 0 | Z63: =Y63/$Y$205% -> 0 | AA63: =Z63 -> 0 | AC63: =AB63/$AB$205% -> 0 | AD63: =AC63 -> 0 | AF63: =AE63/$AE$205% -> 0 | AG63: =AF63 -> 0 | AI63: =AH63/$AH$205% -> 0 | AJ63: =AI63 -> 0 | AK63: =AA63*0.7358+AD63*0.1352+AG63*0.066+AJ63*0.063 -> 0
A64: 19 | B64: Manetsch-Kessler Edwin und Irene | C64: 222 | F64: 2 | G64: 9 | H64: 1 | I64: 1170 | M64: =SUM(I64:L64) -> 1170 | N64: =A64 -> 19 | O64: 1 | P64: =D64 -> 0 | Q64: =IF((D64)>0,M64,) -> 0 | R64: =E64*0.5*2/3 -> 0 | S64: =IF((E64)>0,M64,) -> 0 | T64: =G64 -> 9 | U64: =IF((F64)>0,M64,) -> 1170 | V64: =H64*10 -> 10 | W64: 1170 | X64: =P64*Q64+R64*S64+T64*U64+V64*W64 -> 22230 | Y64: =X64 -> 22230 | Z64: =Y64/$Y$205% -> 2.7257441 | AA64: =Z64 -> 2.7257441 | AC64: =AB64/$AB$205% -> 0 | AD64: =AC64 -> 0 | AF64: =AE64/$AE$205% -> 0 | AG64: =AF64 -> 0 | AI64: =AH64/$AH$205% -> 0 | AJ64: =AI64 -> 0 | AK64: =AA64*0.7358+AD64*0.1352+AG64*0.066+AJ64*0.063 -> 2.0056025
M65: =SUM(I65:L65) -> 0 | N65: =A65 -> 0 | P65: =D65 -> 0 | Q65: =IF((D65)>0,M65,) -> 0 | R65: =E65*0.5*2/3 -> 0 | S65: =IF((E65)>0,M65,) -> 0 | T65: =G65 -> 0 | U65: =IF((F65)>0,M65,) -> 0 | V65: =H65*10 -> 0 | X65: =P65*Q65+R65*S65+T65*U65+V65*W65 -> 0 | Y65: =X65 -> 0 | Z65: =Y65/$Y$205% -> 0 | AA65: =Z65 -> 0 | AC65: =AB65/$AB$205% -> 0 | AD65: =AC65 -> 0 | AF65: =AE65/$AE$205% -> 0 | AG65: =AF65 -> 0 | AI65: =AH65/$AH$205% -> 0 | AJ65: =AI65 -> 0 | AK65: =AA65*0.7358+AD65*0.1352+AG65*0.066+AJ65*0.063 -> 0
A66: 20 | B66: Nicolet-Zuberbühler Margrit | C66: 259 | D66: 3.33 | E66: 0.02 | F66: 2 | G66: 9 | I66: 1170 | M66: =SUM(I66:L66) -> 1170 | N66: =A66 -> 20 | O66: 1 | P66: =D66 -> 3.33 | Q66: =IF((D66)>0,M66,) -> 1170 | R66: =E66*0.5*2/3 -> 0.0066666667 | S66: =IF((E66)>0,M66,) -> 1170 | T66: =G66 -> 9 | U66: =IF((F66)>0,M66,) -> 1170 | V66: =H66*10 -> 0 | X66: =P66*Q66+R66*S66+T66*U66+V66*W66 -> 14433.9 | Y66: =X66+X67 -> 14586 | Z66: =Y66/$Y$205% -> 1.7884707 | AA66: =Z66 -> 1.7884707 | AC66: =AB66/$AB$205% -> 0 | AD66: =AC66 -> 0 | AF66: =AE66/$AE$205% -> 0 | AG66: =AF66 -> 0 | AI66: =AH66/$AH$205% -> 0 | AJ66: =AI66 -> 0 | AK66: =AA66*0.7358+AD66*0.1352+AG66*0.066+AJ66*0.063 -> 1.3159567 | AL66: 1/3 Brennholz
C67: 262 | E67: 0.39 | I67: 1170 | M67: =SUM(I67:L67) -> 1170 | N67: =A67 -> 0 | O67: 1 | P67: =D67 -> 0 | Q67: =IF((D67)>0,M67,) -> 0 | R67: =E67*0.5*2/3 -> 0.13 | S67: =IF((E67)>0,M67,) -> 1170 | T67: =G67 -> 0 | U67: =IF((F67)>0,M67,) -> 0 | V67: =H67*10 -> 0 | X67: =P67*Q67+R67*S67+T67*U67+V67*W67 -> 152.1 | Z67: =Y67/$Y$205% -> 0 | AA67: =Z67 -> 0 | AC67: =AB67/$AB$205% -> 0 | AD67: =AC67 -> 0 | AF67: =AE67/$AE$205% -> 0 | AG67: =AF67 -> 0 | AI67: =AH67/$AH$205% -> 0 | AJ67: =AI67 -> 0 | AK67: =AA67*0.7358+AD67*0.1352+AG67*0.066+AJ67*0.063 -> 0 | AL67: 1/3 Brennholz
M68: =SUM(I68:L68) -> 0 | N68: =A68 -> 0 | P68: =D68 -> 0 | Q68: =IF((D68)>0,M68,) -> 0 | R68: =E68*0.5*2/3 -> 0 | S68: =IF((E68)>0,M68,) -> 0 | T68: =G68 -> 0 | U68: =IF((F68)>0,M68,) -> 0 | V68: =H68*10 -> 0 | X68: =P68*Q68+R68*S68+T68*U68+V68*W68 -> 0 | Y68: =X68 -> 0 | Z68: =Y68/$Y$205% -> 0 | AA68: =Z68 -> 0 | AC68: =AB68/$AB$205% -> 0 | AD68: =AC68 -> 0 | AF68: =AE68/$AE$205% -> 0 | AG68: =AF68 -> 0 | AI68: =AH68/$AH$205% -> 0 | AJ68: =AI68 -> 0 | AK68: =AA68*0.7358+AD68*0.1352+AG68*0.066+AJ68*0.063 -> 0
A69: 21 | B69: Graber-Schefer Heinz | C69: 260 | D69: 1.15 | E69: 0.68 | F69: 1 | G69: 5 | I69: 1170 | M69: =SUM(I69:L69) -> 1170 | N69: =A69 -> 21 | O69: 1 | P69: =D69 -> 1.15 | Q69: =IF((D69)>0,M69,) -> 1170 | R69: =E69*0.5*2/3 -> 0.22666667 | S69: =IF((E69)>0,M69,) -> 1170 | T69: =G69 -> 5 | U69: =IF((F69)>0,M69,) -> 1170 | V69: =H69*10 -> 0 | X69: =P69*Q69+R69*S69+T69*U69+V69*W69 -> 7460.7 | Y69: =X69 -> 7460.7 | Z69: =Y69/$Y$205% -> 0.91479797 | AA69: =Z69 -> 0.91479797 | AC69: =AB69/$AB$205% -> 0 | AD69: =AC69 -> 0 | AF69: =AE69/$AE$205% -> 0 | AG69: =AF69 -> 0 | AI69: =AH69/$AH$205% -> 0 | AJ69: =AI69 -> 0 | AK69: =AA69*0.7358+AD69*0.1352+AG69*0.066+AJ69*0.063 -> 0.67310835 | AL69: 1/3 Brennholz
M70: =SUM(I70:L70) -> 0 | N70: =A70 -> 0 | P70: =D70 -> 0 | Q70: =IF((D70)>0,M70,) -> 0 | R70: =E70*0.5*2/3 -> 0 | S70: =IF((E70)>0,M70,) -> 0 | T70: =G70 -> 0 | U70: =IF((F70)>0,M70,) -> 0 | V70: =H70*10 -> 0 | X70: =P70*Q70+R70*S70+T70*U70+V70*W70 -> 0 | Y70: =X70 -> 0 | Z70: =Y70/$Y$205% -> 0 | AA70: =Z70 -> 0 | AC70: =AB70/$AB$205% -> 0 | AD70: =AC70 -> 0 | AF70: =AE70/$AE$205% -> 0 | AG70: =AF70 -> 0 | AI70: =AH70/$AH$205% -> 0 | AJ70: =AI70 -> 0 | AK70: =AA70*0.7358+AD70*0.1352+AG70*0.066+AJ70*0.063 -> 0
A71: 22 | B71: Meier-Mittelholzer Andrea und Viktor | C71: 378 | F71: 1 | G71: 5 | I71: 1170 | M71: =SUM(I71:L71) -> 1170 | N71: =A71 -> 22 | O71: 1 | P71: =D71 -> 0 | Q71: =IF((D71)>0,M71,) -> 0 | R71: =E71*0.5*2/3 -> 0 | S71: =IF((E71)>0,M71,) -> 0 | T71: =G71 -> 5 | U71: =IF((F71)>0,M71,) -> 1170 | V71: =H71*10 -> 0 | X71: =P71*Q71+R71*S71+T71*U71+V71*W71 -> 5850 | Y71: =X71 -> 5850 | Z71: =Y71/$Y$205% -> 0.71730108 | AA71: =Z71 -> 0.71730108 | AC71: =AB71/$AB$205% -> 0 | AD71: =AC71 -> 0 | AF71: =AE71/$AE$205% -> 0 | AG71: =AF71 -> 0 | AI71: =AH71/$AH$205% -> 0 | AJ71: =AI71 -> 0 | AK71: =AA71*0.7358+AD71*0.1352+AG71*0.066+AJ71*0.063 -> 0.52779013
M72: =SUM(I72:L72) -> 0 | N72: =A72 -> 0 | P72: =D72 -> 0 | Q72: =IF((D72)>0,M72,) -> 0 | R72: =E72*0.5*2/3 -> 0 | S72: =IF((E72)>0,M72,) -> 0 | T72: =G72 -> 0 | U72: =IF((F72)>0,M72,) -> 0 | V72: =H72*10 -> 0 | X72: =P72*Q72+R72*S72+T72*U72+V72*W72 -> 0 | Y72: =X72 -> 0 | Z72: =Y72/$Y$205% -> 0 | AA72: =Z72 -> 0 | AC72: =AB72/$AB$205% -> 0 | AD72: =AC72 -> 0 | AF72: =AE72/$AE$205% -> 0 | AG72: =AF72 -> 0 | AI72: =AH72/$AH$205% -> 0 | AJ72: =AI72 -> 0 | AK72: =AA72*0.7358+AD72*0.1352+AG72*0.066+AJ72*0.063 -> 0
A73: 23 | B73: Koller Johannes | C73: 381 | F73: 1 | G73: 5 | I73: 1170 | M73: =SUM(I73:L73) -> 1170 | N73: =A73 -> 23 | O73: 1 | P73: =D73 -> 0 | Q73: =IF((D73)>0,M73,) -> 0 | R73: =E73*0.5*2/3 -> 0 | S73: =IF((E73)>0,M73,) -> 0 | T73: =G73 -> 5 | U73: =IF((F73)>0,M73,) -> 1170 | V73: =H73*10 -> 0 | X73: =P73*Q73+R73*S73+T73*U73+V73*W73 -> 5850 | Y73: =X73 -> 5850 | Z73: =Y73/$Y$205% -> 0.71730108 | AA73: =Z73 -> 0.71730108 | AC73: =AB73/$AB$205% -> 0 | AD73: =AC73 -> 0 | AF73: =AE73/$AE$205% -> 0 | AG73: =AF73 -> 0 | AI73: =AH73/$AH$205% -> 0 | AJ73: =AI73 -> 0 | AK73: =AA73*0.7358+AD73*0.1352+AG73*0.066+AJ73*0.063 -> 0.52779013
M74: =SUM(I74:L74) -> 0 | N74: =A74 -> 0 | P74: =D74 -> 0 | Q74: =IF((D74)>0,M74,) -> 0 | R74: =E74*0.5*2/3 -> 0 | S74: =IF((E74)>0,M74,) -> 0 | T74: =G74 -> 0 | U74: =IF((F74)>0,M74,) -> 0 | V74: =H74*10 -> 0 | X74: =P74*Q74+R74*S74+T74*U74+V74*W74 -> 0 | Y74: =X74 -> 0 | Z74: =Y74/$Y$205% -> 0 | AA74: =Z74 -> 0 | AC74: =AB74/$AB$205% -> 0 | AD74: =AC74 -> 0 | AF74: =AE74/$AE$205% -> 0 | AG74: =AF74 -> 0 | AI74: =AH74/$AH$205% -> 0 | AJ74: =AI74 -> 0 | AK74: =AA74*0.7358+AD74*0.1352+AG74*0.066+AJ74*0.063 -> 0
A75: 24 | B75: Zimmermann-Ulmann Klara Agnes und Albert | C75: 383 | F75: 1 | G75: 5 | I75: 1170 | M75: =SUM(I75:L75) -> 1170 | N75: =A75 -> 24 | O75: 1 | P75: =D75 -> 0 | Q75: =IF((D75)>0,M75,) -> 0 | R75: =E75*0.5*2/3 -> 0 | S75: =IF((E75)>0,M75,) -> 0 | T75: =G75 -> 5 | U75: =IF((F75)>0,M75,) -> 1170 | V75: =H75*10 -> 0 | X75: =P75*Q75+R75*S75+T75*U75+V75*W75 -> 5850 | Y75: =X75 -> 5850 | Z75: =Y75/$Y$205% -> 0.71730108 | AA75: =Z75 -> 0.71730108 | AC75: =AB75/$AB$205% -> 0 | AD75: =AC75 -> 0 | AF75: =AE75/$AE$205% -> 0 | AG75: =AF75 -> 0 | AI75: =AH75/$AH$205% -> 0 | AJ75: =AI75 -> 0 | AK75: =AA75*0.7358+AD75*0.1352+AG75*0.066+AJ75*0.063 -> 0.52779013
M76: =SUM(I76:L76) -> 0 | N76: =A76 -> 0 | P76: =D76 -> 0 | Q76: =IF((D76)>0,M76,) -> 0 | R76: =E76*0.5*2/3 -> 0 | S76: =IF((E76)>0,M76,) -> 0 | T76: =G76 -> 0 | U76: =IF((F76)>0,M76,) -> 0 | V76: =H76*10 -> 0 | X76: =P76*Q76+R76*S76+T76*U76+V76*W76 -> 0 | Y76: =X76 -> 0 | Z76: =Y76/$Y$205% -> 0 | AA76: =Z76 -> 0 | AC76: =AB76/$AB$205% -> 0 | AD76: =AC76 -> 0 | AF76: =AE76/$AE$205% -> 0 | AG76: =AF76 -> 0 | AI76: =AH76/$AH$205% -> 0 | AJ76: =AI76 -> 0 | AK76: =AA76*0.7358+AD76*0.1352+AG76*0.066+AJ76*0.063 -> 0
A77: 25 | B77: Isenring-Dörig Andrea und Johann | C77: 384 | F77: 1 | G77: 5 | I77: 1170 | M77: =SUM(I77:L77) -> 1170 | N77: =A77 -> 25 | O77: 1 | P77: =D77 -> 0 | Q77: =IF((D77)>0,M77,) -> 0 | R77: =E77*0.5*2/3 -> 0 | S77: =IF((E77)>0,M77,) -> 0 | T77: =G77 -> 5 | U77: =IF((F77)>0,M77,) -> 1170 | V77: =H77*10 -> 0 | X77: =P77*Q77+R77*S77+T77*U77+V77*W77 -> 5850 | Y77: =X77 -> 5850 | Z77: =Y77/$Y$205% -> 0.71730108 | AA77: =Z77 -> 0.71730108 | AC77: =AB77/$AB$205% -> 0 | AD77: =AC77 -> 0 | AF77: =AE77/$AE$205% -> 0 | AG77: =AF77 -> 0 | AI77: =AH77/$AH$205% -> 0 | AJ77: =AI77 -> 0 | AK77: =AA77*0.7358+AD77*0.1352+AG77*0.066+AJ77*0.063 -> 0.52779013
M78: =SUM(I78:L78) -> 0 | N78: =A78 -> 0 | P78: =D78 -> 0 | Q78: =IF((D78)>0,M78,) -> 0 | R78: =E78*0.5*2/3 -> 0 | S78: =IF((E78)>0,M78,) -> 0 | T78: =G78 -> 0 | U78: =IF((F78)>0,M78,) -> 0 | V78: =H78*10 -> 0 | X78: =P78*Q78+R78*S78+T78*U78+V78*W78 -> 0 | Y78: =X78 -> 0 | Z78: =Y78/$Y$205% -> 0 | AA78: =Z78 -> 0 | AC78: =AB78/$AB$205% -> 0 | AD78: =AC78 -> 0 | AF78: =AE78/$AE$205% -> 0 | AG78: =AF78 -> 0 | AI78: =AH78/$AH$205% -> 0 | AJ78: =AI78 -> 0 | AK78: =AA78*0.7358+AD78*0.1352+AG78*0.066+AJ78*0.063 -> 0
A79: 26 | B79: Schefer-Koller Emilia und Ernst | C79: 388 | F79: 1 | G79: 5 | I79: 1170 | M79: =SUM(I79:L79) -> 1170 | N79: =A79 -> 26 | O79: 1 | P79: =D79 -> 0 | Q79: =IF((D79)>0,M79,) -> 0 | R79: =E79*0.5*2/3 -> 0 | S79: =IF((E79)>0,M79,) -> 0 | T79: =G79 -> 5 | U79: =IF((F79)>0,M79,) -> 1170 | V79: =H79*10 -> 0 | X79: =P79*Q79+R79*S79+T79*U79+V79*W79 -> 5850 | Y79: =X79 -> 5850 | Z79: =Y79/$Y$205% -> 0.71730108 | AA79: =Z79 -> 0.71730108 | AB79: =X80 -> 1075 | AC79: =AB79/$AB$205% -> 20.477816 | AD79: =AC79 -> 20.477816 | AF79: =AE79/$AE$205% -> 0 | AG79: =AF79 -> 0 | AI79: =AH79/$AH$205% -> 0 | AJ79: =AI79 -> 0 | AK79: =AA79*0.7358+AD79*0.1352+AG79*0.066+AJ79*0.063 -> 3.2963908
F80: 1 | G80: 5 | J80: 215 | M80: =SUM(I80:L80) -> 215 | N80: =A80 -> 0 | O80: 2 | P80: =D80 -> 0 | Q80: =IF((D80)>0,M80,) -> 0 | R80: =E80*0.5*2/3 -> 0 | S80: =IF((E80)>0,M80,) -> 0 | T80: =G80 -> 5 | U80: =IF((F80)>0,M80,) -> 215 | V80: =H80*10 -> 0 | X80: =P80*Q80+R80*S80+T80*U80+V80*W80 -> 1075 | Z80: =Y80/$Y$205% -> 0 | AA80: =Z80 -> 0 | AC80: =AB80/$AB$205% -> 0 | AD80: =AC80 -> 0 | AF80: =AE80/$AE$205% -> 0 | AG80: =AF80 -> 0 | AI80: =AH80/$AH$205% -> 0 | AJ80: =AI80 -> 0 | AK80: =AA80*0.7358+AD80*0.1352+AG80*0.066+AJ80*0.063 -> 0
M81: =SUM(I81:L81) -> 0 | N81: =A81 -> 0 | P81: =D81 -> 0 | Q81: =IF((D81)>0,M81,) -> 0 | R81: =E81*0.5*2/3 -> 0 | S81: =IF((E81)>0,M81,) -> 0 | T81: =G81 -> 0 | U81: =IF((F81)>0,M81,) -> 0 | V81: =H81*10 -> 0 | X81: =P81*Q81+R81*S81+T81*U81+V81*W81 -> 0 | Y81: =X81 -> 0 | Z81: =Y81/$Y$205% -> 0 | AA81: =Z81 -> 0 | AC81: =AB81/$AB$205% -> 0 | AD81: =AC81 -> 0 | AF81: =AE81/$AE$205% -> 0 | AG81: =AF81 -> 0 | AI81: =AH81/$AH$205% -> 0 | AJ81: =AI81 -> 0 | AK81: =AA81*0.7358+AD81*0.1352+AG81*0.066+AJ81*0.063 -> 0
A82: 27 | B82: Bernhard Fürer und Karl Fürer | C82: 421 | F82: 20 | G82: 63 | I82: 1170 | M82: =SUM(I82:L82) -> 1170 | N82: =A82 -> 27 | O82: 1 | P82: =D82 -> 0 | Q82: =IF((D82)>0,M82,) -> 0 | R82: =E82*0.5*2/3 -> 0 | S82: =IF((E82)>0,M82,) -> 0 | T82: =G82 -> 63 | U82: =IF((F82)>0,M82,) -> 1170 | V82: =H82*10 -> 0 | X82: =P82*Q82+R82*S82+T82*U82+V82*W82 -> 73710 | Y82: =X82 -> 73710 | Z82: =Y82/$Y$205% -> 9.0379936 | AA82: =Z82 -> 9.0379936 | AC82: =AB82/$AB$205% -> 0 | AD82: =AC82 -> 0 | AF82: =AE82/$AE$205% -> 0 | AG82: =AF82 -> 0 | AI82: =AH82/$AH$205% -> 0 | AJ82: =AI82 -> 0 | AK82: =AA82*0.7358+AD82*0.1352+AG82*0.066+AJ82*0.063 -> 6.6501557
T83: =G83 -> 0 | AI83: =AH83/$AH$205% -> 0 | AJ83: =AI83 -> 0 | AK83: =AA83*0.7358+AD83*0.1352+AG83*0.066+AJ83*0.063 -> 0
A84: 28 | B84: Knecht Yolanda und Georg | C84: 429 | F84: 6 | G84: 21 | I84: 1170 | M84: =SUM(I84:L84) -> 1170 | N84: =A84 -> 28 | O84: 1 | P84: =D84 -> 0 | Q84: =IF((D84)>0,M84,) -> 0 | R84: =E84*0.5*2/3 -> 0 | S84: =IF((E84)>0,M84,) -> 0 | T84: =G84 -> 21 | U84: =IF((F84)>0,M84,) -> 1170 | V84: =H84*10 -> 0 | X84: =P84*Q84+R84*S84+T84*U84+V84*W84 -> 24570 | Y84: =X84+X86 -> 56160 | Z84: =Y84/$Y$205% -> 6.8860903 | AA84: =Z84 -> 6.8860903 | AC84: =AB84/$AB$205% -> 0 | AD84: =AC84 -> 0 | AF84: =AE84/$AE$205% -> 0 | AG84: =AF84 -> 0 | AH84: =X85+X87 -> 2520 | AI84: =AH84/$AH$205% -> 37.5 | AJ84: =AI84 -> 37.5 | AK84: =AA84*0.7358+AD84*0.1352+AG84*0.066+AJ84*0.063 -> 7.4292853
F85: 6 | G85: 21 | L85: 75 | M85: =SUM(I85:L85) -> 75 | N85: =A85 -> 0 | O85: 4 | P85: =D85 -> 0 | Q85: =IF((D85)>0,M85,) -> 0 | R85: =E85*0.5*2/3 -> 0 | S85: =IF((E85)>0,M85,) -> 0 | T85: =G85 -> 21 | U85: =IF((F85)>0,M85,) -> 75 | V85: =H85*10 -> 0 | X85: =P85*Q85+R85*S85+T85*U85+V85*W85 -> 1575 | Z85: =Y85/$Y$205% -> 0 | AA85: =Z85 -> 0 | AC85: =AB85/$AB$205% -> 0 | AD85: =AC85 -> 0 | AF85: =AE85/$AE$205% -> 0 | AG85: =AF85 -> 0 | AI85: =AH85/$AH$205% -> 0 | AJ85: =AI85 -> 0 | AK85: =AA85*0.7358+AD85*0.1352+AG85*0.066+AJ85*0.063 -> 0
C86: 403 | F86: 8 | G86: 27 | I86: 1170 | M86: =SUM(I86:L86) -> 1170 | N86: =A86 -> 0 | O86: 1 | P86: =D86 -> 0 | Q86: =IF((D86)>0,M86,) -> 0 | R86: =E86*0.5*2/3 -> 0 | S86: =IF((E86)>0,M86,) -> 0 | T86: =G86 -> 27 | U86: =IF((F86)>0,M86,) -> 1170 | V86: =H86*10 -> 0 | X86: =P86*Q86+R86*S86+T86*U86+V86*W86 -> 31590 | Z86: =Y86/$Y$205% -> 0 | AA86: =Z86 -> 0 | AC86: =AB86/$AB$205% -> 0 | AD86: =AC86 -> 0 | AF86: =AE86/$AE$205% -> 0 | AG86: =AF86 -> 0 | AI86: =AH86/$AH$205% -> 0 | AJ86: =AI86 -> 0 | AK86: =AA86*0.7358+AD86*0.1352+AG86*0.066+AJ86*0.063 -> 0
F87: 8 | G87: 27 | L87: 35 | M87: =SUM(I87:L87) -> 35 | N87: =A87 -> 0 | O87: 4 | P87: =D87 -> 0 | Q87: =IF((D87)>0,M87,) -> 0 | R87: =E87*0.5*2/3 -> 0 | S87: =IF((E87)>0,M87,) -> 0 | T87: =G87 -> 27 | U87: =IF((F87)>0,M87,) -> 35 | V87: =H87*10 -> 0 | X87: =P87*Q87+R87*S87+T87*U87+V87*W87 -> 945 | Z87: =Y87/$Y$205% -> 0 | AA87: =Z87 -> 0 | AC87: =AB87/$AB$205% -> 0 | AD87: =AC87 -> 0 | AF87: =AE87/$AE$205% -> 0 | AG87: =AF87 -> 0 | AI87: =AH87/$AH$205% -> 0 | AJ87: =AI87 -> 0 | AK87: =AA87*0.7358+AD87*0.1352+AG87*0.066+AJ87*0.063 -> 0
M88: =SUM(I88:L88) -> 0 | N88: =A88 -> 0 | P88: =D88 -> 0 | Q88: =IF((D88)>0,M88,) -> 0 | R88: =E88*0.5*2/3 -> 0 | S88: =IF((E88)>0,M88,) -> 0 | T88: =G88 -> 0 | U88: =IF((F88)>0,M88,) -> 0 | V88: =H88*10 -> 0 | X88: =P88*Q88+R88*S88+T88*U88+V88*W88 -> 0 | Y88: =X88 -> 0 | Z88: =Y88/$Y$205% -> 0 | AA88: =Z88 -> 0 | AC88: =AB88/$AB$205% -> 0 | AD88: =AC88 -> 0 | AF88: =AE88/$AE$205% -> 0 | AG88: =AF88 -> 0 | AI88: =AH88/$AH$205% -> 0 | AJ88: =AI88 -> 0 | AK88: =AA88*0.7358+AD88*0.1352+AG88*0.066+AJ88*0.063 -> 0
A89: 29 | B89: Hansmann Markus | C89: 404 | F89: 1 | G89: 5 | H89: 1 | I89: 1170 | M89: =SUM(I89:L89) -> 1170 | N89: =A89 -> 29 | O89: 1 | P89: =D89 -> 0 | Q89: =IF((D89)>0,M89,) -> 0 | R89: =E89*0.5*2/3 -> 0 | S89: =IF((E89)>0,M89,) -> 0 | T89: =G89 -> 5 | U89: =IF((F89)>0,M89,) -> 1170 | V89: =H89*10*0.5 -> 5 | W89: 1170 | X89: =P89*Q89+R89*S89+T89*U89+V89*W89 -> 11700 | Y89: =X89 -> 11700 | Z89: =Y89/$Y$205% -> 1.4346022 | AA89: =Z89 -> 1.4346022 | AC89: =AB89/$AB$205% -> 0 | AD89: =AC89 -> 0 | AF89: =AE89/$AE$205% -> 0 | AG89: =AF89 -> 0 | AI89: =AH89/$AH$205% -> 0 | AJ89: =AI89 -> 0 | AK89: =AA89*0.7358+AD89*0.1352+AG89*0.066+AJ89*0.063 -> 1.0555803 | AL89: 1/2 Gewerbe
M90: =SUM(I90:L90) -> 0 | N90: =A90 -> 0 | P90: =D90 -> 0 | Q90: =IF((D90)>0,M90,) -> 0 | R90: =E90*0.5*2/3 -> 0 | S90: =IF((E90)>0,M90,) -> 0 | T90: =G90 -> 0 | U90: =IF((F90)>0,M90,) -> 0 | V90: =H90*10 -> 0 | X90: =P90*Q90+R90*S90+T90*U90+V90*W90 -> 0 | Y90: =X90 -> 0 | Z90: =Y90/$Y$205% -> 0 | AA90: =Z90 -> 0 | AC90: =AB90/$AB$205% -> 0 | AD90: =AC90 -> 0 | AF90: =AE90/$AE$205% -> 0 | AG90: =AF90 -> 0 | AI90: =AH90/$AH$205% -> 0 | AJ90: =AI90 -> 0 | AK90: =AA90*0.7358+AD90*0.1352+AG90*0.066+AJ90*0.063 -> 0
A91: 30 | B91: Personalfürsorgestiftung der | C91: 407 | F91: 6 | G91: 21 | I91: 1170 | M91: =SUM(I91:L91) -> 1170 | N91: =A91 -> 30 | O91: 1 | P91: =D91 -> 0 | Q91: =IF((D91)>0,M91,) -> 0 | R91: =E91*0.5*2/3 -> 0 | S91: =IF((E91)>0,M91,) -> 0 | T91: =G91 -> 21 | U91: =IF((F91)>0,M91,) -> 1170 | V91: =H91*10 -> 0 | X91: =P91*Q91+R91*S91+T91*U91+V91*W91 -> 24570 | Y91: =X91+X93 -> 49140 | Z91: =Y91/$Y$205% -> 6.0253291 | AA91: =Z91 -> 6.0253291 | AC91: =AB91/$AB$205% -> 0 | AD91: =AC91 -> 0 | AF91: =AE91/$AE$205% -> 0 | AG91: =AF91 -> 0 | AH91: =X92+X94 -> 4200 | AI91: =AH91/$AH$205% -> 62.5 | AJ91: =AI91 -> 62.5 | AK91: =AA91*0.7358+AD91*0.1352+AG91*0.066+AJ91*0.063 -> 8.3709371
B92: TISCA/TIARA-Gruppe | F92: 6 | G92: 21 | L92: 100 | M92: =SUM(I92:L92) -> 100 | N92: =A92 -> 0 | O92: 4 | P92: =D92 -> 0 | Q92: =IF((D92)>0,M92,) -> 0 | R92: =E92*0.5*2/3 -> 0 | S92: =IF((E92)>0,M92,) -> 0 | T92: =G92 -> 21 | U92: =IF((F92)>0,M92,) -> 100 | V92: =H92*10 -> 0 | X92: =P92*Q92+R92*S92+T92*U92+V92*W92 -> 2100 | Z92: =Y92/$Y$205% -> 0 | AA92: =Z92 -> 0 | AC92: =AB92/$AB$205% -> 0 | AD92: =AC92 -> 0 | AF92: =AE92/$AE$205% -> 0 | AG92: =AF92 -> 0 | AI92: =AH92/$AH$205% -> 0 | AJ92: =AI92 -> 0 | AK92: =AA92*0.7358+AD92*0.1352+AG92*0.066+AJ92*0.063 -> 0
C93: 430 | F93: 6 | G93: 21 | I93: 1170 | M93: =SUM(I93:L93) -> 1170 | N93: =A93 -> 0 | O93: 1 | P93: =D93 -> 0 | Q93: =IF((D93)>0,M93,) -> 0 | R93: =E93*0.5*2/3 -> 0 | S93: =IF((E93)>0,M93,) -> 0 | T93: =G93 -> 21 | U93: =IF((F93)>0,M93,) -> 1170 | V93: =H93*10 -> 0 | X93: =P93*Q93+R93*S93+T93*U93+V93*W93 -> 24570 | Z93: =Y93/$Y$205% -> 0 | AA93: =Z93 -> 0 | AC93: =AB93/$AB$205% -> 0 | AD93: =AC93 -> 0 | AF93: =AE93/$AE$205% -> 0 | AG93: =AF93 -> 0 | AI93: =AH93/$AH$205% -> 0 | AJ93: =AI93 -> 0 | AK93: =AA93*0.7358+AD93*0.1352+AG93*0.066+AJ93*0.063 -> 0
F94: 6 | G94: 21 | L94: 100 | M94: =SUM(I94:L94) -> 100 | N94: =A94 -> 0 | O94: 4 | P94: =D94 -> 0 | Q94: =IF((D94)>0,M94,) -> 0 | R94: =E94*0.5*2/3 -> 0 | S94: =IF((E94)>0,M94,) -> 0 | T94: =G94 -> 21 | U94: =IF((F94)>0,M94,) -> 100 | V94: =H94*10 -> 0 | X94: =P94*Q94+R94*S94+T94*U94+V94*W94 -> 2100 | Z94: =Y94/$Y$205% -> 0 | AA94: =Z94 -> 0 | AC94: =AB94/$AB$205% -> 0 | AD94: =AC94 -> 0 | AF94: =AE94/$AE$205% -> 0 | AG94: =AF94 -> 0 | AI94: =AH94/$AH$205% -> 0 | AJ94: =AI94 -> 0 | AK94: =AA94*0.7358+AD94*0.1352+AG94*0.066+AJ94*0.063 -> 0
M95: =SUM(I95:L95) -> 0 | N95: =A95 -> 0 | P95: =D95 -> 0 | Q95: =IF((D95)>0,M95,) -> 0 | R95: =E95*0.5*2/3 -> 0 | S95: =IF((E95)>0,M95,) -> 0 | T95: =G95 -> 0 | U95: =IF((F95)>0,M95,) -> 0 | V95: =H95*10 -> 0 | X95: =P95*Q95+R95*S95+T95*U95+V95*W95 -> 0 | Y95: =X95 -> 0 | Z95: =Y95/$Y$205% -> 0 | AA95: =Z95 -> 0 | AC95: =AB95/$AB$205% -> 0 | AD95: =AC95 -> 0 | AF95: =AE95/$AE$205% -> 0 | AG95: =AF95 -> 0 | AI95: =AH95/$AH$205% -> 0 | AJ95: =AI95 -> 0 | AK95: =AA95*0.7358+AD95*0.1352+AG95*0.066+AJ95*0.063 -> 0
A96: 31 | B96: Heimburger-Tanner Karl | C96: 418 | F96: 1 | G96: 5 | I96: 1170 | M96: =SUM(I96:L96) -> 1170 | N96: =A96 -> 31 | O96: 1 | P96: =D96 -> 0 | Q96: =IF((D96)>0,M96,) -> 0 | R96: =E96*0.5*2/3 -> 0 | S96: =IF((E96)>0,M96,) -> 0 | T96: =G96 -> 5 | U96: =IF((F96)>0,M96,) -> 1170 | V96: =H96*10 -> 0 | X96: =P96*Q96+R96*S96+T96*U96+V96*W96 -> 5850 | Y96: =X96 -> 5850 | Z96: =Y96/$Y$205% -> 0.71730108 | AA96: =Z96 -> 0.71730108 | AC96: =AB96/$AB$205% -> 0 | AD96: =AC96 -> 0 | AF96: =AE96/$AE$205% -> 0 | AG96: =AF96 -> 0 | AI96: =AH96/$AH$205% -> 0 | AJ96: =AI96 -> 0 | AK96: =AA96*0.7358+AD96*0.1352+AG96*0.066+AJ96*0.063 -> 0.52779013
M97: =SUM(I97:L97) -> 0 | N97: =A97 -> 0 | P97: =D97 -> 0 | Q97: =IF((D97)>0,M97,) -> 0 | R97: =E97*0.5*2/3 -> 0 | S97: =IF((E97)>0,M97,) -> 0 | T97: =G97 -> 0 | U97: =IF((F97)>0,M97,) -> 0 | V97: =H97*10 -> 0 | X97: =P97*Q97+R97*S97+T97*U97+V97*W97 -> 0 | Y97: =X97 -> 0 | Z97: =Y97/$Y$205% -> 0 | AA97: =Z97 -> 0 | AC97: =AB97/$AB$205% -> 0 | AD97: =AC97 -> 0 | AF97: =AE97/$AE$205% -> 0 | AG97: =AF97 -> 0 | AI97: =AH97/$AH$205% -> 0 | AJ97: =AI97 -> 0 | AK97: =AA97*0.7358+AD97*0.1352+AG97*0.066+AJ97*0.063 -> 0
A98: 32 | B98: Kunz-Luchsinger Elsbeth | C98: 427 | F98: 1 | G98: 5 | I98: 1170 | M98: =SUM(I98:L98) -> 1170 | N98: =A98 -> 32 | O98: 1 | P98: =D98 -> 0 | Q98: =IF((D98)>0,M98,) -> 0 | R98: =E98*0.5*2/3 -> 0 | S98: =IF((E98)>0,M98,) -> 0 | T98: =G98 -> 5 | U98: =IF((F98)>0,M98,) -> 1170 | V98: =H98*10 -> 0 | X98: =P98*Q98+R98*S98+T98*U98+V98*W98 -> 5850 | Y98: =X98 -> 5850 | Z98: =Y98/$Y$205% -> 0.71730108 | AA98: =Z98 -> 0.71730108 | AC98: =AB98/$AB$205% -> 0 | AD98: =AC98 -> 0 | AF98: =AE98/$AE$205% -> 0 | AG98: =AF98 -> 0 | AI98: =AH98/$AH$205% -> 0 | AJ98: =AI98 -> 0 | AK98: =AA98*0.7358+AD98*0.1352+AG98*0.066+AJ98*0.063 -> 0.52779013
M99: =SUM(I99:L99) -> 0 | N99: =A99 -> 0 | P99: =D99 -> 0 | Q99: =IF((D99)>0,M99,) -> 0 | R99: =E99*0.5*2/3 -> 0 | S99: =IF((E99)>0,M99,) -> 0 | T99: =G99 -> 0 | U99: =IF((F99)>0,M99,) -> 0 | V99: =H99*10 -> 0 | X99: =P99*Q99+R99*S99+T99*U99+V99*W99 -> 0 | Y99: =X99 -> 0 | Z99: =Y99/$Y$205% -> 0 | AA99: =Z99 -> 0 | AC99: =AB99/$AB$205% -> 0 | AD99: =AC99 -> 0 | AF99: =AE99/$AE$205% -> 0 | AG99: =AF99 -> 0 | AI99: =AH99/$AH$205% -> 0 | AJ99: =AI99 -> 0 | AK99: =AA99*0.7358+AD99*0.1352+AG99*0.066+AJ99*0.063 -> 0
A100: 33 | B100: Streule Albert | C100: 428 | F100: 1 | G100: 5 | I100: 1170 | M100: =SUM(I100:L100) -> 1170 | N100: =A100 -> 33 | O100: 1 | P100: =D100 -> 0 | Q100: =IF((D100)>0,M100,) -> 0 | R100: =E100*0.5*2/3 -> 0 | S100: =IF((E100)>0,M100,) -> 0 | T100: =G100 -> 5 | U100: =IF((F100)>0,M100,) -> 1170 | V100: =H100*10 -> 0 | X100: =P100*Q100+R100*S100+T100*U100+V100*W100 -> 5850 | Y100: =X100 -> 5850 | Z100: =Y100/$Y$205% -> 0.71730108 | AA100: =Z100 -> 0.71730108 | AC100: =AB100/$AB$205% -> 0 | AD100: =AC100 -> 0 | AF100: =AE100/$AE$205% -> 0 | AG100: =AF100 -> 0 | AI100: =AH100/$AH$205% -> 0 | AJ100: =AI100 -> 0 | AK100: =AA100*0.7358+AD100*0.1352+AG100*0.066+AJ100*0.063 -> 0.52779013
M101: =SUM(I101:L101) -> 0 | N101: =A101 -> 0 | P101: =D101 -> 0 | Q101: =IF((D101)>0,M101,) -> 0 | R101: =E101*0.5*2/3 -> 0 | S101: =IF((E101)>0,M101,) -> 0 | T101: =G101 -> 0 | U101: =IF((F101)>0,M101,) -> 0 | V101: =H101*10 -> 0 | X101: =P101*Q101+R101*S101+T101*U101+V101*W101 -> 0 | Y101: =X101 -> 0 | Z101: =Y101/$Y$205% -> 0 | AA101: =Z101 -> 0 | AC101: =AB101/$AB$205% -> 0 | AD101: =AC101 -> 0 | AF101: =AE101/$AE$205% -> 0 | AG101: =AF101 -> 0 | AI101: =AH101/$AH$205% -> 0 | AJ101: =AI101 -> 0 | AK101: =AA101*0.7358+AD101*0.1352+AG101*0.066+AJ101*0.063 -> 0
A102: 34 | B102: Kürsteiner-Küffer Walter | C102: 434 | F102: 1 | G102: 5 | I102: 1170 | M102: =SUM(I102:L102) -> 1170 | N102: =A102 -> 34 | O102: 1 | P102: =D102 -> 0 | Q102: =IF((D102)>0,M102,) -> 0 | R102: =E102*0.5*2/3 -> 0 | S102: =IF((E102)>0,M102,) -> 0 | T102: =G102 -> 5 | U102: =IF((F102)>0,M102,) -> 1170 | V102: =H102*10 -> 0 | X102: =P102*Q102+R102*S102+T102*U102+V102*W102 -> 5850 | Y102: =X102 -> 5850 | Z102: =Y102/$Y$205% -> 0.71730108 | AA102: =Z102 -> 0.71730108 | AB102: =X103 -> 1075 | AC102: =AB102/$AB$205% -> 20.477816 | AD102: =AC102 -> 20.477816 | AF102: =AE102/$AE$205% -> 0 | AG102: =AF102 -> 0 | AI102: =AH102/$AH$205% -> 0 | AJ102: =AI102 -> 0 | AK102: =AA102*0.7358+AD102*0.1352+AG102*0.066+AJ102*0.063 -> 3.2963908
F103: 1 | G103: 5 | J103: 215 | M103: =SUM(I103:L103) -> 215 | N103: =A103 -> 0 | O103: 2 | P103: =D103 -> 0 | Q103: =IF((D103)>0,M103,) -> 0 | R103: =E103*0.5*2/3 -> 0 | S103: =IF((E103)>0,M103,) -> 0 | T103: =G103 -> 5 | U103: =IF((F103)>0,M103,) -> 215 | V103: =H103*10 -> 0 | X103: =P103*Q103+R103*S103+T103*U103+V103*W103 -> 1075 | Z103: =Y103/$Y$205% -> 0 | AA103: =Z103 -> 0 | AC103: =AB103/$AB$205% -> 0 | AD103: =AC103 -> 0 | AF103: =AE103/$AE$205% -> 0 | AG103: =AF103 -> 0 | AI103: =AH103/$AH$205% -> 0 | AJ103: =AI103 -> 0 | AK103: =AA103*0.7358+AD103*0.1352+AG103*0.066+AJ103*0.063 -> 0
M104: =SUM(I104:L104) -> 0 | N104: =A104 -> 0 | P104: =D104 -> 0 | Q104: =IF((D104)>0,M104,) -> 0 | R104: =E104*0.5*2/3 -> 0 | S104: =IF((E104)>0,M104,) -> 0 | T104: =G104 -> 0 | U104: =IF((F104)>0,M104,) -> 0 | V104: =H104*10 -> 0 | X104: =P104*Q104+R104*S104+T104*U104+V104*W104 -> 0 | Y104: =X104 -> 0 | Z104: =Y104/$Y$205% -> 0 | AA104: =Z104 -> 0 | AC104: =AB104/$AB$205% -> 0 | AD104: =AC104 -> 0 | AF104: =AE104/$AE$205% -> 0 | AG104: =AF104 -> 0 | AI104: =AH104/$AH$205% -> 0 | AJ104: =AI104 -> 0 | AK104: =AA104*0.7358+AD104*0.1352+AG104*0.066+AJ104*0.063 -> 0
...

Sheet Adressen
A1: Flurgenossenschaft Steig-Steigbach | K1: Kostensatz [1%] | L1: 20
A2: Adressen (15.03.2008) | K2: Mindesbeitrag | L2: 20
A4: Mitglied-nummer | B4: M_F | C4: Vorname | D4: Name1 | E4: Name2 | F4: Adresse | G4: PLZ | H4: Wohnort | I4: Anrede | J4: Kostenanteil | K4: Kosten | L4: GB-Nr. | M4: Email | N4: Bemerkungen
A5: 1 | B5: Herr + Frau | C5: Urs + Heidi | D5: Freund | E5: -Fuster | F5: Scheienhaus 240 | G5: 9055 | H5: Bühler | I5: e Herr + Frau | J5: =Perimeter_15.03.2008!AK12 -> 1.8494019 | K5: =ROUND(IF(J5*$L$1<$L$2,$L$2,J5*$L$1),1) -> 37 | L5: 85 | N5: übernommen von Jakob
A6: 2 | B6: Herren | C6: Hanspeter + Andreas | D6: Enderlin | F6: Gern 384 | G6: 9055 | H6: Bühler | I6: e Herren | J6: =Perimeter_15.03.2008!AK16 -> 5.2787498 | K6: =ROUND(IF(J6*$L$1<$L$2,$L$2,J6*$L$1),1) -> 105.6 | L6: 87 | N6: übernommen von Lydia Enderlin
A7: 3 | B7: An die | C7: Einwohnergemeinde Bühler | F7: Gemeindehaus | G7: 9055 | H7: Bühler | I7: e Damen und Herren | J7: =Perimeter_15.03.2008!AK20 -> 0.5682766 | K7: =ROUND(IF(J7*$L$1<$L$2,$L$2,J7*$L$1),1) -> 20 | L7: 187, 220
A8: 4 | B8: Herr | C8: Beat + Silvia | D8: Grossrieder | E8: Hildebrand | F8: Limmatstrasse 204 | G8: 8005 | H8: Zürich | I8: e Herr + Frau | J8: =Perimeter_15.03.2008!AK25 -> 0.52779013 | K8: =ROUND(IF(J8*$L$1<$L$2,$L$2,J8*$L$1),1) -> 20 | L8: 190 | N8: H. Eugster hat verkauft
A9: 5 | B9: Frau | C9: Dr. Ingrid | D9: Jent | E9: -Sörensen | F9: Hochwachtstrasse 21 | G9: 9552 | H9: Bronschhofen | I9: e Frau | J9: =Perimeter_15.03.2008!AK27 -> 0.70547948 | K9: =ROUND(IF(J9*$L$1<$L$2,$L$2,J9*$L$1),1) -> 20 | L9: 191 | M9: j.jent@bluewin.ch
A10: 6 | B10: Frau | C10: Yvonne | D10: Hörler | F10: Lüdenstrasse 25 | G10: 8500 | H10: Frauenfeld | I10: e Frau | J10: =Perimeter_15.03.2008!AK30 -> 0.66501557 | K10: =ROUND(IF(J10*$L$1<$L$2,$L$2,J10*$L$1),1) -> 20 | L10: 194 | N10: E. Hörler verstorben
A11: 7 | B11: Herr | C11: Charles | D11: Fässler | F11: Steig 249 | G11: 9055 | H11: Bühler | I11: er Herr | J11: =Perimeter_15.03.2008!AK33 -> 1.4778124 | K11: =ROUND(IF(J11*$L$1<$L$2,$L$2,J11*$L$1),1) -> 29.6 | L11: 195
A12: 8 | B12: Herr + Frau | C12: Willi + Katharina | D12: Suhner | E12: -Eisenhut | F12: Steig | G12: 9055 | H12: Bühler | I12: e Herr + Frau | J12: =Perimeter_15.03.2008!AK35 -> 0.52779013 | K12: =ROUND(IF(J12*$L$1<$L$2,$L$2,J12*$L$1),1) -> 20 | L12: 196
A13: 9 | B13: Herr | C13: Josef | D13: Stark | F13: Steig | G13: 9055 | H13: Bühler | I13: er Herr | J13: =Perimeter_15.03.2008!AK37 -> 0.95002224 | K13: =ROUND(IF(J13*$L$1<$L$2,$L$2,J13*$L$1),1) -> 20 | L13: 199
A14: 10 | B14: Herr Heinz Schiess | C14: Herr Peter Schiess | F14: Wässerwiesenstrasse 91 | G14: 8408 | H14: Winterthur | I14: e Herren | J14: =Perimeter_15.03.2008!AK39 -> 0.973245 | K14: =ROUND(IF(J14*$L$1<$L$2,$L$2,J14*$L$1),1) -> 20 | L14: 200 | M14: heinz.schiess@bluewin.ch
A15: 11 | B15: Herr | C15: Roland | D15: Ulmann | E15: -Manser | F15: Steig 254 | G15: 9055 | H15: Bühler | I15: er Herr | J15: =Perimeter_15.03.2008!AK41 -> 0.52779013 | K15: =ROUND(IF(J15*$L$1<$L$2,$L$2,J15*$L$1),1) -> 20 | L15: 201
A16: 12 | B16: Herr + Frau | C16: Lukas + Susanne | D16: Joller | E16: -Inhelder | F16: Steig | G16: 9055 | H16: Bühler | I16: e Herr + Frau | J16: =Perimeter_15.03.2008!AK43 -> 1.0731733 | K16: =ROUND(IF(J16*$L$1<$L$2,$L$2,J16*$L$1),1) -> 21.5 | L16: 202
A17: 13 | B17: Erbengemeinschaft | C17: Walter Bachmann-Finzel sel. | F17: Frau Ingrid Bachmann Stolzestrasse 20 | G17: 8006 | H17: Zürich | I17: e Frau Bachmann | J17: =Perimeter_15.03.2008!AK46 -> 0.52779013 | K17: =ROUND(IF(J17*$L$1<$L$2,$L$2,J17*$L$1),1) -> 20 | L17: 203
A18: 14 | B18: Frau | C18: Dora | D18: Huber | E18: -Alder | F18: Steig | G18: 9055 | H18: Bühler | I18: e Frau | J18: =Perimeter_15.03.2008!AK48 -> 0.52779013 | K18: =ROUND(IF(J18*$L$1<$L$2,$L$2,J18*$L$1),1) -> 20 | L18: 204
A19: 15 | B19: Herr | C19: Ernst | D19: Schneider | F19: Hauptstrasse 102 | G19: 9436 | H19: Balgach | I19: er Herr | J19: =Perimeter_15.03.2008!AK50 -> 0.74031363 | K19: =ROUND(IF(J19*$L$1<$L$2,$L$2,J19*$L$1),1) -> 20 | L19: 206, 623
A20: 16 | B20: Herr | C20: Hans | D20: Inauen | E20: -Fässler | F20: Steigbach | G20: 9055 | H20: Bühler | I20: er Herr | J20: =Perimeter_15.03.2008!AK54 -> 2.0394352 | K20: =ROUND(IF(J20*$L$1<$L$2,$L$2,J20*$L$1),1) -> 40.8 | L20: 217
A21: 17 | B21: Herr | C21: Hans | D21: Koller | E21: -Zillig | F21: Böhl 271 | G21: 9055 | H21: Bühler | I21: er Herr | J21: =Perimeter_15.03.2008!AK57 -> 1.7110214 | K21: =ROUND(IF(J21*$L$1<$L$2,$L$2,J21*$L$1),1) -> 34.2 | L21: 218, 596
A22: 18 | B22: Herr + Frau | C22: Dieter + Annalies | D22: Keller | E22: -Müller | F22: Rest. Steig | G22: 9055 | H22: Bühler | I22: e Herr + Frau | J22: =Perimeter_15.03.2008!AK62 -> 2.6389507 | K22: =ROUND(IF(J22*$L$1<$L$2,$L$2,J22*$L$1),1) -> 52.8 | L22: 221
A23: 19 | B23: Herr + Frau | C23: Edwin + Irene | D23: Manetsch | E23: -Kessler | F23: Steig | G23: 9055 | H23: Bühler | I23: e Herr + Frau | J23: =Perimeter_15.03.2008!AK64 -> 2.0056025 | K23: =ROUND(IF(J23*$L$1<$L$2,$L$2,J23*$L$1),1) -> 40.1 | L23: 222
A24: 20 | B24: Frau | C24: Margrith | D24: Nicolet | E24: -Zuberbühler | F24: Chemin de Vert-Pré 6 | G24: 1213 | H24: Petit-Lancy | I24: e Frau | J24: =Perimeter_15.03.2008!AK66 -> 1.3159567 | K24: =ROUND(IF(J24*$L$1<$L$2,$L$2,J24*$L$1),1) -> 26.3 | L24: 259
A25: 21 | B25: Herr | C25: Heinz | D25: Graber | E25: -Schefer | F25: Rähn | G25: 9055 | H25: Bühler | I25: er Herr | J25: =Perimeter_15.03.2008!AK69 -> 0.67310835 | K25: =ROUND(IF(J25*$L$1<$L$2,$L$2,J25*$L$1),1) -> 20 | L25: 260
A26: 22 | B26: Herr + Frau | C26: Viktor + Andrea | D26: Meier | E26: -Mittelholzer | F26: Steig | G26: 9055 | H26: Bühler | I26: e Herr + Frau | J26: =Perimeter_15.03.2008!AK71 -> 0.52779013 | K26: =ROUND(IF(J26*$L$1<$L$2,$L$2,J26*$L$1),1) -> 20 | L26: 378 | M26: meier-steig@bluewin.ch
A27: 23 | B27: Herr | C27: Johannes | D27: Koller | F27: Walchestrasse 27 | G27: 8006 | H27: Zürich | I27: er Herr | J27: =Perimeter_15.03.2008!AK77 -> 0.52779013 | K27: =ROUND(IF(J27*$L$1<$L$2,$L$2,J27*$L$1),1) -> 20 | L27: 381 | M27: jokoller@netsurfer.ch
A28: 24 | B28: Herr + Frau | C28: Albert + Klara | D28: Zimmermann | E28: -Ulmann | F28: Steig 466 | G28: 9055 | H28: Bühler | I28: e Herr + Frau | J28: =Perimeter_15.03.2008!AK73 -> 0.52779013 | K28: =ROUND(IF(J28*$L$1<$L$2,$L$2,J28*$L$1),1) -> 20 | L28: 383
A29: 25 | B29: Herr + Frau | C29: Johann + Andrea | D29: Isenring | F29: Steig 467 | G29: 9055 | H29: Bühler | I29: e Herr + Frau | J29: =Perimeter_15.03.2008!AK75 -> 0.52779013 | K29: =ROUND(IF(J29*$L$1<$L$2,$L$2,J29*$L$1),1) -> 20 | L29: 384
A30: 26 | B30: Herr + Frau | C30: Ernst + Emilia | D30: Schefer | E30: -Koller | F30: Oberer Mempfel 473 | G30: 9055 | H30: Bühler | I30: e Herr + Frau | J30: =Perimeter_15.03.2008!AK79 -> 3.2963908 | K30: =ROUND(IF(J30*$L$1<$L$2,$L$2,J30*$L$1),1) -> 65.9 | L30: 388
A31: 27 | B31: Frau | C31: Louise | D31: Fürer | E31: -Truniger | F31: Hochbühlstrasse 24 | G31: 9532 | H31: Rickenbach b. Will | I31: e Frau | J31: =Perimeter_15.03.2008!AK82 -> 6.6501557 | K31: =ROUND(IF(J31*$L$1<$L$2,$L$2,J31*$L$1),1) -> 133 | L31: 421 | N31: neue Besitzer Karl + Bernhard Führer
A32: 28 | B32: Herr + Frau | C32: Georg + Yolanda | D32: Knecht | F32: Gütli 176 | G32: 9428 | H32: Walzenhausen | I32: e Herr + Frau | J32: =Perimeter_15.03.2008!AK84 -> 7.4292853 | K32: =ROUND(IF(J32*$L$1<$L$2,$L$2,J32*$L$1),1) -> 148.6 | L32: 403, 429
A33: 29 | B33: Herr | C33: Markus | D33: Hansmann | F33: Steig 485 | G33: 9055 | H33: Bühler | I33: er Herr | J33: =Perimeter_15.03.2008!AK89 -> 1.0555803 | K33: =ROUND(IF(J33*$L$1<$L$2,$L$2,J33*$L$1),1) -> 21.1 | L33: 404
A34: 30 | B34: Personalfürsorgestiftung | C34: TISCA/TIARA-Gruppe | F34: Grünau | G34: 9107 | H34: Urnäsch | I34: e Damen und Herren | J34: =Perimeter_15.03.2008!AK91 -> 8.3709371 | K34: =ROUND(IF(J34*$L$1<$L$2,$L$2,J34*$L$1),1) -> 167.4 | L34: 407, 430
A35: 31 | B35: Herr | C35: Karl | D35: Heimburger | E35: -Tanner | F35: Steig | G35: 9055 | H35: Bühler | I35: er Herr | J35: =Perimeter_15.03.2008!AK96 -> 0.52779013 | K35: =ROUND(IF(J35*$L$1<$L$2,$L$2,J35*$L$1),1) -> 20 | L35: 418
A36: 32 | B36: Frau | C36: Elsbeth | D36: Kunz | E36: -Luchsinger | F36: Steig 258 | G36: 9055 | H36: Bühler | I36: e Frau | J36: =Perimeter_15.03.2008!AK98 -> 0.52779013 | K36: =ROUND(IF(J36*$L$1<$L$2,$L$2,J36*$L$1),1) -> 20 | L36: 427
A37: 33 | B37: Herr | C37: Albert | D37: Streule | F37: Steig 520 | G37: 9055 | H37: Bühler | I37: er Herr | J37: =Perimeter_15.03.2008!AK100 -> 0.52779013 | K37: =ROUND(IF(J37*$L$1<$L$2,$L$2,J37*$L$1),1) -> 20 | L37: 428
A38: 34 | B38: Herr | C38: Walter | D38: Kürsteiner | E38: -Küffer | F38: Oberer Mempfel | G38: 9055 | H38: Bühler | I38: er Herr | J38: =Perimeter_15.03.2008!AK102 -> 3.2963908 | K38: =ROUND(IF(J38*$L$1<$L$2,$L$2,J38*$L$1),1) -> 65.9 | L38: 434 | M38: wkuersteiner@bluewin.ch
A39: 35 | B39: Frau | C39: Karin | D39: Ruf | E39: -Barth | F39: Höhenweg 6 | G39: 9552 | H39: Bronschhofen | I39: e Frau | J39: =Perimeter_15.03.2008!AK105 -> 3.2963908 | K39: =ROUND(IF(J39*$L$1<$L$2,$L$2,J39*$L$1),1) -> 65.9 | L39: 435
A40: 36 | B40: Herr | C40: Bruno | D40: Neff | E40: -Büchler | F40: Obere Au 287 | G40: 9055 | H40: Bühler | I40: er Herr | J40: =Perimeter_15.03.2008!AK108 -> 1.9000445 | K40: =ROUND(IF(J40*$L$1<$L$2,$L$2,J40*$L$1),1) -> 38 | L40: 444
A41: 37 | B41: Frau | C41: Ruth | D41: Pfander | F41: Steig 577 | G41: 9055 | H41: Bühler | I41: e Frau | J41: =Perimeter_15.03.2008!AK110 -> 0.52779013 | K41: =ROUND(IF(J41*$L$1<$L$2,$L$2,J41*$L$1),1) -> 20 | L41: 458
A42: 38 | B42: Herr | C42: Hans | D42: Wiedmann | E42: -Campanini | F42: Böhl 583 | G42: 9055 | H42: Bühler | I42: er Herr | J42: =Perimeter_15.03.2008!AK112 -> 0.52779013 | K42: =ROUND(IF(J42*$L$1<$L$2,$L$2,J42*$L$1),1) -> 20 | L42: 462
A43: 39 | B43: Herr | C43: Ulrich | D43: Furter | F43: Böhl 584 | G43: 9055 | H43: Bühler | I43: er Herr | J43: =Perimeter_15.03.2008!AK114 -> 0.52779013 | K43: =ROUND(IF(J43*$L$1<$L$2,$L$2,J43*$L$1),1) -> 20 | L43: 463
A44: 40 | B44: Frau | C44: Eleonora | D44: Kochgruber | E44: -Morandin | F44: Böhl 585 | G44: 9055 | H44: Bühler | I44: e Frau | J44: =Perimeter_15.03.2008!AK116 -> 0.52779013 | K44: =ROUND(IF(J44*$L$1<$L$2,$L$2,J44*$L$1),1) -> 20 | L44: 464
A45: 41 | C45: STWE-Gemeinschaft Steig | F45: Frau Marion Hawkins Rotenstein 21 | G45: 9056 | H45: Gais | I45: e Damen und Herren | J45: =Perimeter_15.03.2008!AK118 -> 8.2335261 | K45: =ROUND(IF(J45*$L$1<$L$2,$L$2,J45*$L$1),1) -> 164.7 | L45: 488 | M45: m.hawkins@bluewin.ch
A46: 42 | B46: Herr | C46: Alfred | D46: Nef | E46: -Dobler | F46: Steig 648 | G46: 9055 | H46: Bühler | I46: er Herr | J46: =Perimeter_15.03.2008!AK120 -> 0.52779013 | K46: =ROUND(IF(J46*$L$1<$L$2,$L$2,J46*$L$1),1) -> 20 | L46: 491
A47: 43 | B47: Herr | C47: Johann-Baptist | D47: Fuchs | E47: -Koller | F47: Steig 617 | G47: 9055 | H47: Bühler | I47: er Herr | J47: =Perimeter_15.03.2008!AK122 -> 0.52779013 | K47: =ROUND(IF(J47*$L$1<$L$2,$L$2,J47*$L$1),1) -> 20 | L47: 492
A48: 44 | B48: Herr + Frau | C48: Ch. + A. | D48: Balsiger | E48: -Egli | F48: Böhl 631 | G48: 9055 | H48: Bühler | I48: e Herr + Frau | J48: =Perimeter_15.03.2008!AK124 -> 0.52779013 | K48: =ROUND(IF(J48*$L$1<$L$2,$L$2,J48*$L$1),1) -> 20 | L48: 502 | M48: christoph.balsiger@hubersuhner.com
A49: 45 | B49: Frau | C49: Verena | D49: Freund | F49: Haselegg | G49: 9055 | H49: Bühler | I49: e Frau | J49: =Perimeter_15.03.2008!AK126 -> 0.52779013 | K49: =ROUND(IF(J49*$L$1<$L$2,$L$2,J49*$L$1),1) -> 20 | L49: 536
A50: 46 | B50: Herr | C50: Hanspeter | D50: Wehrli | F50: Hüslibachweg 13 | G50: 9545 | H50: Wängi | I50: er Herr | J50: =Perimeter_15.03.2008!AK128 -> 1.1381327 | K50: =ROUND(IF(J50*$L$1<$L$2,$L$2,J50*$L$1),1) -> 22.8 | L50: 540 | M50: hanspeter.wehrli@aimt-group.com | N50: Heinz Wehrli verstorben
A51: 47 | B51: Herr + Frau | C51: Ch. + A. | D51: Nänny | E51: -Eisenhut | F51: Scheienhaus | G51: 9055 | H51: Bühler | I51: e Herr + Frau | J51: =Perimeter_15.03.2008!AK131 -> 0.52779013 | K51: =ROUND(IF(J51*$L$1<$L$2,$L$2,J51*$L$1),1) -> 20 | L51: 557 | M51: naenny.scheienhaus@bluewin.ch
A52: 48 | B52: Herr | C52: Jakob | D52: Bösch | E52: -Gubler | F52: Böhl 702 | G52: 9055 | H52: Bühler | I52: er Herr | J52: =Perimeter_15.03.2008!AK133 -> 1.8095094 | K52: =ROUND(IF(J52*$L$1<$L$2,$L$2,J52*$L$1),1) -> 36.2 | L52: 560
A53: 49 | B53: Herr + Frau | C53: Roman + Franziska | D53: Osterwalder | E53: -Locher | F53: Melsterböhl 701 | G53: 9055 | H53: Bühler | I53: e Herr + Frau | J53: =Perimeter_15.03.2008!AK136 -> 1.4433039 | K53: =ROUND(IF(J53*$L$1<$L$2,$L$2,J53*$L$1),1) -> 28.9 | L53: 561
A54: 50 | B54: Herr | C54: Guido | D54: Senn | E54: -Tribelhorn | F54: Böhl 700 | G54: 9055 | H54: Bühler | I54: er Herr | J54: =Perimeter_15.03.2008!AK139 -> 1.3822697 | K54: =ROUND(IF(J54*$L$1<$L$2,$L$2,J54*$L$1),1) -> 27.6 | L54: 562
A55: 51 | B55: Herr + Frau | C55: Peter + Jutta | D55: Aemisegger | E55: - Kriech | F55: Böhl 757 | G55: 9055 | H55: Bühler | I55: e Herr + Frau | J55: =Perimeter_15.03.2008!AK142 -> 1.5653724 | K55: =ROUND(IF(J55*$L$1<$L$2,$L$2,J55*$L$1),1) -> 31.3 | L55: 595
A56: 52 | B56: Herr + Frau | C56: Alfred + Jacqueline | D56: Manser | E56: -Stöckli | F56: Böhl 773 | G56: 9055 | H56: Bühler | I56: e Herr + Frau | J56: =Perimeter_15.03.2008!AK145 -> 1.8095094 | K56: =ROUND(IF(J56*$L$1<$L$2,$L$2,J56*$L$1),1) -> 36.2 | L56: 608
A57: 53 | B57: Frau | C57: Alexandra | D57: Metzger | E57: -Koller | F57: Böhl 774 | G57: 9055 | H57: Bühler | I57: e Frau | J57: =Perimeter_15.03.2008!AK148 -> 1.0555803 | K57: =ROUND(IF(J57*$L$1<$L$2,$L$2,J57*$L$1),1) -> 21.1 | L57: 620
A58: 54 | B58: Herr | C58: Stefan | D58: Signer | E58: -Zuglian | F58: Steig 247 | G58: 9055 | H58: Bühler | I58: er Herr | J58: =Perimeter_15.03.2008!AK150 -> 1.2466403 | K58: =ROUND(IF(J58*$L$1<$L$2,$L$2,J58*$L$1),1) -> 24.9 | L58: 193, 590
A59: 55 | B59: Kantonales Hochbauamt | C59: Liegenschaftenabteilung | F59: Kasernenstrasse 17A | G59: 9102 | H59: Herisau | I59: e Damen und Herren | J59: =Perimeter_15.03.2008!AK153 -> 0.012666963 | K59: =ROUND(IF(J59*$L$1<$L$2,$L$2,J59*$L$1),1) -> 20 | L59: 223
A60: 56 | B60: Frau | C60: Rita | D60: Meier | E60: -Kuhn | F60: Weid 321 | G60: 9055 | H60: Bühler | I60: e Frau | J60: =Perimeter_15.03.2008!AK155 -> 1.1998429 | K60: =ROUND(IF(J60*$L$1<$L$2,$L$2,J60*$L$1),1) -> 24 | L60: 249
A61: 57 | B61: Erbengemeinschaft Konrad Nagel | C61: Emil | D61: Ruosch | F61: Lachen 6 | G61: 9303 | H61: Wittenbach | I61: er Herr | J61: =Perimeter_15.03.2008!AK157 -> 0.12772521 | K61: =ROUND(IF(J61*$L$1<$L$2,$L$2,J61*$L$1),1) -> 20 | L61: 252, 261
A62: 58 | B62: Frau Jacqueline König | C62: Herr Albert von Däniken | F62: Seestrasse 36 | G62: 8610 | H62: Uster | I62: e Frau König, Sehr geehrter Herr von Däniken | J62: =Perimeter_15.03.2008!AK160 -> 0.84763095 | K62: =ROUND(IF(J62*$L$1<$L$2,$L$2,J62*$L$1),1) -> 20 | L62: 265, 266
A63: 59 | B63: Herr + Frau | C63: Max + Béatrice | D63: Höhener | E63: -Gebert | F63: Stein11 | G63: 9043 | H63: Trogen | I63: e Herr + Frau | J63: =Perimeter_15.03.2008!AK163 -> 0.56367986 | K63: =ROUND(IF(J63*$L$1<$L$2,$L$2,J63*$L$1),1) -> 20 | L63: 267, 272
A64: 60 | B64: Herr | C64: Josef | D64: Neff | E64: -Inauen | F64: Hintere Schwantlen 311 | G64: 9055 | H64: Bühler | I64: er Herr | J64: =Perimeter_15.03.2008!AK166 -> 0.3050627 | K64: =ROUND(IF(J64*$L$1<$L$2,$L$2,J64*$L$1),1) -> 20 | L64: 572
A65: 61 | B65: Herr | C65: Max | D65: Waldburger | E65: -Meier | F65: Schwantlen 308 | G65: 9055 | H65: Bühler | I65: er Herr | J65: =Perimeter_15.03.2008!AK168 -> 0.020056025 | K65: =ROUND(IF(J65*$L$1<$L$2,$L$2,J65*$L$1),1) -> 20 | L65: 269
A66: 62 | B66: Erbengemeinschaft Adolf Zobrist sel. | C66: Frau Liselotte Zobrist | F66: Balsbergweg 14 | G66: 8302 | H66: Kloten | I66: e Damen und Herren | J66: =Perimeter_15.03.2008!AK170 -> 0.84763095 | K66: =ROUND(IF(J66*$L$1<$L$2,$L$2,J66*$L$1),1) -> 20 | L66: 271
A67: 63 | J67: =Perimeter_15.03.2008!AK172 -> 0 | N67: übernommen von Max Höhener
A68: 64 | B68: Herr + Frau | C68: Martin + Katharina | D68: Wirth | E68: -Nef | F68: Oberdorf 24 | G68: 9056 | H68: Gais | I68: e Herr + Frau | J68: =Perimeter_15.03.2008!AK175 -> 0.062807026 | K68: =ROUND(IF(J68*$L$1<$L$2,$L$2,J68*$L$1),1) -> 20 | L68: 88
A69: 65 | B69: Flurgenossenschaft Rothalde | C69: Herr Ueli Tanner | F69: Böhl 540 | G69: 9055 | H69: Bühler | I69: e Damen und Herren | J69: =Perimeter_15.03.2008!AK177 -> 0 | K69: =ROUND(IF(J69*$L$1<$L$2,$L$2,J69*$L$1),1) -> 20 | M69: tanner.em@bluewin.ch
A70: 66 | B70: Flurgenossenschaft Schlatterlehn | C70: Herr Josef Pfister | F70: Dachsböhl 268 | G70: 9055 | H70: Bühler | I70: e Damen und Herren | J70: =Perimeter_15.03.2008!AK179 -> 0 | K70: 0 | N70: gem. Beschluss HV 10.3.2008 kein Beitrag
A71: 67 | B71: Herr + Frau | C71: Paul + Beate | D71: Stieger | E71: Göller | F71: Steigwaldstrasse 844 | G71: 9055 | H71: Bühler | I71: e Frau Göller, sehr geehrter Herr | J71: =Perimeter_15.03.2008!AK181 -> 0.52779013 | K71: =ROUND(IF(J71*$L$1<$L$2,$L$2,J71*$L$1),1) -> 20 | L71: 646
A72: 68 | B72: Herr + Frau | C72: Cataldo + Ana Maria | D72: Caliandro | E72: -Soro | F72: Steigwaldstrasse 836 | G72: 9055 | H72: Bühler | I72: e Herr + Frau | J72: =Perimeter_15.03.2008!AK183 -> 0.52779013 | K72: =ROUND(IF(J72*$L$1<$L$2,$L$2,J72*$L$1),1) -> 20 | L72: 647
A73: 69 | B73: Herr + Frau | C73: Ismail + Agnes | D73: Dönmez | E73: -Eugster | F73: Steigwaldstrasse 832 | G73: 9055 | H73: Bühler | I73: e Herr + Frau | J73: =Perimeter_15.03.2008!AK185 -> 0.52779013 | K73: =ROUND(IF(J73*$L$1<$L$2,$L$2,J73*$L$1),1) -> 20 | L73: 648
A74: 70 | B74: Herr + Frau | C74: Luca + Silvia | D74: Val | E74: -Rutz | F74: Steigwaldstrasse 833 | G74: 9055 | H74: Bühler | I74: e Herr + Frau | J74: =Perimeter_15.03.2008!AK187 -> 0.52779013 | K74: =ROUND(IF(J74*$L$1<$L$2,$L$2,J74*$L$1),1) -> 20 | L74: 649
A75: 71 | B75: Herr + Frau | C75: Albert + Cornelia | D75: Gründler | E75: -Gubser | F75: Steigwaldstrasse 845 | G75: 9055 | H75: Bühler | I75: e Herr + Frau | J75: =Perimeter_15.03.2008!AK189 -> 0.52779013 | K75: =ROUND(IF(J75*$L$1<$L$2,$L$2,J75*$L$1),1) -> 20 | L75: 650
A76: 72 | B76: Frau D'Agostino-Büchler | C76: Herr Neuhaus | F76: Steigwaldstrasse 840 | G76: 9055 | H76: Bühler | I76: e Frau D'Agstino, sehr geehrter Herr Neuhaus | J76: =Perimeter_15.03.2008!AK191 -> 0.52779013 | K76: =ROUND(IF(J76*$L$1<$L$2,$L$2,J76*$L$1),1) -> 20 | L76: 651
A77: 73 | B77: Herr + Frau | C77: Michael + Renée | D77: Lechner | E77: -Bertoli | F77: Steigwaldstrasse 837 | G77: 9055 | H77: Bühler | I77: e Herr + Frau | J77: =Perimeter_15.03.2008!AK193 -> 0.52779013 | K77: =ROUND(IF(J77*$L$1<$L$2,$L$2,J77*$L$1),1) -> 20 | L77: 652
A78: 74 | B78: Frau | C78: Irene | D78: Lendenmann | F78: Steigwaldstrasse 846 | G78: 9055 | H78: Bühler | I78: e Frau | J78: =Perimeter_15.03.2008!AK195 -> 0.52779013 | K78: =ROUND(IF(J78*$L$1<$L$2,$L$2,J78*$L$1),1) -> 20 | L78: 654
A79: 75 | B79: Herr | C79: Bernhard | D79: Weiss | F79: Steigwaldstrasse 847 | G79: 9055 | H79: Bühler | I79: er Herr | J79: =Perimeter_15.03.2008!AK197 -> 0.52779013 | K79: =ROUND(IF(J79*$L$1<$L$2,$L$2,J79*$L$1),1) -> 20 | L79: 655
A80: 76 | B80: Frau Marianne Schefer | C80: Herr Peter Freund | F80: Steigwaldstrasse 848 | G80: 9055 | H80: Bühler | I80: e Frau Schefer, sehr geehrter Herr Freund | J80: =Perimeter_15.03.2008!AK199 -> 0.52779013 | K80: =ROUND(IF(J80*$L$1<$L$2,$L$2,J80*$L$1),1) -> 20 | L80: 656
A81: 77 | B81: Herr + Frau | C81: René + Ursula | D81: Kappeler | E81: Presslauer | F81: Mohres 15 | G81: 9056 | H81: Gais | I81: e Herr + Frau | J81: =Perimeter_15.03.2008!AK201 -> 0.0068190485 | K81: =ROUND(IF(J81*$L$1<$L$2,$L$2,J81*$L$1),1) -> 20 | L81: 657 | M81: kappeler@vitamin2.ch
B83: Total | J83: =SUM(J5:J82) -> 100 | K83: =SUM(K5:K82) -> 2471.4
