Workbook
Name _Zu1: Perimeter_15.03.2008!#REF!
Name _Zu2: Perimeter_15.03.2008!#REF!
Name B: Perimeter_15.03.2008!#REF!
Name Total: Perimeter_15.03.2008!#REF!
Name ZU: Perimeter_15.03.2008!#REF!

Sheet Perimeter_15.03.2008
A1: Unterhaltskostenverteiler Flurgenossenschaft Steig-Steigbach mit Teilstücken | AM1: Landwirtschaftsamt AR, Herisau
A3: Nr. | B3: Grundeigentümer | C3: GB Nr. | D3: G r u n d b u c h d a t e n | N3: Nr. | Y3: Kostenverteiler | AB3: Kostenverteiler | AE3: Kostenverteiler | AH3: Kostenverteiler | AK3: Gesamtko- | AL3: B e m e r k u n g e n
D4: Wiese, | E4: Wald | F4: Wohnungen | H4: Gewerbe | I4: 1. Teilstk. | J4: 2. Teilstk. | K4: 3. Teilstk. | L4: 4. Teilstk. | M4: ange- | O4: Teil- | P4: ä u s s e r e B e z i e h u n g | Y4: Teilstück 1 1170 m | AB4: Teilstück 2 215 m | AE4: Teilstück 3 105 m | AH4: Teilstück 4 100 m | AK4: stenverteiler | AL4: Teilstk. 1 | AM4: 1170 m
D5: Weide | M5: rechnete | O5: stück | P5: Wiese, Weide | R5: W a l d | T5: Wohnung | V5: Gewerbe | Z5: Einzel- | AA5: Ihr | AC5: Einzel- | AD5: Ihr | AF5: Einzel- | AG5: Ihr | AI5: Einzel- | AJ5: Ihr | AK5: Ihr | AL5: Teilstk. 2 | AM5: 215 m
M6: Länge | X6: Total | Y6: Total | Z6: anteil | AA6: Anteil | AB6: Total | AC6: anteil | AD6: Anteil | AE6: Total | AF6: anteil | AG6: Anteil | AH6: Total | AI6: anteil | AJ6: Anteil | AK6: Anteil | AL6: Teilstk. 3 | AM6: 105 m
G7: Anzahl | Z7: 73.58 | AC7: 13.52 | AF7: 6.6 | AI7: 6.3 | AK7: 100 | AL7: Teilstk. 4 | AM7: 100 m
D9: (ha) | E9: (ha) | F9: Anzahl | G9: Punkte | I9: (m) | J9: (m) | K9: (m) | L9: (m) | M9: (m) | P9: p | Q9: m | R9: p | S9: m | T9: p | U9: m | X9: Punkte | Y9: Punkte | Z9: % | AA9: % | AB9: Punkte | AC9: % | AD9: % | AE9: Punkte | AF9: % | AG9: % | AH9: Punkte | AI9: % | AJ9: % | AK9: % | AL9: Totale Länge: | AM9: 1590 m
A12: 1 | B12: Freund-Fuster, Urs + Heidi | C12: 85 | D12: 2.69 | E12: 1.92 | I12: 229 | M12: =SUM(I12:L12) -> 229 | N12: =A12 -> 1 | O12: 1 | P12: =D12 -> 2.69 | Q12: =IF((D12)>0,M12,) -> 229 | R12: =E12*0.5*2/3 -> 0.64 | S12: =IF((E12)>0,M12,) -> 229 | T12: =G12 -> 0 | U12: =IF((F12)>0,M12,) -> 0 | X12: =P12*Q12+R12*S12+T12*U12 -> 762.57 | Y12: =X12+X13 -> 11292.57 | Z12: =Y12/$Y$205% -> 1.3846449 | AA12: =Z12 -> 1.3846449 | AB12: =X14 -> 322.5 | AC12: =AB12/$AB$205% -> 6.1433447 | AD12: =AC12 -> 6.1433447 | AF12: =AE12/$AE$205% -> 0 | AG12: =AF12 -> 0 | AI12: =AH12/$AH$205% -> 0 | AJ12: =AI12 -> 0 | AK12: =AA12*0.7358+AD12*0.1352+AG12*0.066+AJ12*0.063 -> 1.8494019 | AL12: 1/3 Brennholz
F13: 2 | G13: 9 | I13: 1170 | M13: =SUM(I13:L13) -> 1170 | O13: 1 | T13: =G13 -> 9 | U13: =IF((F13)>0,M13,) -> 1170 | X13: =P13*Q13+R13*S13+T13*U13 -> 10530 | AI13: =AH13/$AH$205% -> 0 | AJ13: =AI13 -> 0 | AK13: =AA13*0.7358+AD13*0.1352+AG13*0.066+AJ13*0.063 -> 0
D14: 1.5 | E14: 1.92 | J14: 215 | M14: =SUM(I14:L14) -> 215 | O14: 2 | P14: =D14 -> 1.5 | Q14: =IF((D14)>0,M14,) -> 215 | R14: =E14*0.5*2/3 -> 0.64 | T14: =G14 -> 0 | U14: =IF((F14)>0,M14,) -> 0 | X14: =P14*Q14+R14*S14+T14*U14 -> 322.5 | Z14: =Y14/$Y$205% -> 0 | AA14: =Z14 -> 0 | AC14: =AB14/$AB$205% -> 0 | AD14: =AC14 -> 0 | AF14: =AE14/$AE$205% -> 0 | AG14: =AF14 -> 0 | AI14: =AH14/$AH$205% -> 0 | AJ14: =AI14 -> 0 | AK14: =AA14*0.7358+AD14*0.1352+AG14*0.066+AJ14*0.063 -> 0 | AL14: 1/3 Brennholz
M15: =SUM(I15:L15) -> 0 | T15: =G15 -> 0 | U15: =IF((F15)>0,M15,) -> 0 | AC15: =AB15/$AB$205% -> 0 | AD15: =AC15 -> 0 | AF15: =AE15/$AE$205% -> 0 | AG15: =AF15 -> 0 | AI15: =AH15/$AH$205% -> 0 | AJ15: =AI15 -> 0 | AK15: =AA15*0.7358+AD15*0.1352+AG15*0.066+AJ15*0.063 -> 0
A16: 2 | B16: Enderlin, Hanspeter + Andreas | C16: 87 | D16: 2.5 | E16: 1.25 | F16: 1 | G16: 5 | I16: 1170 | M16: =SUM(I16:L16) -> 1170 | N16: =A16 -> 2 | O16: 1 | P16: =D16 -> 2.5 | Q16: =IF((D16)>0,M16,) -> 1170 | R16: =E16*0.5*2/3 -> 0.41666667 | S16: =IF((E16)>0,M16,) -> 1170 | T16: =G16 -> 5 | U16: =IF((F16)>0,M16,) -> 1170 | X16: =P16*Q16+R16*S16+T16*U16 -> 9262.5 | Y16: =X16+X18 -> 9921.6 | Z16: =Y16/$Y$205% -> 1.2165426 | AA16: =Z16 -> 1.2165426 | AB16: =X17 -> 1702.0833 | AC16: =AB16/$AB$205% -> 32.423208 | AD16: =AC16 -> 32.423208 | AF16: =AE16/$AE$205% -> 0 | AG16: =AF16 -> 0 | AI16: =AH16/$AH$205% -> 0 | AJ16: =AI16 -> 0 | AK16: =AA16*0.7358+AD16*0.1352+AG16*0.066+AJ16*0.063 -> 5.2787498 | AL16: 1/3 Brennholz
D17: 2.5 | E17: 1.25 | F17: 1 | G17: 5 | J17: 215 | M17: =SUM(I17:L17) -> 215 | O17: 2 | P17: =D17 -> 2.5 | Q17: =IF((D17)>0,M17,) -> 215 | R17: =E17*0.5*2/3 -> 0.41666667 | S17: =IF((E17)>0,M17,) -> 215 | T17: =G17 -> 5 | U17: =IF((F17)>0,M17,) -> 215 | X17: =P17*Q17+R17*S17+T17*U17 -> 1702.0833 | Z17: =Y17/$Y$205% -> 0 | AA17: =Z17 -> 0 | AC17: =AB17/$AB$205% -> 0 | AD17: =AC17 -> 0 | AF17: =AE17/$AE$205% -> 0 | AG17: =AF17 -> 0 | AI17: =AH17/$AH$205% -> 0 | AJ17: =AI17 -> 0 | AK17: =AA17*0.7358+AD17*0.1352+AG17*0.066+AJ17*0.063 -> 0 | AL17: 1/3 Brennholz
C18: 325 | E18: 1.69 | I18: 1170 | M18: =SUM(I18:L18) -> 1170 | N18: =A18 -> 0 | O18: 1 | P18: =D18 -> 0 | Q18: =IF((D18)>0,M18,) -> 0 | R18: =E18*0.5*2/3 -> 0.56333333 | S18: =IF((E18)>0,M18,) -> 1170 | T18: =G18 -> 0 | U18: =IF((F18)>0,M18,) -> 0 | X18: =P18*Q18+R18*S18+T18*U18 -> 659.1 | Z18: =Y18/$Y$205% -> 0 | AA18: =Z18 -> 0 | AC18: =AB18/$AB$205% -> 0 | AD18: =AC18 -> 0 | AF18: =AE18/$AE$205% -> 0 | AG18: =AF18 -> 0 | AI18: =AH18/$AH$205% -> 0 | AJ18: =AI18 -> 0 | AK18: =AA18*0.7358+AD18*0.1352+AG18*0.066+AJ18*0.063 -> 0 | AL18: 1/3 Brennholz
M19: =SUM(I19:L19) -> 0 | P19: =D19 -> 0 | Q19: =IF((D19)>0,M19,) -> 0 | S19: =IF((E19)>0,M19,) -> 0 | T19: =G19 -> 0 | U19: =IF((F19)>0,M19,) -> 0 | X19: =P19*Q19+R19*S19+T19*U19 -> 0 | AC19: =AB19/$AB$205% -> 0 | AD19: =AC19 -> 0 | AF19: =AE19/$AE$205% -> 0 | AG19: =AF19 -> 0 | AI19: =AH19/$AH$205% -> 0 | AJ19: =AI19 -> 0 | AK19: =AA19*0.7358+AD19*0.1352+AG19*0.066+AJ19*0.063 -> 0
A20: 3 | B20: Einwohnergemeinde Bühler | C20: 187 | F20: 1 | G20: 1 | I20: 10 | M20: =SUM(I20:L20) -> 10 | N20: =A20 -> 3 | O20: 1 | P20: =D20 -> 0 | Q20: =IF((D20)>0,M20,) -> 0 | R20: =E20*0.5*2/3 -> 0 | S20: =IF((E20)>0,M20,) -> 0 | T20: =G20 -> 1 | U20: =IF((F20)>0,M20,) -> 10 | X20: =P20*Q20+R20*S20+T20*U20 -> 10 | Y20: =X20+X22+X23 -> 6298.75 | Z20: =Y20/$Y$205% -> 0.77232481 | AA20: =Z20 -> 0.77232481 | AC20: =AB20/$AB$205% -> 0 | AD20: =AC20 -> 0 | AF20: =AE20/$AE$205% -> 0 | AG20: =AF20 -> 0 | AI20: =AH20/$AH$205% -> 0 | AJ20: =AI20 -> 0 | AK20: =AA20*0.7358+AD20*0.1352+AG20*0.066+AJ20*0.063 -> 0.5682766 | AL20: Feuerweiher
C21: 220 | M21: =SUM(I21:L21) -> 0 | P21: =D21 -> 0 | Q21: =IF((D21)>0,M21,) -> 0 | R21: =R20 -> 0 | S21: =IF((E21)>0,M21,) -> 0 | T21: =G21 -> 0 | U21: =IF((F21)>0,M21,) -> 0 | AC21: =AB21/$AB$205% -> 0 | AD21: =AC21 -> 0 | AF21: =AE21/$AE$205% -> 0 | AG21: =AF21 -> 0 | AI21: =AH21/$AH$205% -> 0 | AJ21: =AI21 -> 0 | AK21: =AA21*0.7358+AD21*0.1352+AG21*0.066+AJ21*0.063 -> 0 | AL21: nur Strasse
C22: 268 | E22: 10.71 | I22: 1170 | M22: =SUM(I22:L22) -> 1170 | N22: =A22 -> 0 | O22: 1 | P22: =D22 -> 0 | Q22: =IF((D22)>0,M22,) -> 0 | R22: =E22*0.5 -> 5.355 | S22: =IF((E22)>0,M22,) -> 1170 | T22: =G22 -> 0 | U22: =IF((F22)>0,M22,) -> 0 | X22: =P22*Q22+R22*S22+T22*U22 -> 6265.35 | Z22: =Y22/$Y$205% -> 0 | AA22: =Z22 -> 0 | AC22: =AB22/$AB$205% -> 0 | AD22: =AC22 -> 0 | AF22: =AE22/$AE$205% -> 0 | AG22: =AF22 -> 0 | AI22: =AH22/$AH$205% -> 0 | AJ22: =AI22 -> 0 | AK22: =AA22*0.7358+AD22*0.1352+AG22*0.066+AJ22*0.063 -> 0
C23: 270 | E23: 0.04 | I23: 1170 | M23: =SUM(I23:L23) -> 1170 | N23: =A23 -> 0 | O23: 1 | P23: =D23 -> 0 | Q23: =IF((D23)>0,M23,) -> 0 | R23: =E23*0.5 -> 0.02 | S23: =IF((E23)>0,M23,) -> 1170 | T23: =G23 -> 0 | U23: =IF((F23)>0,M23,) -> 0 | X23: =P23*Q23+R23*S23+T23*U23 -> 23.4 | Z23: =Y23/$Y$205% -> 0 | AC23: =AB23/$AB$205% -> 0 | AD23: =AC23 -> 0 | AF23: =AE23/$AE$205% -> 0 | AG23: =AF23 -> 0 | AI23: =AH23/$AH$205% -> 0 | AJ23: =AI23 -> 0 | AK23: =AA23*0.7358+AD23*0.1352+AG23*0.066+AJ23*0.063 -> 0
M24: =SUM(I24:L24) -> 0 | P24: =D24 -> 0 | Q24: =IF((D24)>0,M24,) -> 0 | S24: =IF((E24)>0,M24,) -> 0 | T24: =G24 -> 0 | U24: =IF((F24)>0,M24,) -> 0 | X24: =P24*Q24+R24*S24+T24*U24 -> 0 | AC24: =AB24/$AB$205% -> 0 | AD24: =AC24 -> 0 | AF24: =AE24/$AE$205% -> 0 | AG24: =AF24 -> 0 | AI24: =AH24/$AH$205% -> 0 | AJ24: =AI24 -> 0 | AK24: =AA24*0.7358+AD24*0.1352+AG24*0.066+AJ24*0.063 -> 0
A25: 4 | B25: Grossrieder Hildebrand, Beat + Silivia | C25: 190 | F25: 1 | G25: 5 | I25: 1170 | M25: =SUM(I25:L25) -> 1170 | N25: =A25 -> 4 | O25: 1 | P25: =D25 -> 0 | Q25: =IF((D25)>0,M25,) -> 0 | R25: =E25*0.5*3/3 -> 0 | S25: =IF((E25)>0,M25,) -> 0 | T25: =G25 -> 5 | U25: =IF((F25)>0,M25,) -> 1170 | X25: =P25*Q25+R25*S25+T25*U25 -> 5850 | Y25: =X25 -> 5850 | Z25: =Y25/$Y$205% -> 0.71730108 | AA25: =Z25 -> 0.71730108 | AC25: =AB25/$AB$205% -> 0 | AD25: =AC25 -> 0 | AF25: =AE25/$AE$205% -> 0 | AG25: =AF25 -> 0 | AI25: =AH25/$AH$205% -> 0 | AJ25: =AI25 -> 0 | AK25: =AA25*0.7358+AD25*0.1352+AG25*0.066+AJ25*0.063 -> 0.52779013
P26: =D26 -> 0 | Q26: =IF((D26)>0,M26,) -> 0 | S26: =IF((E26)>0,M26,) -> 0 | T26: =G26 -> 0 | U26: =IF((F26)>0,M26,) -> 0 | X26: =P26*Q26+R26*S26+T26*U26 -> 0 | Y26: =X26 -> 0 | Z26: =Y26/$Y$205% -> 0 | AC26: =AB26/$AB$205% -> 0 | AD26: =AC26 -> 0 | AF26: =AE26/$AE$205% -> 0 | AG26: =AF26 -> 0 | AI26: =AH26/$AH$205% -> 0 | AJ26: =AI26 -> 0 | AK26: =AA26*0.7358+AD26*0.1352+AG26*0.066+AJ26*0.063 -> 0
A27: 5 | B27: Jent-Sörensen Ingrid | C27: 191 | D27: 0.98 | F27: 1 | G27: 5 | I27: 1170 | M27: =SUM(I27:L27) -> 1170 | N27: =A27 -> 5 | O27: 1 | P27: =D27 -> 0.98 | Q27: =IF((D27)>0,M27,) -> 1170 | R27: =E27*0.5*3/3 -> 0 | S27: =IF((E27)>0,M27,) -> 0 | T27: =G27 -> 5 | U27: =IF((F27)>0,M27,) -> 1170 | X27: =P27*Q27+R27*S27+T27*U27 -> 6996.6 | Y27: =X27+X28 -> 7819.5 | Z27: =Y27/$Y$205% -> 0.95879244 | AA27: =Z27 -> 0.95879244 | AC27: =AB27/$AB$205% -> 0 | AD27: =AC27 -> 0 | AF27: =AE27/$AE$205% -> 0 | AG27: =AF27 -> 0 | AI27: =AH27/$AH$205% -> 0 | AJ27: =AI27 -> 0 | AK27: =AA27*0.7358+AD27*0.1352+AG27*0.066+AJ27*0.063 -> 0.70547948
C28: 192 | D28: 0.37 | E28: 1 | I28: 1170 | M28: =SUM(I28:L28) -> 1170 | N28: =A28 -> 0 | O28: 1 | P28: =D28 -> 0.37 | Q28: =IF((D28)>0,M28,) -> 1170 | R28: =E28*0.5*2/3 -> 0.33333333 | S28: =IF((E28)>0,M28,) -> 1170 | T28: =G28 -> 0 | U28: =IF((F28)>0,M28,) -> 0 | V28: =H28*10 -> 0 | X28: =P28*Q28+R28*S28+T28*U28+V28*W28 -> 822.9 | Z28: =Y28/$Y$205% -> 0 | AA28: =Z28 -> 0 | AC28: =AB28/$AB$205% -> 0 | AD28: =AC28 -> 0 | AF28: =AE28/$AE$205% -> 0 | AG28: =AF28 -> 0 | AI28: =AH28/$AH$205% -> 0 | AJ28: =AI28 -> 0 | AK28: =AA28*0.7358+AD28*0.1352+AG28*0.066+AJ28*0.063 -> 0 | AL28: 1/3 Brennholz
M29: =SUM(I29:L29) -> 0 | P29: =D29 -> 0 | Q29: =IF((D29)>0,M29,) -> 0 | S29: =IF((E29)>0,M29,) -> 0 | T29: =G29 -> 0 | U29: =IF((F29)>0,M29,) -> 0 | X29: =P29*Q29+R29*S29+T29*U29 -> 0 | Y29: =X29 -> 0 | Z29: =Y29/$Y$205% -> 0 | AC29: =AB29/$AB$205% -> 0 | AD29: =AC29 -> 0 | AF29: =AE29/$AE$205% -> 0 | AG29: =AF29 -> 0 | AI29: =AH29/$AH$205% -> 0 | AJ29: =AI29 -> 0 | AK29: =AA29*0.7358+AD29*0.1352+AG29*0.066+AJ29*0.063 -> 0
A30: 6 | B30: Hörler Charlotte, Hörler Yvonne | C30: 194 | D30: 1.3 | F30: 1 | G30: 5 | I30: 1170 | M30: =SUM(I30:L30) -> 1170 | N30: =A30 -> 6 | O30: 1 | P30: =D30 -> 1.3 | Q30: =IF((D30)>0,M30,) -> 1170 | R30: =E30*0.5*2/3 -> 0 | S30: =IF((E30)>0,M30,) -> 0 | T30: =G30 -> 5 | U30: =IF((F30)>0,M30,) -> 1170 | X30: =P30*Q30+R30*S30+T30*U30 -> 7371 | Y30: =X30 -> 7371 | Z30: =Y30/$Y$205% -> 0.90379936 | AA30: =Z30 -> 0.90379936 | AC30: =AB30/$AB$205% -> 0 | AD30: =AC30 -> 0 | AF30: =AE30/$AE$205% -> 0 | AG30: =AF30 -> 0 | AI30: =AH30/$AH$205% -> 0 | AJ30: =AI30 -> 0 | AK30: =AA30*0.7358+AD30*0.1352+AG30*0.066+AJ30*0.063 -> 0.66501557
B31: Hörler Urs | M31: =SUM(I31:L31) -> 0 | N31: =A31 -> 0 | P31: =D31 -> 0 | Q31: =IF((D31)>0,M31,) -> 0 | R31: =E31*0.5*2/3 -> 0 | S31: =IF((E31)>0,M31,) -> 0 | T31: =G31 -> 0 | U31: =IF((F31)>0,M31,) -> 0 | X31: =P31*Q31+R31*S31+T31*U31 -> 0 | Y31: =X31 -> 0 | Z31: =Y31/$Y$205% -> 0 | AC31: =AB31/$AB$205% -> 0 | AD31: =AC31 -> 0 | AF31: =AE31/$AE$205% -> 0 | AG31: =AF31 -> 0 | AI31: =AH31/$AH$205% -> 0 | AJ31: =AI31 -> 0 | AK31: =AA31*0.7358+AD31*0.1352+AG31*0.066+AJ31*0.063 -> 0
M32: =SUM(I32:L32) -> 0 | N32: =A32 -> 0 | P32: =D32 -> 0 | Q32: =IF((D32)>0,M32,) -> 0 | R32: =E32*0.5*2/3 -> 0 | S32: =IF((E32)>0,M32,) -> 0 | T32: =G32 -> 0 | U32: =IF((F32)>0,M32,) -> 0 | X32: =P32*Q32+R32*S32+T32*U32 -> 0 | Y32: =X32 -> 0 | Z32: =Y32/$Y$205% -> 0 | AC32: =AB32/$AB$205% -> 0 | AD32: =AC32 -> 0 | AF32: =AE32/$AE$205% -> 0 | AG32: =AF32 -> 0 | AI32: =AH32/$AH$205% -> 0 | AJ32: =AI32 -> 0 | AK32: =AA32*0.7358+AD32*0.1352+AG32*0.066+AJ32*0.063 -> 0
A33: 7 | B33: Fässler-Weber Charles | C33: 195 | F33: 2 | G33: 9 | H33: 1 | I33: 1170 | M33: =SUM(I33:L33) -> 1170 | N33: =A33 -> 7 | O33: 1 | P33: =D33 -> 0 | Q33: =IF((D33)>0,M33,) -> 0 | R33: =E33*0.5*2/3 -> 0 | S33: =IF((E33)>0,M33,) -> 0 | T33: =G33 -> 9 | U33: =IF((F33)>0,M33,) -> 1170 | V33: =H33*10*0.5 -> 5 | W33: =M33 -> 1170 | X33: =P33*Q33+R33*S33+T33*U33+V33*W33 -> 16380 | Y33: =X33 -> 16380 | Z33: =Y33/$Y$205% -> 2.008443 | AA33: =Z33 -> 2.008443 | AC33: =AB33/$AB$205% -> 0 | AD33: =AC33 -> 0 | AF33: =AE33/$AE$205% -> 0 | AG33: =AF33 -> 0 | AI33: =AH33/$AH$205% -> 0 | AJ33: =AI33 -> 0 | AK33: =AA33*0.7358+AD33*0.1352+AG33*0.066+AJ33*0.063 -> 1.4778124 | AL33: 1/2 Gewerbe
P34: =D34 -> 0 | Q34: =IF((D34)>0,M34,) -> 0 | S34: =IF((E34)>0,M34,) -> 0 | T34: =G34 -> 0 | U34: =IF((F34)>0,M34,) -> 0 | V34: =H34*10 -> 0 | X34: =P34*Q34+R34*S34+T34*U34+V34*W34 -> 0 | Y34: =X34 -> 0 | Z34: =Y34/$Y$205% -> 0 | AC34: =AB34/$AB$205% -> 0 | AD34: =AC34 -> 0 | AF34: =AE34/$AE$205% -> 0 | AG34: =AF34 -> 0 | AI34: =AH34/$AH$205% -> 0 | AJ34: =AI34 -> 0 | AK34: =AA34*0.7358+AD34*0.1352+AG34*0.066+AJ34*0.063 -> 0
A35: 8 | B35: Suhner-Eisenhut Willi und Katharina | C35: 196 | F35: 1 | G35: 5 | I35: 1170 | M35: =SUM(I35:L35) -> 1170 | N35: =A35 -> 8 | O35: 1 | P35: =D35 -> 0 | Q35: =IF((D35)>0,M35,) -> 0 | R35: =E35*0.5*2/3 -> 0 | S35: =IF((E35)>0,M35,) -> 0 | T35: =G35 -> 5 | U35: =IF((F35)>0,M35,) -> 1170 | V35: =H35*10 -> 0 | X35: =P35*Q35+R35*S35+T35*U35+V35*W35 -> 5850 | Y35: =X35 -> 5850 | Z35: =Y35/$Y$205% -> 0.71730108 | AA35: =Z35 -> 0.71730108 | AC35: =AB35/$AB$205% -> 0 | AD35: =AC35 -> 0 | AF35: =AE35/$AE$205% -> 0 | AG35: =AF35 -> 0 | AI35: =AH35/$AH$205% -> 0 | AJ35: =AI35 -> 0 | AK35: =AA35*0.7358+AD35*0.1352+AG35*0.066+AJ35*0.063 -> 0.52779013
M36: =SUM(I36:L36) -> 0 | N36: =A36 -> 0 | P36: =D36 -> 0 | Q36: =IF((D36)>0,M36,) -> 0 | R36: =E36*0.5*2/3 -> 0 | S36: =IF((E36)>0,M36,) -> 0 | T36: =G36 -> 0 | U36: =IF((F36)>0,M36,) -> 0 | V36: =H36*10 -> 0 | X36: =P36*Q36+R36*S36+T36*U36+V36*W36 -> 0 | Y36: =X36 -> 0 | Z36: =Y36/$Y$205% -> 0 | AA36: =Z36 -> 0 | AC36: =AB36/$AB$205% -> 0 | AD36: =AC36 -> 0 | AF36: =AE36/$AE$205% -> 0 | AG36: =AF36 -> 0 | AI36: =AH36/$AH$205% -> 0 | AJ36: =AI36 -> 0 | AK36: =AA36*0.7358+AD36*0.1352+AG36*0.066+AJ36*0.063 -> 0
A37: 9 | B37: Stark Johann Josef | C37: 199 | F37: 2 | G37: 9 | I37: 1170 | M37: =SUM(I37:L37) -> 1170 | N37: =A37 -> 9 | O37: 1 | P37: =D37 -> 0 | Q37: =IF((D37)>0,M37,) -> 0 | S37: =IF((E37)>0,M37,) -> 0 | T37: =G37 -> 9 | U37: =IF((F37)>0,M37,) -> 1170 | V37: =H37*10 -> 0 | X37: =P37*Q37+R37*S37+T37*U37+V37*W37 -> 10530 | Y37: =X37 -> 10530 | Z37: =Y37/$Y$205% -> 1.2911419 | AA37: =Z37 -> 1.2911419 | AC37: =AB37/$AB$205% -> 0 | AD37: =AC37 -> 0 | AF37: =AE37/$AE$205% -> 0 | AG37: =AF37 -> 0 | AI37: =AH37/$AH$205% -> 0 | AJ37: =AI37 -> 0 | AK37: =AA37*0.7358+AD37*0.1352+AG37*0.066+AJ37*0.063 -> 0.95002224
M38: =SUM(I38:L38) -> 0 | N38: =A38 -> 0 | P38: =D38 -> 0 | Q38: =IF((D38)>0,M38,) -> 0 | R38: =E38*0.5*2/3 -> 0 | S38: =IF((E38)>0,M38,) -> 0 | T38: =G38 -> 0 | U38: =IF((F38)>0,M38,) -> 0 | V38: =H38*10 -> 0 | X38: =P38*Q38+R38*S38+T38*U38+V38*W38 -> 0 | Y38: =X38 -> 0 | Z38: =Y38/$Y$205% -> 0 | AA38: =Z38 -> 0 | AC38: =AB38/$AB$205% -> 0 | AD38: =AC38 -> 0 | AF38: =AE38/$AE$205% -> 0 | AG38: =AF38 -> 0 | AI38: =AH38/$AH$205% -> 0 | AJ38: =AI38 -> 0 | AK38: =AA38*0.7358+AD38*0.1352+AG38*0.066+AJ38*0.063 -> 0
A39: 10 | B39: Schiess Peter, Schiess Heinz | C39: 200 | D39: 0.22 | F39: 2 | G39: 9 | I39: 1170 | M39: =SUM(I39:L39) -> 1170 | N39: =A39 -> 10 | O39: 1 | P39: =D39 -> 0.22 | Q39: =IF((D39)>0,M39,) -> 1170 | S39: =IF((E39)>0,M39,) -> 0 | T39: =G39 -> 9 | U39: =IF((F39)>0,M39,) -> 1170 | V39: =H39*10 -> 0 | X39: =P39*Q39+R39*S39+T39*U39+V39*W39 -> 10787.4 | Y39: =X39 -> 10787.4 | Z39: =Y39/$Y$205% -> 1.3227032 | AA39: =Z39 -> 1.3227032 | AC39: =AB39/$AB$205% -> 0 | AD39: =AC39 -> 0 | AF39: =AE39/$AE$205% -> 0 | AG39: =AF39 -> 0 | AI39: =AH39/$AH$205% -> 0 | AJ39: =AI39 -> 0 | AK39: =AA39*0.7358+AD39*0.1352+AG39*0.066+AJ39*0.063 -> 0.973245
M40: =SUM(I40:L40) -> 0 | N40: =A40 -> 0 | P40: =D40 -> 0 | Q40: =IF((D40)>0,M40,) -> 0 | R40: =E40*0.5*3/3 -> 0 | S40: =IF((E40)>0,M40,) -> 0 | T40: =G40 -> 0 | U40: =IF((F40)>0,M40,) -> 0 | V40: =H40*10 -> 0 | X40: =P40*Q40+R40*S40+T40*U40+V40*W40 -> 0 | Y40: =X40 -> 0 | Z40: =Y40/$Y$205% -> 0 | AA40: =Z40 -> 0 | AC40: =AB40/$AB$205% -> 0 | AD40: =AC40 -> 0 | AF40: =AE40/$AE$205% -> 0 | AG40: =AF40 -> 0 | AI40: =AH40/$AH$205% -> 0 | AJ40: =AI40 -> 0 | AK40: =AA40*0.7358+AD40*0.1352+AG40*0.066+AJ40*0.063 -> 0
A41: 11 | B41: Ulmann-Manser Roland | C41: 201 | F41: 1 | G41: 5 | I41: 1170 | M41: =SUM(I41:L41) -> 1170 | N41: =A41 -> 11 | O41: 1 | P41: =D41 -> 0 | Q41: =IF((D41)>0,M41,) -> 0 | R41: =E41*0.5*2/3 -> 0 | S41: =IF((E41)>0,M41,) -> 0 | T41: =G41 -> 5 | U41: =IF((F41)>0,M41,) -> 1170 | V41: =H41*10 -> 0 | X41: =P41*Q41+R41*S41+T41*U41+V41*W41 -> 5850 | Y41: =X41 -> 5850 | Z41: =Y41/$Y$205% -> 0.71730108 | AA41: =Z41 -> 0.71730108 | AC41: =AB41/$AB$205% -> 0 | AD41: =AC41 -> 0 | AF41: =AE41/$AE$205% -> 0 | AG41: =AF41 -> 0 | AI41: =AH41/$AH$205% -> 0 | AJ41: =AI41 -> 0 | AK41: =AA41*0.7358+AD41*0.1352+AG41*0.066+AJ41*0.063 -> 0.52779013
M42: =SUM(I42:L42) -> 0 | N42: =A42 -> 0 | P42: =D42 -> 0 | Q42: =IF((D42)>0,M42,) -> 0 | R42: =E42*0.5*2/3 -> 0 | S42: =IF((E42)>0,M42,) -> 0 | T42: =G42 -> 0 | U42: =IF((F42)>0,M42,) -> 0 | V42: =H42*10 -> 0 | X42: =P42*Q42+R42*S42+T42*U42+V42*W42 -> 0 | Y42: =X42 -> 0 | Z42: =Y42/$Y$205% -> 0 | AA42: =Z42 -> 0 | AC42: =AB42/$AB$205% -> 0 | AD42: =AC42 -> 0 | AF42: =AE42/$AE$205% -> 0 | AG42: =AF42 -> 0 | AI42: =AH42/$AH$205% -> 0 | AJ42: =AI42 -> 0 | AK42: =AA42*0.7358+AD42*0.1352+AG42*0.066+AJ42*0.063 -> 0
A43: 12 | B43: Joller-Inhelder Susanne und Lukas | C43: 202 | D43: 0.75 | F43: 2 | G43: 9 | I43: 1170 | M43: =SUM(I43:L43) -> 1170 | N43: =A43 -> 12 | O43: 1 | P43: =D43 -> 0.75 | Q43: =IF((D43)>0,M43,) -> 1170 | R43: =E43*0.5*2/3 -> 0 | S43: =IF((E43)>0,M43,) -> 0 | T43: =G43 -> 9 | U43: =IF((F43)>0,M43,) -> 1170 | V43: =H43*10 -> 0 | X43: =P43*Q43+R43*S43+T43*U43+V43*W43 -> 11407.5 | Y43: =X43+X44 -> 11895 | Z43: =Y43/$Y$205% -> 1.4585122 | AA43: =Z43 -> 1.4585122 | AC43: =AB43/$AB$205% -> 0 | AD43: =AC43 -> 0 | AF43: =AE43/$AE$205% -> 0 | AG43: =AF43 -> 0 | AI43: =AH43/$AH$205% -> 0 | AJ43: =AI43 -> 0 | AK43: =AA43*0.7358+AD43*0.1352+AG43*0.066+AJ43*0.063 -> 1.0731733
C44: 101 | E44: 1.25 | I44: 1170 | M44: =SUM(I44:L44) -> 1170 | N44: =A44 -> 0 | O44: 1 | P44: =D44 -> 0 | Q44: =IF((D44)>0,M44,) -> 0 | R44: =E44*0.5*2/3 -> 0.41666667 | S44: =IF((E44)>0,M44,) -> 1170 | T44: =G44 -> 0 | U44: =IF((F44)>0,M44,) -> 0 | V44: =H44*10 -> 0 | X44: =P44*Q44+R44*S44+T44*U44+V44*W44 -> 487.5 | Z44: =Y44/$Y$205% -> 0 | AA44: =Z44 -> 0 | AC44: =AB44/$AB$205% -> 0 | AD44: =AC44 -> 0 | AF44: =AE44/$AE$205% -> 0 | AG44: =AF44 -> 0 | AI44: =AH44/$AH$205% -> 0 | AJ44: =AI44 -> 0 | AK44: =AA44*0.7358+AD44*0.1352+AG44*0.066+AJ44*0.063 -> 0 | AL44: 1/3 Brennholz
...

Sheet Adressen
A1: Flurgenossenschaft Steig-Steigbach | K1: Kostensatz [1%] | L1: 20
A2: Adressen (15.03.2008) | K2: Mindesbeitrag | L2: 20
A4: Mitglied-nummer | B4: M_F | C4: Vorname | D4: Name1 | E4: Name2 | F4: Adresse | G4: PLZ | H4: Wohnort | I4: Anrede | J4: Kostenanteil | K4: Kosten | L4: GB-Nr. | M4: Email | N4: Bemerkungen
A5: 1 | B5: Herr + Frau | C5: Urs + Heidi | D5: Freund | E5: -Fuster | F5: Scheienhaus 240 | G5: 9055 | H5: Bühler | I5: e Herr + Frau | J5: =Perimeter_15.03.2008!AK12 -> 1.8494019 | K5: =ROUND(IF(J5*$L$1<$L$2,$L$2,J5*$L$1),1) -> 37 | L5: 85 | N5: übernommen von Jakob
A6: 2 | B6: Herren | C6: Hanspeter + Andreas | D6: Enderlin | F6: Gern 384 | G6: 9055 | H6: Bühler | I6: e Herren | J6: =Perimeter_15.03.2008!AK16 -> 5.2787498 | K6: =ROUND(IF(J6*$L$1<$L$2,$L$2,J6*$L$1),1) -> 105.6 | L6: 87 | N6: übernommen von Lydia Enderlin
A7: 3 | B7: An die | C7: Einwohnergemeinde Bühler | F7: Gemeindehaus | G7: 9055 | H7: Bühler | I7: e Damen und Herren | J7: =Perimeter_15.03.2008!AK20 -> 0.5682766 | K7: =ROUND(IF(J7*$L$1<$L$2,$L$2,J7*$L$1),1) -> 20 | L7: 187, 220
A8: 4 | B8: Herr | C8: Beat + Silvia | D8: Grossrieder | E8: Hildebrand | F8: Limmatstrasse 204 | G8: 8005 | H8: Zürich | I8: e Herr + Frau | J8: =Perimeter_15.03.2008!AK25 -> 0.52779013 | K8: =ROUND(IF(J8*$L$1<$L$2,$L$2,J8*$L$1),1) -> 20 | L8: 190 | N8: H. Eugster hat verkauft
A9: 5 | B9: Frau | C9: Dr. Ingrid | D9: Jent | E9: -Sörensen | F9: Hochwachtstrasse 21 | G9: 9552 | H9: Bronschhofen | I9: e Frau | J9: =Perimeter_15.03.2008!AK27 -> 0.70547948 | K9: =ROUND(IF(J9*$L$1<$L$2,$L$2,J9*$L$1),1) -> 20 | L9: 191 | M9: j.jent@bluewin.ch
A10: 6 | B10: Frau | C10: Yvonne | D10: Hörler | F10: Lüdenstrasse 25 | G10: 8500 | H10: Frauenfeld | I10: e Frau | J10: =Perimeter_15.03.2008!AK30 -> 0.66501557 | K10: =ROUND(IF(J10*$L$1<$L$2,$L$2,J10*$L$1),1) -> 20 | L10: 194 | N10: E. Hörler verstorben
A11: 7 | B11: Herr | C11: Charles | D11: Fässler | F11: Steig 249 | G11: 9055 | H11: Bühler | I11: er Herr | J11: =Perimeter_15.03.2008!AK33 -> 1.4778124 | K11: =ROUND(IF(J11*$L$1<$L$2,$L$2,J11*$L$1),1) -> 29.6 | L11: 195
A12: 8 | B12: Herr + Frau | C12: Willi + Katharina | D12: Suhner | E12: -Eisenhut | F12: Steig | G12: 9055 | H12: Bühler | I12: e Herr + Frau | J12: =Perimeter_15.03.2008!AK35 -> 0.52779013 | K12: =ROUND(IF(J12*$L$1<$L$2,$L$2,J12*$L$1),1) -> 20 | L12: 196
A13: 9 | B13: Herr | C13: Josef | D13: Stark | F13: Steig | G13: 9055 | H13: Bühler | I13: er Herr | J13: =Perimeter_15.03.2008!AK37 -> 0.95002224 | K13: =ROUND(IF(J13*$L$1<$L$2,$L$2,J13*$L$1),1) -> 20 | L13: 199
A14: 10 | B14: Herr Heinz Schiess | C14: Herr Peter Schiess | F14: Wässerwiesenstrasse 91 | G14: 8408 | H14: Winterthur | I14: e Herren | J14: =Perimeter_15.03.2008!AK39 -> 0.973245 | K14: =ROUND(IF(J14*$L$1<$L$2,$L$2,J14*$L$1),1) -> 20 | L14: 200 | M14: heinz.schiess@bluewin.ch
A15: 11 | B15: Herr | C15: Roland | D15: Ulmann | E15: -Manser | F15: Steig 254 | G15: 9055 | H15: Bühler | I15: er Herr | J15: =Perimeter_15.03.2008!AK41 -> 0.52779013 | K15: =ROUND(IF(J15*$L$1<$L$2,$L$2,J15*$L$1),1) -> 20 | L15: 201
A16: 12 | B16: Herr + Frau | C16: Lukas + Susanne | D16: Joller | E16: -Inhelder | F16: Steig | G16: 9055 | H16: Bühler | I16: e Herr + Frau | J16: =Perimeter_15.03.2008!AK43 -> 1.0731733 | K16: =ROUND(IF(J16*$L$1<$L$2,$L$2,J16*$L$1),1) -> 21.5 | L16: 202
A17: 13 | B17: Erbengemeinschaft | C17: Walter Bachmann-Finzel sel. | F17: Frau Ingrid Bachmann Stolzestrasse 20 | G17: 8006 | H17: Zürich | I17: e Frau Bachmann | J17: =Perimeter_15.03.2008!AK46 -> 0.52779013 | K17: =ROUND(IF(J17*$L$1<$L$2,$L$2,J17*$L$1),1) -> 20 | L17: 203
A18: 14 | B18: Frau | C18: Dora | D18: Huber | E18: -Alder | F18: Steig | G18: 9055 | H18: Bühler | I18: e Frau | J18: =Perimeter_15.03.2008!AK48 -> 0.52779013 | K18: =ROUND(IF(J18*$L$1<$L$2,$L$2,J18*$L$1),1) -> 20 | L18: 204
A19: 15 | B19: Herr | C19: Ernst | D19: Schneider | F19: Hauptstrasse 102 | G19: 9436 | H19: Balgach | I19: er Herr | J19: =Perimeter_15.03.2008!AK50 -> 0.74031363 | K19: =ROUND(IF(J19*$L$1<$L$2,$L$2,J19*$L$1),1) -> 20 | L19: 206, 623
A20: 16 | B20: Herr | C20: Hans | D20: Inauen | E20: -Fässler | F20: Steigbach | G20: 9055 | H20: Bühler | I20: er Herr | J20: =Perimeter_15.03.2008!AK54 -> 2.0394352 | K20: =ROUND(IF(J20*$L$1<$L$2,$L$2,J20*$L$1),1) -> 40.8 | L20: 217
A21: 17 | B21: Herr | C21: Hans | D21: Koller | E21: -Zillig | F21: Böhl 271 | G21: 9055 | H21: Bühler | I21: er Herr | J21: =Perimeter_15.03.2008!AK57 -> 1.7110214 | K21: =ROUND(IF(J21*$L$1<$L$2,$L$2,J21*$L$1),1) -> 34.2 | L21: 218, 596
A22: 18 | B22: Herr + Frau | C22: Dieter + Annalies | D22: Keller | E22: -Müller | F22: Rest. Steig | G22: 9055 | H22: Bühler | I22: e Herr + Frau | J22: =Perimeter_15.03.2008!AK62 -> 2.6389507 | K22: =ROUND(IF(J22*$L$1<$L$2,$L$2,J22*$L$1),1) -> 52.8 | L22: 221
A23: 19 | B23: Herr + Frau | C23: Edwin + Irene | D23: Manetsch | E23: -Kessler | F23: Steig | G23: 9055 | H23: Bühler | I23: e Herr + Frau | J23: =Perimeter_15.03.2008!AK64 -> 2.0056025 | K23: =ROUND(IF(J23*$L$1<$L$2,$L$2,J23*$L$1),1) -> 40.1 | L23: 222
A24: 20 | B24: Frau | C24: Margrith | D24: Nicolet | E24: -Zuberbühler | F24: Chemin de Vert-Pré 6 | G24: 1213 | H24: Petit-Lancy | I24: e Frau | J24: =Perimeter_15.03.2008!AK66 -> 1.3159567 | K24: =ROUND(IF(J24*$L$1<$L$2,$L$2,J24*$L$1),1) -> 26.3 | L24: 259
A25: 21 | B25: Herr | C25: Heinz | D25: Graber | E25: -Schefer | F25: Rähn | G25: 9055 | H25: Bühler | I25: er Herr | J25: =Perimeter_15.03.2008!AK69 -> 0.67310835 | K25: =ROUND(IF(J25*$L$1<$L$2,$L$2,J25*$L$1),1) -> 20 | L25: 260
A26: 22 | B26: Herr + Frau | C26: Viktor + Andrea | D26: Meier | E26: -Mittelholzer | F26: Steig | G26: 9055 | H26: Bühler | I26: e Herr + Frau | J26: =Perimeter_15.03.2008!AK71 -> 0.52779013 | K26: =ROUND(IF(J26*$L$1<$L$2,$L$2,J26*$L$1),1) -> 20 | L26: 378 | M26: meier-steig@bluewin.ch
A27: 23 | B27: Herr | C27: Johannes | D27: Koller | F27: Walchestrasse 27 | G27: 8006 | H27: Zürich | I27: er Herr | J27: =Perimeter_15.03.2008!AK77 -> 0.52779013 | K27: =ROUND(IF(J27*$L$1<$L$2,$L$2,J27*$L$1),1) -> 20 | L27: 381 | M27: jokoller@netsurfer.ch
A28: 24 | B28: Herr + Frau | C28: Albert + Klara | D28: Zimmermann | E28: -Ulmann | F28: Steig 466 | G28: 9055 | H28: Bühler | I28: e Herr + Frau | J28: =Perimeter_15.03.2008!AK73 -> 0.52779013 | K28: =ROUND(IF(J28*$L$1<$L$2,$L$2,J28*$L$1),1) -> 20 | L28: 383
A29: 25 | B29: Herr + Frau | C29: Johann + Andrea | D29: Isenring | F29: Steig 467 | G29: 9055 | H29: Bühler | I29: e Herr + Frau | J29: =Perimeter_15.03.2008!AK75 -> 0.52779013 | K29: =ROUND(IF(J29*$L$1<$L$2,$L$2,J29*$L$1),1) -> 20 | L29: 384
A30: 26 | B30: Herr + Frau | C30: Ernst + Emilia | D30: Schefer | E30: -Koller | F30: Oberer Mempfel 473 | G30: 9055 | H30: Bühler | I30: e Herr + Frau | J30: =Perimeter_15.03.2008!AK79 -> 3.2963908 | K30: =ROUND(IF(J30*$L$1<$L$2,$L$2,J30*$L$1),1) -> 65.9 | L30: 388
A31: 27 | B31: Frau | C31: Louise | D31: Fürer | E31: -Truniger | F31: Hochbühlstrasse 24 | G31: 9532 | H31: Rickenbach b. Will | I31: e Frau | J31: =Perimeter_15.03.2008!AK82 -> 6.6501557 | K31: =ROUND(IF(J31*$L$1<$L$2,$L$2,J31*$L$1),1) -> 133 | L31: 421 | N31: neue Besitzer Karl + Bernhard Führer
A32: 28 | B32: Herr + Frau | C32: Georg + Yolanda | D32: Knecht | F32: Gütli 176 | G32: 9428 | H32: Walzenhausen | I32: e Herr + Frau | J32: =Perimeter_15.03.2008!AK84 -> 7.4292853 | K32: =ROUND(IF(J32*$L$1<$L$2,$L$2,J32*$L$1),1) -> 148.6 | L32: 403, 429
A33: 29 | B33: Herr | C33: Markus | D33: Hansmann | F33: Steig 485 | G33: 9055 | H33: Bühler | I33: er Herr | J33: =Perimeter_15.03.2008!AK89 -> 1.0555803 | K33: =ROUND(IF(J33*$L$1<$L$2,$L$2,J33*$L$1),1) -> 21.1 | L33: 404
A34: 30 | B34: Personalfürsorgestiftung | C34: TISCA/TIARA-Gruppe | F34: Grünau | G34: 9107 | H34: Urnäsch | I34: e Damen und Herren | J34: =Perimeter_15.03.2008!AK91 -> 8.3709371 | K34: =ROUND(IF(J34*$L$1<$L$2,$L$2,J34*$L$1),1) -> 167.4 | L34: 407, 430
A35: 31 | B35: Herr | C35: Karl | D35: Heimburger | E35: -Tanner | F35: Steig | G35: 9055 | H35: Bühler | I35: er Herr | J35: =Perimeter_15.03.2008!AK96 -> 0.52779013 | K35: =ROUND(IF(J35*$L$1<$L$2,$L$2,J35*$L$1),1) -> 20 | L35: 418
A36: 32 | B36: Frau | C36: Elsbeth | D36: Kunz | E36: -Luchsinger | F36: Steig 258 | G36: 9055 | H36: Bühler | I36: e Frau | J36: =Perimeter_15.03.2008!AK98 -> 0.52779013 | K36: =ROUND(IF(J36*$L$1<$L$2,$L$2,J36*$L$1),1) -> 20 | L36: 427
A37: 33 | B37: Herr | C37: Albert | D37: Streule | F37: Steig 520 | G37: 9055 | H37: Bühler | I37: er Herr | J37: =Perimeter_15.03.2008!AK100 -> 0.52779013 | K37: =ROUND(IF(J37*$L$1<$L$2,$L$2,J37*$L$1),1) -> 20 | L37: 428
A38: 34 | B38: Herr | C38: Walter | D38: Kürsteiner | E38: -Küffer | F38: Oberer Mempfel | G38: 9055 | H38: Bühler | I38: er Herr | J38: =Perimeter_15.03.2008!AK102 -> 3.2963908 | K38: =ROUND(IF(J38*$L$1<$L$2,$L$2,J38*$L$1),1) -> 65.9 | L38: 434 | M38: wkuersteiner@bluewin.ch
A39: 35 | B39: Frau | C39: Karin | D39: Ruf | E39: -Barth | F39: Höhenweg 6 | G39: 9552 | H39: Bronschhofen | I39: e Frau | J39: =Perimeter_15.03.2008!AK105 -> 3.2963908 | K39: =ROUND(IF(J39*$L$1<$L$2,$L$2,J39*$L$1),1) -> 65.9 | L39: 435
A40: 36 | B40: Herr | C40: Bruno | D40: Neff | E40: -Büchler | F40: Obere Au 287 | G40: 9055 | H40: Bühler | I40: er Herr | J40: =Perimeter_15.03.2008!AK108 -> 1.9000445 | K40: =ROUND(IF(J40*$L$1<$L$2,$L$2,J40*$L$1),1) -> 38 | L40: 444
A41: 37 | B41: Frau | C41: Ruth | D41: Pfander | F41: Steig 577 | G41: 9055 | H41: Bühler | I41: e Frau | J41: =Perimeter_15.03.2008!AK110 -> 0.52779013 | K41: =ROUND(IF(J41*$L$1<$L$2,$L$2,J41*$L$1),1) -> 20 | L41: 458
...
